BEGIN:VCALENDAR
VERSION:2.0
PRODID:-//Jesmond Library - ECPv6.15.17.1//NONSGML v1.0//EN
CALSCALE:GREGORIAN
METHOD:PUBLISH
X-ORIGINAL-URL:https://jesmondlibrary.org
X-WR-CALDESC:Events for Jesmond Library
REFRESH-INTERVAL;VALUE=DURATION:PT1H
X-Robots-Tag:noindex
X-PUBLISHED-TTL:PT1H
BEGIN:VTIMEZONE
TZID:Europe/London
BEGIN:DAYLIGHT
TZOFFSETFROM:+0000
TZOFFSETTO:+0100
TZNAME:BST
DTSTART:20250330T010000
END:DAYLIGHT
BEGIN:STANDARD
TZOFFSETFROM:+0100
TZOFFSETTO:+0000
TZNAME:GMT
DTSTART:20251026T010000
END:STANDARD
BEGIN:DAYLIGHT
TZOFFSETFROM:+0000
TZOFFSETTO:+0100
TZNAME:BST
DTSTART:20260329T010000
END:DAYLIGHT
BEGIN:STANDARD
TZOFFSETFROM:+0100
TZOFFSETTO:+0000
TZNAME:GMT
DTSTART:20261025T010000
END:STANDARD
BEGIN:DAYLIGHT
TZOFFSETFROM:+0000
TZOFFSETTO:+0100
TZNAME:BST
DTSTART:20270328T010000
END:DAYLIGHT
BEGIN:STANDARD
TZOFFSETFROM:+0100
TZOFFSETTO:+0000
TZNAME:GMT
DTSTART:20271031T010000
END:STANDARD
END:VTIMEZONE
BEGIN:VEVENT
DTSTART;TZID=Europe/London:20260419T143000
DTEND;TZID=Europe/London:20260419T163000
DTSTAMP:20260420T103257
CREATED:20251121T101059Z
LAST-MODIFIED:20251121T101059Z
UID:10058533-1776609000-1776616200@jesmondlibrary.org
SUMMARY:West Jesmond Chess Club
DESCRIPTION:
URL:https://jesmondlibrary.org/event/west-jesmond-chess-club-11/2026-04-19/
LOCATION:Main Room
ATTACH;FMTTYPE=image/png:https://jesmondlibrary.org/wp-content/uploads/2023/04/West-Jesmond-Chess-Club-flyer-V2-September-2023.png
END:VEVENT
BEGIN:VEVENT
DTSTART;TZID=Europe/London:20260419T093000
DTEND;TZID=Europe/London:20260419T123000
DTSTAMP:20260420T103257
CREATED:20260409T140219Z
LAST-MODIFIED:20260409T140219Z
UID:10058988-1776591000-1776601800@jesmondlibrary.org
SUMMARY:Centre Evangelique meeting
DESCRIPTION:
URL:https://jesmondlibrary.org/event/centre-evangelique-meeting-5/2026-04-19/
LOCATION:Main Room
END:VEVENT
BEGIN:VEVENT
DTSTART;TZID=Europe/London:20260418T093000
DTEND;TZID=Europe/London:20260418T163000
DTSTAMP:20260420T103257
CREATED:20251018T103753Z
LAST-MODIFIED:20251018T103910Z
UID:10057255-1776504600-1776529800@jesmondlibrary.org
SUMMARY:LIBRARY OPEN SATURDAYS
DESCRIPTION:
URL:https://jesmondlibrary.org/event/library-open-saturdays-6/2026-04-18/
LOCATION:Main Room
ORGANIZER;CN="Jesmond Library":MAILTO:events@jesmondlibrary.org
END:VEVENT
BEGIN:VEVENT
DTSTART;TZID=Europe/London:20260417T190000
DTEND;TZID=Europe/London:20260417T210000
DTSTAMP:20260420T103257
CREATED:20260131T111449Z
LAST-MODIFIED:20260206T122002Z
UID:10058825-1776452400-1776459600@jesmondlibrary.org
SUMMARY:Poetry Event - Len Pennie and Open Mic Session
DESCRIPTION:
URL:https://jesmondlibrary.org/event/poetry-event-len-pennie-and-open-mic-session/
LOCATION:Main Room
ATTACH;FMTTYPE=image/jpeg:https://jesmondlibrary.org/wp-content/uploads/2026/01/Writer-Showcase-Len-Pennie-poster.jpg
ORGANIZER;CN="Jesmond Library":MAILTO:events@jesmondlibrary.org
END:VEVENT
BEGIN:VEVENT
DTSTART;TZID=Europe/London:20260417T093000
DTEND;TZID=Europe/London:20260417T123000
DTSTAMP:20260420T103257
CREATED:20251018T103504Z
LAST-MODIFIED:20251018T104116Z
UID:10057204-1776418200-1776429000@jesmondlibrary.org
SUMMARY:LIBRARY OPEN FRIDAYS
DESCRIPTION:
URL:https://jesmondlibrary.org/event/library-open-fridays-2/2026-04-17/
LOCATION:Main Room
ORGANIZER;CN="Jesmond Library":MAILTO:events@jesmondlibrary.org
END:VEVENT
BEGIN:VEVENT
DTSTART;TZID=Europe/London:20260416T180000
DTEND;TZID=Europe/London:20260416T190000
DTSTAMP:20260420T103257
CREATED:20251119T101036Z
LAST-MODIFIED:20260304T152508Z
UID:10058512-1776362400-1776366000@jesmondlibrary.org
SUMMARY:Thursday Talk - Polar Bound
DESCRIPTION:Susannah Broome and David Scott Cowper talk about their record-breaking voyage through the North West Passage.
URL:https://jesmondlibrary.org/event/thursday-talk-polar-bound/
LOCATION:Main Room
ATTACH;FMTTYPE=image/jpeg:https://jesmondlibrary.org/wp-content/uploads/2025/11/NW-PASSAGE.jpg
ORGANIZER;CN="Jesmond Library":MAILTO:events@jesmondlibrary.org
END:VEVENT
BEGIN:VEVENT
DTSTART;TZID=Europe/London:20260416T093000
DTEND;TZID=Europe/London:20260416T180000
DTSTAMP:20260420T103257
CREATED:20251121T102015Z
LAST-MODIFIED:20251121T102015Z
UID:10058636-1776331800-1776362400@jesmondlibrary.org
SUMMARY:LIBRARY OPEN THURSDAYS
DESCRIPTION:
URL:https://jesmondlibrary.org/event/library-open-thursdays/2026-04-16/
LOCATION:Main Room
ORGANIZER;CN="Jesmond Library":MAILTO:events@jesmondlibrary.org
END:VEVENT
BEGIN:VEVENT
DTSTART;TZID=Europe/London:20260414T093000
DTEND;TZID=Europe/London:20260414T163000
DTSTAMP:20260420T103257
CREATED:20251121T101724Z
LAST-MODIFIED:20251121T101724Z
UID:10058584-1776159000-1776184200@jesmondlibrary.org
SUMMARY:LIBRARY OPEN TUESDAYS
DESCRIPTION:
URL:https://jesmondlibrary.org/event/library-open-tuesdays-11/2026-04-14/
LOCATION:Main Room
ORGANIZER;CN="Jesmond Library":MAILTO:events@jesmondlibrary.org
END:VEVENT
BEGIN:VEVENT
DTSTART;TZID=Europe/London:20260413T140000
DTEND;TZID=Europe/London:20260413T153000
DTSTAMP:20260420T103257
CREATED:20260105T105212Z
LAST-MODIFIED:20260330T140442Z
UID:10058736-1776088800-1776094200@jesmondlibrary.org
SUMMARY:Children's Holiday Craft session
DESCRIPTION:
URL:https://jesmondlibrary.org/event/childrens-easter-craft-session/
LOCATION:Main Room
ATTACH;FMTTYPE=image/jpeg:https://jesmondlibrary.org/wp-content/uploads/2026/01/APRIL-CRAFTS.jpg
ORGANIZER;CN="Jesmond Library":MAILTO:events@jesmondlibrary.org
END:VEVENT
BEGIN:VEVENT
DTSTART;TZID=Europe/London:20260412T143000
DTEND;TZID=Europe/London:20260412T163000
DTSTAMP:20260420T103257
CREATED:20251121T101059Z
LAST-MODIFIED:20251121T101059Z
UID:10058532-1776004200-1776011400@jesmondlibrary.org
SUMMARY:West Jesmond Chess Club
DESCRIPTION:
URL:https://jesmondlibrary.org/event/west-jesmond-chess-club-11/2026-04-12/
LOCATION:Main Room
ATTACH;FMTTYPE=image/png:https://jesmondlibrary.org/wp-content/uploads/2023/04/West-Jesmond-Chess-Club-flyer-V2-September-2023.png
END:VEVENT
BEGIN:VEVENT
DTSTART;TZID=Europe/London:20260412T093000
DTEND;TZID=Europe/London:20260412T123000
DTSTAMP:20260420T103257
CREATED:20260409T140219Z
LAST-MODIFIED:20260409T140219Z
UID:10058987-1775986200-1775997000@jesmondlibrary.org
SUMMARY:Centre Evangelique meeting
DESCRIPTION:
URL:https://jesmondlibrary.org/event/centre-evangelique-meeting-5/2026-04-12/
LOCATION:Main Room
END:VEVENT
BEGIN:VEVENT
DTSTART;TZID=Europe/London:20260411T093000
DTEND;TZID=Europe/London:20260411T163000
DTSTAMP:20260420T103257
CREATED:20251018T103753Z
LAST-MODIFIED:20251018T103910Z
UID:10057254-1775899800-1775925000@jesmondlibrary.org
SUMMARY:LIBRARY OPEN SATURDAYS
DESCRIPTION:
URL:https://jesmondlibrary.org/event/library-open-saturdays-6/2026-04-11/
LOCATION:Main Room
ORGANIZER;CN="Jesmond Library":MAILTO:events@jesmondlibrary.org
END:VEVENT
BEGIN:VEVENT
DTSTART;TZID=Europe/London:20260410T130000
DTEND;TZID=Europe/London:20260410T140000
DTSTAMP:20260420T103257
CREATED:20251111T094016Z
LAST-MODIFIED:20260330T143511Z
UID:10057593-1775826000-1775829600@jesmondlibrary.org
SUMMARY:Music in the Library: the John Rowland Trio
DESCRIPTION:
URL:https://jesmondlibrary.org/event/music-in-the-library-the-john-rowland-trio/
LOCATION:Main Room
ATTACH;FMTTYPE=image/jpeg:https://jesmondlibrary.org/wp-content/uploads/2025/11/Music-in-the-Library-1.jpg
ORGANIZER;CN="Jesmond Library":MAILTO:events@jesmondlibrary.org
END:VEVENT
BEGIN:VEVENT
DTSTART;TZID=Europe/London:20260410T093000
DTEND;TZID=Europe/London:20260410T123000
DTSTAMP:20260420T103257
CREATED:20260311T104707Z
LAST-MODIFIED:20260324T100314Z
UID:10058896-1775813400-1775824200@jesmondlibrary.org
SUMMARY:Groundwork Drop-In
DESCRIPTION:
URL:https://jesmondlibrary.org/event/groundwork-drop-in/
LOCATION:Main Room
ATTACH;FMTTYPE=image/jpeg:https://jesmondlibrary.org/wp-content/uploads/2026/03/Jan2026_ALLWR_NECumbria_Green_Doctor_A5_Double_Sided_Flyer_2024_2_page-00011.jpg
ORGANIZER;CN="Jesmond Library":MAILTO:events@jesmondlibrary.org
END:VEVENT
BEGIN:VEVENT
DTSTART;TZID=Europe/London:20260410T093000
DTEND;TZID=Europe/London:20260410T123000
DTSTAMP:20260420T103257
CREATED:20251018T103504Z
LAST-MODIFIED:20251018T104116Z
UID:10057203-1775813400-1775824200@jesmondlibrary.org
SUMMARY:LIBRARY OPEN FRIDAYS
DESCRIPTION:
URL:https://jesmondlibrary.org/event/library-open-fridays-2/2026-04-10/
LOCATION:Main Room
ORGANIZER;CN="Jesmond Library":MAILTO:events@jesmondlibrary.org
END:VEVENT
BEGIN:VEVENT
DTSTART;TZID=Europe/London:20260409T093000
DTEND;TZID=Europe/London:20260409T180000
DTSTAMP:20260420T103257
CREATED:20251121T102015Z
LAST-MODIFIED:20251121T102015Z
UID:10058635-1775727000-1775757600@jesmondlibrary.org
SUMMARY:LIBRARY OPEN THURSDAYS
DESCRIPTION:
URL:https://jesmondlibrary.org/event/library-open-thursdays/2026-04-09/
LOCATION:Main Room
ORGANIZER;CN="Jesmond Library":MAILTO:events@jesmondlibrary.org
END:VEVENT
BEGIN:VEVENT
DTSTART;TZID=Europe/London:20260408T190000
DTEND;TZID=Europe/London:20260408T200000
DTSTAMP:20260420T103257
CREATED:20251224T114600Z
LAST-MODIFIED:20260119T092354Z
UID:10058314-1775674800-1775678400@jesmondlibrary.org
SUMMARY:Book Group Sebastian Faulks - Engleby
DESCRIPTION:
URL:https://jesmondlibrary.org/event/book-group-tbc/
LOCATION:Main Room
ATTACH;FMTTYPE=image/jpeg:https://jesmondlibrary.org/wp-content/uploads/2025/12/71vj7qRfUnL._SY522_.jpg
ORGANIZER;CN="Jesmond Library":MAILTO:events@jesmondlibrary.org
END:VEVENT
BEGIN:VEVENT
DTSTART;TZID=Europe/London:20260407T191500
DTEND;TZID=Europe/London:20260407T201500
DTSTAMP:20260420T103257
CREATED:20251219T100254Z
LAST-MODIFIED:20260220T141259Z
UID:10058730-1775589300-1775592900@jesmondlibrary.org
SUMMARY:Author Event: Peter Dillon -Storytelling\, on stage\, screen and page
DESCRIPTION:
URL:https://jesmondlibrary.org/event/author-event-peter-dillon-storytelling-on-stage-screen-and-page/
LOCATION:Main Room
ATTACH;FMTTYPE=image/jpeg:https://jesmondlibrary.org/wp-content/uploads/2025/12/Writer-Showcase-Peter-Dillonn-poster.jpg
ORGANIZER;CN="Jesmond Library":MAILTO:events@jesmondlibrary.org
END:VEVENT
BEGIN:VEVENT
DTSTART;TZID=Europe/London:20260407T170000
DTEND;TZID=Europe/London:20260407T190000
DTSTAMP:20260420T103257
CREATED:20251106T093526Z
LAST-MODIFIED:20260202T165729Z
UID:10057488-1775581200-1775588400@jesmondlibrary.org
SUMMARY:Philosophy Group
DESCRIPTION:
URL:https://jesmondlibrary.org/event/philosophy-group-8/2026-04-07/
LOCATION:Main Room
ATTACH;FMTTYPE=image/jpeg:https://jesmondlibrary.org/wp-content/uploads/2025/08/Jesmond-Philosophy-Group-1-scaled.jpg
ORGANIZER;CN="Michael Bavidge":MAILTO:michael.bavidge@newcastle.ac.uk
END:VEVENT
BEGIN:VEVENT
DTSTART;TZID=Europe/London:20260407T140000
DTEND;TZID=Europe/London:20260407T153000
DTSTAMP:20260420T103257
CREATED:20250827T085201Z
LAST-MODIFIED:20250827T085334Z
UID:10057032-1775570400-1775575800@jesmondlibrary.org
SUMMARY:IT Support
DESCRIPTION:
URL:https://jesmondlibrary.org/event/it-support-12/2026-04-07/
LOCATION:Main Room
ATTACH;FMTTYPE=image/jpeg:https://jesmondlibrary.org/wp-content/uploads/2025/04/IT-SUPPORT-1.jpg
ORGANIZER;CN="Jesmond Library":MAILTO:events@jesmondlibrary.org
END:VEVENT
BEGIN:VEVENT
DTSTART;TZID=Europe/London:20260407T093000
DTEND;TZID=Europe/London:20260407T163000
DTSTAMP:20260420T103257
CREATED:20251121T101724Z
LAST-MODIFIED:20251121T101724Z
UID:10058583-1775554200-1775579400@jesmondlibrary.org
SUMMARY:LIBRARY OPEN TUESDAYS
DESCRIPTION:
URL:https://jesmondlibrary.org/event/library-open-tuesdays-11/2026-04-07/
LOCATION:Main Room
ORGANIZER;CN="Jesmond Library":MAILTO:events@jesmondlibrary.org
END:VEVENT
BEGIN:VEVENT
DTSTART;TZID=Europe/London:20260405T093000
DTEND;TZID=Europe/London:20260405T123000
DTSTAMP:20260420T103257
CREATED:20260225T180817Z
LAST-MODIFIED:20260225T180817Z
UID:10058872-1775381400-1775392200@jesmondlibrary.org
SUMMARY:Centre Evangelique meeting
DESCRIPTION:
URL:https://jesmondlibrary.org/event/centre-evangelique-meeting-4-2/2026-04-05/
LOCATION:Main Room
END:VEVENT
BEGIN:VEVENT
DTSTART;TZID=Europe/London:20260404T100000
DTEND;TZID=Europe/London:20260404T110000
DTSTAMP:20260420T103257
CREATED:20251111T103318Z
LAST-MODIFIED:20251111T103318Z
UID:10058234-1775296800-1775300400@jesmondlibrary.org
SUMMARY:Liberal Democrat Surgery
DESCRIPTION:
URL:https://jesmondlibrary.org/event/liberal-democrat-surgery/2026-04-04/
LOCATION:Main Room
END:VEVENT
BEGIN:VEVENT
DTSTART;TZID=Europe/London:20260404T093000
DTEND;TZID=Europe/London:20260404T163000
DTSTAMP:20260420T103257
CREATED:20251018T103753Z
LAST-MODIFIED:20251018T103910Z
UID:10057253-1775295000-1775320200@jesmondlibrary.org
SUMMARY:LIBRARY OPEN SATURDAYS
DESCRIPTION:
URL:https://jesmondlibrary.org/event/library-open-saturdays-6/2026-04-04/
LOCATION:Main Room
ORGANIZER;CN="Jesmond Library":MAILTO:events@jesmondlibrary.org
END:VEVENT
BEGIN:VEVENT
DTSTART;TZID=Europe/London:20260402T093000
DTEND;TZID=Europe/London:20260402T180000
DTSTAMP:20260420T103257
CREATED:20251121T102015Z
LAST-MODIFIED:20251121T102015Z
UID:10058634-1775122200-1775152800@jesmondlibrary.org
SUMMARY:LIBRARY OPEN THURSDAYS
DESCRIPTION:
URL:https://jesmondlibrary.org/event/library-open-thursdays/2026-04-02/
LOCATION:Main Room
ORGANIZER;CN="Jesmond Library":MAILTO:events@jesmondlibrary.org
END:VEVENT
BEGIN:VEVENT
DTSTART;TZID=Europe/London:20260331T093000
DTEND;TZID=Europe/London:20260331T163000
DTSTAMP:20260420T103257
CREATED:20251121T101724Z
LAST-MODIFIED:20251121T101724Z
UID:10058582-1774949400-1774974600@jesmondlibrary.org
SUMMARY:LIBRARY OPEN TUESDAYS
DESCRIPTION:
URL:https://jesmondlibrary.org/event/library-open-tuesdays-11/2026-03-31/
LOCATION:Main Room
ORGANIZER;CN="Jesmond Library":MAILTO:events@jesmondlibrary.org
END:VEVENT
BEGIN:VEVENT
DTSTART;TZID=Europe/London:20260330T110000
DTEND;TZID=Europe/London:20260330T123000
DTSTAMP:20260420T103257
CREATED:20251125T130921Z
LAST-MODIFIED:20251125T130921Z
UID:10058685-1774868400-1774873800@jesmondlibrary.org
SUMMARY:Motherfolk Writing Circle
DESCRIPTION:
URL:https://jesmondlibrary.org/event/motherfolk-writing-circle-4/2026-03-30/
LOCATION:Main Room
ATTACH;FMTTYPE=image/png:https://jesmondlibrary.org/wp-content/uploads/2025/07/Motherfolk-June-25.png
END:VEVENT
BEGIN:VEVENT
DTSTART;TZID=Europe/London:20260329T093000
DTEND;TZID=Europe/London:20260329T123000
DTSTAMP:20260420T103257
CREATED:20260225T180817Z
LAST-MODIFIED:20260225T180817Z
UID:10058750-1774776600-1774787400@jesmondlibrary.org
SUMMARY:Centre Evangelique meeting
DESCRIPTION:
URL:https://jesmondlibrary.org/event/centre-evangelique-meeting-4-2/2026-03-29/
LOCATION:Main Room
END:VEVENT
BEGIN:VEVENT
DTSTART;TZID=Europe/London:20260328T093000
DTEND;TZID=Europe/London:20260328T163000
DTSTAMP:20260420T103257
CREATED:20251018T103753Z
LAST-MODIFIED:20251018T103910Z
UID:10057252-1774690200-1774715400@jesmondlibrary.org
SUMMARY:LIBRARY OPEN SATURDAYS
DESCRIPTION:
URL:https://jesmondlibrary.org/event/library-open-saturdays-6/2026-03-28/
LOCATION:Main Room
ORGANIZER;CN="Jesmond Library":MAILTO:events@jesmondlibrary.org
END:VEVENT
BEGIN:VEVENT
DTSTART;TZID=Europe/London:20260327T093000
DTEND;TZID=Europe/London:20260327T123000
DTSTAMP:20260420T103257
CREATED:20251018T103504Z
LAST-MODIFIED:20251018T104116Z
UID:10057201-1774603800-1774614600@jesmondlibrary.org
SUMMARY:LIBRARY OPEN FRIDAYS
DESCRIPTION:
URL:https://jesmondlibrary.org/event/library-open-fridays-2/2026-03-27/
LOCATION:Main Room
ORGANIZER;CN="Jesmond Library":MAILTO:events@jesmondlibrary.org
END:VEVENT
END:VCALENDAR