BEGIN:VCALENDAR
VERSION:2.0
PRODID:-//Jesmond Library - ECPv6.15.17.1//NONSGML v1.0//EN
CALSCALE:GREGORIAN
METHOD:PUBLISH
X-WR-CALNAME:Jesmond Library
X-ORIGINAL-URL:https://jesmondlibrary.org
X-WR-CALDESC:Events for Jesmond Library
REFRESH-INTERVAL;VALUE=DURATION:PT1H
X-Robots-Tag:noindex
X-PUBLISHED-TTL:PT1H
BEGIN:VTIMEZONE
TZID:Europe/London
BEGIN:DAYLIGHT
TZOFFSETFROM:+0000
TZOFFSETTO:+0100
TZNAME:BST
DTSTART:20230326T010000
END:DAYLIGHT
BEGIN:STANDARD
TZOFFSETFROM:+0100
TZOFFSETTO:+0000
TZNAME:GMT
DTSTART:20231029T010000
END:STANDARD
BEGIN:DAYLIGHT
TZOFFSETFROM:+0000
TZOFFSETTO:+0100
TZNAME:BST
DTSTART:20240331T010000
END:DAYLIGHT
BEGIN:STANDARD
TZOFFSETFROM:+0100
TZOFFSETTO:+0000
TZNAME:GMT
DTSTART:20241027T010000
END:STANDARD
BEGIN:DAYLIGHT
TZOFFSETFROM:+0000
TZOFFSETTO:+0100
TZNAME:BST
DTSTART:20250330T010000
END:DAYLIGHT
BEGIN:STANDARD
TZOFFSETFROM:+0100
TZOFFSETTO:+0000
TZNAME:GMT
DTSTART:20251026T010000
END:STANDARD
BEGIN:DAYLIGHT
TZOFFSETFROM:+0000
TZOFFSETTO:+0100
TZNAME:BST
DTSTART:20260329T010000
END:DAYLIGHT
BEGIN:STANDARD
TZOFFSETFROM:+0100
TZOFFSETTO:+0000
TZNAME:GMT
DTSTART:20261025T010000
END:STANDARD
END:VTIMEZONE
BEGIN:VEVENT
DTSTART;TZID=Europe/London:20250324T093000
DTEND;TZID=Europe/London:20250324T101500
DTSTAMP:20260424T134736
CREATED:20241104T102509Z
LAST-MODIFIED:20250217T121317Z
UID:10055833-1742808600-1742811300@jesmondlibrary.org
SUMMARY:Los Pequenos Pre-School Spanish
DESCRIPTION:
URL:https://jesmondlibrary.org/event/los-pequenos-pre-school-spanish-6/2025-03-24/
LOCATION:Catherine Cookson Room
ATTACH;FMTTYPE=image/png:https://jesmondlibrary.org/wp-content/uploads/2024/11/Little_ones_Spanish_Poster1.png
END:VEVENT
BEGIN:VEVENT
DTSTART;TZID=Europe/London:20250317T093000
DTEND;TZID=Europe/London:20250317T101500
DTSTAMP:20260424T134736
CREATED:20241104T102509Z
LAST-MODIFIED:20250217T121317Z
UID:10055832-1742203800-1742206500@jesmondlibrary.org
SUMMARY:Los Pequenos Pre-School Spanish
DESCRIPTION:
URL:https://jesmondlibrary.org/event/los-pequenos-pre-school-spanish-6/2025-03-17/
LOCATION:Catherine Cookson Room
ATTACH;FMTTYPE=image/png:https://jesmondlibrary.org/wp-content/uploads/2024/11/Little_ones_Spanish_Poster1.png
END:VEVENT
BEGIN:VEVENT
DTSTART;TZID=Europe/London:20250310T093000
DTEND;TZID=Europe/London:20250310T101500
DTSTAMP:20260424T134736
CREATED:20241104T102509Z
LAST-MODIFIED:20250217T121317Z
UID:10055831-1741599000-1741601700@jesmondlibrary.org
SUMMARY:Los Pequenos Pre-School Spanish
DESCRIPTION:
URL:https://jesmondlibrary.org/event/los-pequenos-pre-school-spanish-6/2025-03-10/
LOCATION:Catherine Cookson Room
ATTACH;FMTTYPE=image/png:https://jesmondlibrary.org/wp-content/uploads/2024/11/Little_ones_Spanish_Poster1.png
END:VEVENT
BEGIN:VEVENT
DTSTART;TZID=Europe/London:20250303T093000
DTEND;TZID=Europe/London:20250303T101500
DTSTAMP:20260424T134736
CREATED:20241104T102509Z
LAST-MODIFIED:20250217T121317Z
UID:10055830-1740994200-1740996900@jesmondlibrary.org
SUMMARY:Los Pequenos Pre-School Spanish
DESCRIPTION:
URL:https://jesmondlibrary.org/event/los-pequenos-pre-school-spanish-6/2025-03-03/
LOCATION:Catherine Cookson Room
ATTACH;FMTTYPE=image/png:https://jesmondlibrary.org/wp-content/uploads/2024/11/Little_ones_Spanish_Poster1.png
END:VEVENT
BEGIN:VEVENT
DTSTART;TZID=Europe/London:20250224T093000
DTEND;TZID=Europe/London:20250224T101500
DTSTAMP:20260424T134736
CREATED:20241104T102509Z
LAST-MODIFIED:20250217T121317Z
UID:10056358-1740389400-1740392100@jesmondlibrary.org
SUMMARY:Los Pequenos Pre-School Spanish
DESCRIPTION:
URL:https://jesmondlibrary.org/event/los-pequenos-pre-school-spanish-6/2025-02-24/
LOCATION:Catherine Cookson Room
ATTACH;FMTTYPE=image/png:https://jesmondlibrary.org/wp-content/uploads/2024/11/Little_ones_Spanish_Poster1.png
END:VEVENT
BEGIN:VEVENT
DTSTART;TZID=Europe/London:20250217T093000
DTEND;TZID=Europe/London:20250217T101500
DTSTAMP:20260424T134736
CREATED:20241104T102509Z
LAST-MODIFIED:20250217T121317Z
UID:10055829-1739784600-1739787300@jesmondlibrary.org
SUMMARY:Los Pequenos Pre-School Spanish
DESCRIPTION:
URL:https://jesmondlibrary.org/event/los-pequenos-pre-school-spanish-6/2025-02-17/
LOCATION:Catherine Cookson Room
ATTACH;FMTTYPE=image/png:https://jesmondlibrary.org/wp-content/uploads/2024/11/Little_ones_Spanish_Poster1.png
END:VEVENT
BEGIN:VEVENT
DTSTART;TZID=Europe/London:20250210T093000
DTEND;TZID=Europe/London:20250210T101500
DTSTAMP:20260424T134736
CREATED:20250208T112642Z
LAST-MODIFIED:20250208T112740Z
UID:10055828-1739179800-1739182500@jesmondlibrary.org
SUMMARY:*Session Cancelled* Los Pequenos Pre-School Spanish
DESCRIPTION:
URL:https://jesmondlibrary.org/event/los-pequenos-pre-school-spanish-7/
ATTACH;FMTTYPE=image/png:https://jesmondlibrary.org/wp-content/uploads/2024/11/Little_ones_Spanish_Poster1.png
END:VEVENT
BEGIN:VEVENT
DTSTART;TZID=Europe/London:20250203T093000
DTEND;TZID=Europe/London:20250203T101500
DTSTAMP:20260424T134736
CREATED:20241104T102509Z
LAST-MODIFIED:20250217T121317Z
UID:10055827-1738575000-1738577700@jesmondlibrary.org
SUMMARY:Los Pequenos Pre-School Spanish
DESCRIPTION:
URL:https://jesmondlibrary.org/event/los-pequenos-pre-school-spanish-6/2025-02-03/
LOCATION:Catherine Cookson Room
ATTACH;FMTTYPE=image/png:https://jesmondlibrary.org/wp-content/uploads/2024/11/Little_ones_Spanish_Poster1.png
END:VEVENT
BEGIN:VEVENT
DTSTART;TZID=Europe/London:20250127T093000
DTEND;TZID=Europe/London:20250127T101500
DTSTAMP:20260424T134736
CREATED:20241104T102509Z
LAST-MODIFIED:20250217T121317Z
UID:10055826-1737970200-1737972900@jesmondlibrary.org
SUMMARY:Los Pequenos Pre-School Spanish
DESCRIPTION:
URL:https://jesmondlibrary.org/event/los-pequenos-pre-school-spanish-6/2025-01-27/
LOCATION:Catherine Cookson Room
ATTACH;FMTTYPE=image/png:https://jesmondlibrary.org/wp-content/uploads/2024/11/Little_ones_Spanish_Poster1.png
END:VEVENT
BEGIN:VEVENT
DTSTART;TZID=Europe/London:20250120T093000
DTEND;TZID=Europe/London:20250120T101500
DTSTAMP:20260424T134736
CREATED:20241104T102509Z
LAST-MODIFIED:20250217T121317Z
UID:10055825-1737365400-1737368100@jesmondlibrary.org
SUMMARY:Los Pequenos Pre-School Spanish
DESCRIPTION:
URL:https://jesmondlibrary.org/event/los-pequenos-pre-school-spanish-6/2025-01-20/
LOCATION:Catherine Cookson Room
ATTACH;FMTTYPE=image/png:https://jesmondlibrary.org/wp-content/uploads/2024/11/Little_ones_Spanish_Poster1.png
END:VEVENT
BEGIN:VEVENT
DTSTART;TZID=Europe/London:20250113T093000
DTEND;TZID=Europe/London:20250113T101500
DTSTAMP:20260424T134736
CREATED:20241104T102509Z
LAST-MODIFIED:20250217T121317Z
UID:10055824-1736760600-1736763300@jesmondlibrary.org
SUMMARY:Los Pequenos Pre-School Spanish
DESCRIPTION:
URL:https://jesmondlibrary.org/event/los-pequenos-pre-school-spanish-6/2025-01-13/
LOCATION:Catherine Cookson Room
ATTACH;FMTTYPE=image/png:https://jesmondlibrary.org/wp-content/uploads/2024/11/Little_ones_Spanish_Poster1.png
END:VEVENT
BEGIN:VEVENT
DTSTART;TZID=Europe/London:20250106T093000
DTEND;TZID=Europe/London:20250106T101500
DTSTAMP:20260424T134736
CREATED:20241104T102509Z
LAST-MODIFIED:20250217T121317Z
UID:10055823-1736155800-1736158500@jesmondlibrary.org
SUMMARY:Los Pequenos Pre-School Spanish
DESCRIPTION:
URL:https://jesmondlibrary.org/event/los-pequenos-pre-school-spanish-6/2025-01-06/
LOCATION:Catherine Cookson Room
ATTACH;FMTTYPE=image/png:https://jesmondlibrary.org/wp-content/uploads/2024/11/Little_ones_Spanish_Poster1.png
END:VEVENT
BEGIN:VEVENT
DTSTART;TZID=Europe/London:20241202T093000
DTEND;TZID=Europe/London:20241202T101500
DTSTAMP:20260424T134736
CREATED:20241104T101900Z
LAST-MODIFIED:20241104T101901Z
UID:10054742-1733131800-1733134500@jesmondlibrary.org
SUMMARY:Los Pequenos Pre-school Spanish
DESCRIPTION:
URL:https://jesmondlibrary.org/event/los-pequenos-pre-school-spanish-3-2/2024-12-02/
LOCATION:Catherine Cookson Room
ATTACH;FMTTYPE=image/png:https://jesmondlibrary.org/wp-content/uploads/2024/08/Little_ones_Spanish_Sept_20241.png
END:VEVENT
BEGIN:VEVENT
DTSTART;TZID=Europe/London:20241125T093000
DTEND;TZID=Europe/London:20241125T101500
DTSTAMP:20260424T134736
CREATED:20241104T101900Z
LAST-MODIFIED:20241104T101901Z
UID:10054741-1732527000-1732529700@jesmondlibrary.org
SUMMARY:Los Pequenos Pre-school Spanish
DESCRIPTION:
URL:https://jesmondlibrary.org/event/los-pequenos-pre-school-spanish-3-2/2024-11-25/
LOCATION:Catherine Cookson Room
ATTACH;FMTTYPE=image/png:https://jesmondlibrary.org/wp-content/uploads/2024/08/Little_ones_Spanish_Sept_20241.png
END:VEVENT
BEGIN:VEVENT
DTSTART;TZID=Europe/London:20241118T093000
DTEND;TZID=Europe/London:20241118T101500
DTSTAMP:20260424T134736
CREATED:20241104T101900Z
LAST-MODIFIED:20241104T101901Z
UID:10054740-1731922200-1731924900@jesmondlibrary.org
SUMMARY:Los Pequenos Pre-school Spanish
DESCRIPTION:
URL:https://jesmondlibrary.org/event/los-pequenos-pre-school-spanish-3-2/2024-11-18/
LOCATION:Catherine Cookson Room
ATTACH;FMTTYPE=image/png:https://jesmondlibrary.org/wp-content/uploads/2024/08/Little_ones_Spanish_Sept_20241.png
END:VEVENT
BEGIN:VEVENT
DTSTART;TZID=Europe/London:20241104T093000
DTEND;TZID=Europe/London:20241104T101500
DTSTAMP:20260424T134736
CREATED:20240814T094140Z
LAST-MODIFIED:20240814T094140Z
UID:10054738-1730712600-1730715300@jesmondlibrary.org
SUMMARY:Los Pequenos Pre-school Spanish
DESCRIPTION:
URL:https://jesmondlibrary.org/event/los-pequenos-pre-school-spanish-3/2024-11-04/
LOCATION:Catherine Cookson Room
ATTACH;FMTTYPE=image/png:https://jesmondlibrary.org/wp-content/uploads/2024/08/Little_ones_Spanish_Sept_20241.png
END:VEVENT
BEGIN:VEVENT
DTSTART;TZID=Europe/London:20241021T093000
DTEND;TZID=Europe/London:20241021T101500
DTSTAMP:20260424T134736
CREATED:20240814T094140Z
LAST-MODIFIED:20240814T094140Z
UID:10054737-1729503000-1729505700@jesmondlibrary.org
SUMMARY:Los Pequenos Pre-school Spanish
DESCRIPTION:
URL:https://jesmondlibrary.org/event/los-pequenos-pre-school-spanish-3/2024-10-21/
LOCATION:Catherine Cookson Room
ATTACH;FMTTYPE=image/png:https://jesmondlibrary.org/wp-content/uploads/2024/08/Little_ones_Spanish_Sept_20241.png
END:VEVENT
BEGIN:VEVENT
DTSTART;TZID=Europe/London:20241014T093000
DTEND;TZID=Europe/London:20241014T101500
DTSTAMP:20260424T134736
CREATED:20241013T232200Z
LAST-MODIFIED:20241013T232235Z
UID:10054736-1728898200-1728900900@jesmondlibrary.org
SUMMARY:*Session cancelled* Los Pequenos Pre-school Spanish
DESCRIPTION:
URL:https://jesmondlibrary.org/event/los-pequenos-pre-school-spanish-4/
ATTACH;FMTTYPE=image/png:https://jesmondlibrary.org/wp-content/uploads/2024/08/Little_ones_Spanish_Sept_20241.png
END:VEVENT
BEGIN:VEVENT
DTSTART;TZID=Europe/London:20241007T093000
DTEND;TZID=Europe/London:20241007T101500
DTSTAMP:20260424T134736
CREATED:20240814T094140Z
LAST-MODIFIED:20240814T094140Z
UID:10054735-1728293400-1728296100@jesmondlibrary.org
SUMMARY:Los Pequenos Pre-school Spanish
DESCRIPTION:
URL:https://jesmondlibrary.org/event/los-pequenos-pre-school-spanish-3/2024-10-07/
LOCATION:Catherine Cookson Room
ATTACH;FMTTYPE=image/png:https://jesmondlibrary.org/wp-content/uploads/2024/08/Little_ones_Spanish_Sept_20241.png
END:VEVENT
BEGIN:VEVENT
DTSTART;TZID=Europe/London:20240930T093000
DTEND;TZID=Europe/London:20240930T101500
DTSTAMP:20260424T134736
CREATED:20240814T094140Z
LAST-MODIFIED:20240814T094140Z
UID:10054734-1727688600-1727691300@jesmondlibrary.org
SUMMARY:Los Pequenos Pre-school Spanish
DESCRIPTION:
URL:https://jesmondlibrary.org/event/los-pequenos-pre-school-spanish-3/2024-09-30/
LOCATION:Catherine Cookson Room
ATTACH;FMTTYPE=image/png:https://jesmondlibrary.org/wp-content/uploads/2024/08/Little_ones_Spanish_Sept_20241.png
END:VEVENT
BEGIN:VEVENT
DTSTART;TZID=Europe/London:20240923T093000
DTEND;TZID=Europe/London:20240923T101500
DTSTAMP:20260424T134736
CREATED:20240814T094140Z
LAST-MODIFIED:20240814T094140Z
UID:10054733-1727083800-1727086500@jesmondlibrary.org
SUMMARY:Los Pequenos Pre-school Spanish
DESCRIPTION:
URL:https://jesmondlibrary.org/event/los-pequenos-pre-school-spanish-3/2024-09-23/
LOCATION:Catherine Cookson Room
ATTACH;FMTTYPE=image/png:https://jesmondlibrary.org/wp-content/uploads/2024/08/Little_ones_Spanish_Sept_20241.png
END:VEVENT
BEGIN:VEVENT
DTSTART;TZID=Europe/London:20240916T093000
DTEND;TZID=Europe/London:20240916T101500
DTSTAMP:20260424T134736
CREATED:20240814T094140Z
LAST-MODIFIED:20240814T094140Z
UID:10054732-1726479000-1726481700@jesmondlibrary.org
SUMMARY:Los Pequenos Pre-school Spanish
DESCRIPTION:
URL:https://jesmondlibrary.org/event/los-pequenos-pre-school-spanish-3/2024-09-16/
LOCATION:Catherine Cookson Room
ATTACH;FMTTYPE=image/png:https://jesmondlibrary.org/wp-content/uploads/2024/08/Little_ones_Spanish_Sept_20241.png
END:VEVENT
BEGIN:VEVENT
DTSTART;TZID=Europe/London:20240909T093000
DTEND;TZID=Europe/London:20240909T101500
DTSTAMP:20260424T134736
CREATED:20240814T094140Z
LAST-MODIFIED:20240814T094140Z
UID:10054731-1725874200-1725876900@jesmondlibrary.org
SUMMARY:Los Pequenos Pre-school Spanish
DESCRIPTION:
URL:https://jesmondlibrary.org/event/los-pequenos-pre-school-spanish-3/2024-09-09/
LOCATION:Catherine Cookson Room
ATTACH;FMTTYPE=image/png:https://jesmondlibrary.org/wp-content/uploads/2024/08/Little_ones_Spanish_Sept_20241.png
END:VEVENT
BEGIN:VEVENT
DTSTART;TZID=Europe/London:20240902T093000
DTEND;TZID=Europe/London:20240902T101500
DTSTAMP:20260424T134736
CREATED:20240814T094140Z
LAST-MODIFIED:20240814T094140Z
UID:10054730-1725269400-1725272100@jesmondlibrary.org
SUMMARY:Los Pequenos Pre-school Spanish
DESCRIPTION:
URL:https://jesmondlibrary.org/event/los-pequenos-pre-school-spanish-3/2024-09-02/
LOCATION:Catherine Cookson Room
ATTACH;FMTTYPE=image/png:https://jesmondlibrary.org/wp-content/uploads/2024/08/Little_ones_Spanish_Sept_20241.png
END:VEVENT
BEGIN:VEVENT
DTSTART;TZID=Europe/London:20240715T093000
DTEND;TZID=Europe/London:20240715T103000
DTSTAMP:20260424T134736
CREATED:20240516T120455Z
LAST-MODIFIED:20240628T100339Z
UID:10053967-1721035800-1721039400@jesmondlibrary.org
SUMMARY:Project Espanol - Spanish for Pre-School Children
DESCRIPTION:
URL:https://jesmondlibrary.org/event/project-espanol-spanish-for-pre-school-children-3/
LOCATION:Catherine Cookson Room\, Jesmond Library\, Newcastle upon Tyne\, NE2 2DL\, United Kingdom
ATTACH;FMTTYPE=image/png:https://jesmondlibrary.org/wp-content/uploads/2024/03/Little-ones-Spanish-June-2024.png
GEO:54.9932456;-1.606461
X-APPLE-STRUCTURED-LOCATION;VALUE=URI;X-ADDRESS=Catherine Cookson Room Jesmond Library Newcastle upon Tyne NE2 2DL United Kingdom;X-APPLE-RADIUS=500;X-TITLE=Jesmond Library:geo:-1.606461,54.9932456
END:VEVENT
BEGIN:VEVENT
DTSTART;TZID=Europe/London:20240708T093000
DTEND;TZID=Europe/London:20240708T103000
DTSTAMP:20260424T134736
CREATED:20240321T151753Z
LAST-MODIFIED:20240516T115924Z
UID:10053968-1720431000-1720434600@jesmondlibrary.org
SUMMARY:Project Espanol - Spanish for Pre-School Children
DESCRIPTION:
URL:https://jesmondlibrary.org/event/project-espanol-spanish-for-pre-school-children-2/2024-07-08/
LOCATION:Catherine Cookson Room\, Jesmond Library\, Newcastle upon Tyne\, NE2 2DL\, United Kingdom
ATTACH;FMTTYPE=image/png:https://jesmondlibrary.org/wp-content/uploads/2024/03/Little-ones-Spanish-June-2024.png
GEO:54.9932456;-1.606461
X-APPLE-STRUCTURED-LOCATION;VALUE=URI;X-ADDRESS=Catherine Cookson Room Jesmond Library Newcastle upon Tyne NE2 2DL United Kingdom;X-APPLE-RADIUS=500;X-TITLE=Jesmond Library:geo:-1.606461,54.9932456
END:VEVENT
BEGIN:VEVENT
DTSTART;TZID=Europe/London:20240702T180000
DTEND;TZID=Europe/London:20240702T190000
DTSTAMP:20260424T134736
CREATED:20240601T140436Z
LAST-MODIFIED:20240602T200106Z
UID:10054537-1719943200-1719946800@jesmondlibrary.org
SUMMARY:Private Spanish lessons
DESCRIPTION:
URL:https://jesmondlibrary.org/event/private-spanish-lessons-tbc-6/
LOCATION:Catherine Cookson Room\, Jesmond Library\, Newcastle upon Tyne\, NE2 2DL\, United Kingdom
GEO:54.9932456;-1.606461
X-APPLE-STRUCTURED-LOCATION;VALUE=URI;X-ADDRESS=Catherine Cookson Room Jesmond Library Newcastle upon Tyne NE2 2DL United Kingdom;X-APPLE-RADIUS=500;X-TITLE=Jesmond Library:geo:-1.606461,54.9932456
END:VEVENT
BEGIN:VEVENT
DTSTART;TZID=Europe/London:20240625T180000
DTEND;TZID=Europe/London:20240625T190000
DTSTAMP:20260424T134736
CREATED:20240601T140223Z
LAST-MODIFIED:20240602T200300Z
UID:10054536-1719338400-1719342000@jesmondlibrary.org
SUMMARY:Private Spanish lessons
DESCRIPTION:
URL:https://jesmondlibrary.org/event/private-spanish-lessons-tbc-5/
LOCATION:Sid Chaplin room
END:VEVENT
BEGIN:VEVENT
DTSTART;TZID=Europe/London:20240624T093000
DTEND;TZID=Europe/London:20240624T103000
DTSTAMP:20260424T134736
CREATED:20240321T151753Z
LAST-MODIFIED:20240516T115924Z
UID:10053966-1719221400-1719225000@jesmondlibrary.org
SUMMARY:Project Espanol - Spanish for Pre-School Children
DESCRIPTION:
URL:https://jesmondlibrary.org/event/project-espanol-spanish-for-pre-school-children-2/2024-06-24/
LOCATION:Catherine Cookson Room\, Jesmond Library\, Newcastle upon Tyne\, NE2 2DL\, United Kingdom
ATTACH;FMTTYPE=image/png:https://jesmondlibrary.org/wp-content/uploads/2024/03/Little-ones-Spanish-June-2024.png
GEO:54.9932456;-1.606461
X-APPLE-STRUCTURED-LOCATION;VALUE=URI;X-ADDRESS=Catherine Cookson Room Jesmond Library Newcastle upon Tyne NE2 2DL United Kingdom;X-APPLE-RADIUS=500;X-TITLE=Jesmond Library:geo:-1.606461,54.9932456
END:VEVENT
BEGIN:VEVENT
DTSTART;TZID=Europe/London:20240617T093000
DTEND;TZID=Europe/London:20240617T103000
DTSTAMP:20260424T134736
CREATED:20240321T151753Z
LAST-MODIFIED:20240516T115924Z
UID:10053965-1718616600-1718620200@jesmondlibrary.org
SUMMARY:Project Espanol - Spanish for Pre-School Children
DESCRIPTION:
URL:https://jesmondlibrary.org/event/project-espanol-spanish-for-pre-school-children-2/2024-06-17/
LOCATION:Catherine Cookson Room\, Jesmond Library\, Newcastle upon Tyne\, NE2 2DL\, United Kingdom
ATTACH;FMTTYPE=image/png:https://jesmondlibrary.org/wp-content/uploads/2024/03/Little-ones-Spanish-June-2024.png
GEO:54.9932456;-1.606461
X-APPLE-STRUCTURED-LOCATION;VALUE=URI;X-ADDRESS=Catherine Cookson Room Jesmond Library Newcastle upon Tyne NE2 2DL United Kingdom;X-APPLE-RADIUS=500;X-TITLE=Jesmond Library:geo:-1.606461,54.9932456
END:VEVENT
END:VCALENDAR