BEGIN:VCALENDAR
VERSION:2.0
PRODID:-//Jesmond Library - ECPv6.15.17.1//NONSGML v1.0//EN
CALSCALE:GREGORIAN
METHOD:PUBLISH
X-ORIGINAL-URL:https://jesmondlibrary.org
X-WR-CALDESC:Events for Jesmond Library
REFRESH-INTERVAL;VALUE=DURATION:PT1H
X-Robots-Tag:noindex
X-PUBLISHED-TTL:PT1H
BEGIN:VTIMEZONE
TZID:Europe/London
BEGIN:DAYLIGHT
TZOFFSETFROM:+0000
TZOFFSETTO:+0100
TZNAME:BST
DTSTART:20230326T010000
END:DAYLIGHT
BEGIN:STANDARD
TZOFFSETFROM:+0100
TZOFFSETTO:+0000
TZNAME:GMT
DTSTART:20231029T010000
END:STANDARD
BEGIN:DAYLIGHT
TZOFFSETFROM:+0000
TZOFFSETTO:+0100
TZNAME:BST
DTSTART:20240331T010000
END:DAYLIGHT
BEGIN:STANDARD
TZOFFSETFROM:+0100
TZOFFSETTO:+0000
TZNAME:GMT
DTSTART:20241027T010000
END:STANDARD
BEGIN:DAYLIGHT
TZOFFSETFROM:+0000
TZOFFSETTO:+0100
TZNAME:BST
DTSTART:20250330T010000
END:DAYLIGHT
BEGIN:STANDARD
TZOFFSETFROM:+0100
TZOFFSETTO:+0000
TZNAME:GMT
DTSTART:20251026T010000
END:STANDARD
BEGIN:DAYLIGHT
TZOFFSETFROM:+0000
TZOFFSETTO:+0100
TZNAME:BST
DTSTART:20260329T010000
END:DAYLIGHT
BEGIN:STANDARD
TZOFFSETFROM:+0100
TZOFFSETTO:+0000
TZNAME:GMT
DTSTART:20261025T010000
END:STANDARD
END:VTIMEZONE
BEGIN:VEVENT
DTSTART;TZID=Europe/London:20250705T133000
DTEND;TZID=Europe/London:20250705T163000
DTSTAMP:20260421T094955
CREATED:20250703T124035Z
LAST-MODIFIED:20250703T124145Z
UID:10056823-1751722200-1751733000@jesmondlibrary.org
SUMMARY:Italian Language Course for Children
DESCRIPTION:
URL:https://jesmondlibrary.org/event/italian-language-course-for-children-7-2/2025-07-05/
LOCATION:Sid Chaplin room
END:VEVENT
BEGIN:VEVENT
DTSTART;TZID=Europe/London:20250628T133000
DTEND;TZID=Europe/London:20250628T163000
DTSTAMP:20260421T094955
CREATED:20240622T121025Z
LAST-MODIFIED:20241129T143207Z
UID:10054835-1751117400-1751128200@jesmondlibrary.org
SUMMARY:Italian Language Course for Children
DESCRIPTION:
URL:https://jesmondlibrary.org/event/italian-language-course-for-children-3/2025-06-28/
LOCATION:Sid Chaplin room
END:VEVENT
BEGIN:VEVENT
DTSTART;TZID=Europe/London:20250621T133000
DTEND;TZID=Europe/London:20250621T163000
DTSTAMP:20260421T094955
CREATED:20240622T121025Z
LAST-MODIFIED:20241129T143207Z
UID:10054834-1750512600-1750523400@jesmondlibrary.org
SUMMARY:Italian Language Course for Children
DESCRIPTION:
URL:https://jesmondlibrary.org/event/italian-language-course-for-children-3/2025-06-21/
LOCATION:Sid Chaplin room
END:VEVENT
BEGIN:VEVENT
DTSTART;TZID=Europe/London:20250614T133000
DTEND;TZID=Europe/London:20250614T163000
DTSTAMP:20260421T094955
CREATED:20240622T121025Z
LAST-MODIFIED:20241129T143207Z
UID:10054833-1749907800-1749918600@jesmondlibrary.org
SUMMARY:Italian Language Course for Children
DESCRIPTION:
URL:https://jesmondlibrary.org/event/italian-language-course-for-children-3/2025-06-14/
LOCATION:Sid Chaplin room
END:VEVENT
BEGIN:VEVENT
DTSTART;TZID=Europe/London:20250607T133000
DTEND;TZID=Europe/London:20250607T163000
DTSTAMP:20260421T094955
CREATED:20240622T121025Z
LAST-MODIFIED:20241129T143207Z
UID:10054832-1749303000-1749313800@jesmondlibrary.org
SUMMARY:Italian Language Course for Children
DESCRIPTION:
URL:https://jesmondlibrary.org/event/italian-language-course-for-children-3/2025-06-07/
LOCATION:Sid Chaplin room
END:VEVENT
BEGIN:VEVENT
DTSTART;TZID=Europe/London:20250524T133000
DTEND;TZID=Europe/London:20250524T163000
DTSTAMP:20260421T094955
CREATED:20240622T121025Z
LAST-MODIFIED:20241129T143207Z
UID:10054830-1748093400-1748104200@jesmondlibrary.org
SUMMARY:Italian Language Course for Children
DESCRIPTION:
URL:https://jesmondlibrary.org/event/italian-language-course-for-children-3/2025-05-24/
LOCATION:Sid Chaplin room
END:VEVENT
BEGIN:VEVENT
DTSTART;TZID=Europe/London:20250517T133000
DTEND;TZID=Europe/London:20250517T163000
DTSTAMP:20260421T094955
CREATED:20240622T121025Z
LAST-MODIFIED:20241129T143207Z
UID:10054829-1747488600-1747499400@jesmondlibrary.org
SUMMARY:Italian Language Course for Children
DESCRIPTION:
URL:https://jesmondlibrary.org/event/italian-language-course-for-children-3/2025-05-17/
LOCATION:Sid Chaplin room
END:VEVENT
BEGIN:VEVENT
DTSTART;TZID=Europe/London:20250510T133000
DTEND;TZID=Europe/London:20250510T163000
DTSTAMP:20260421T094955
CREATED:20240622T121025Z
LAST-MODIFIED:20241129T143207Z
UID:10054828-1746883800-1746894600@jesmondlibrary.org
SUMMARY:Italian Language Course for Children
DESCRIPTION:
URL:https://jesmondlibrary.org/event/italian-language-course-for-children-3/2025-05-10/
LOCATION:Sid Chaplin room
END:VEVENT
BEGIN:VEVENT
DTSTART;TZID=Europe/London:20250503T133000
DTEND;TZID=Europe/London:20250503T163000
DTSTAMP:20260421T094955
CREATED:20240622T121025Z
LAST-MODIFIED:20241129T143207Z
UID:10054827-1746279000-1746289800@jesmondlibrary.org
SUMMARY:Italian Language Course for Children
DESCRIPTION:
URL:https://jesmondlibrary.org/event/italian-language-course-for-children-3/2025-05-03/
LOCATION:Sid Chaplin room
END:VEVENT
BEGIN:VEVENT
DTSTART;TZID=Europe/London:20250426T133000
DTEND;TZID=Europe/London:20250426T163000
DTSTAMP:20260421T094955
CREATED:20250703T124035Z
LAST-MODIFIED:20250703T124145Z
UID:10056821-1745674200-1745685000@jesmondlibrary.org
SUMMARY:Italian Language Course for Children
DESCRIPTION:
URL:https://jesmondlibrary.org/event/italian-language-course-for-children-7-2/2025-04-26/
LOCATION:Sid Chaplin room
END:VEVENT
BEGIN:VEVENT
DTSTART;TZID=Europe/London:20250426T133000
DTEND;TZID=Europe/London:20250426T163000
DTSTAMP:20260421T094955
CREATED:20241024T103003Z
LAST-MODIFIED:20250703T123925Z
UID:10056822-1745674200-1745685000@jesmondlibrary.org
SUMMARY:Italian Language Course for Children
DESCRIPTION:
URL:https://jesmondlibrary.org/event/italian-language-course-for-children-7/
LOCATION:Sid Chaplin room
END:VEVENT
BEGIN:VEVENT
DTSTART;TZID=Europe/London:20250405T133000
DTEND;TZID=Europe/London:20250405T163000
DTSTAMP:20260421T094955
CREATED:20240622T121025Z
LAST-MODIFIED:20241129T143207Z
UID:10055889-1743859800-1743870600@jesmondlibrary.org
SUMMARY:Italian Language Course for Children
DESCRIPTION:
URL:https://jesmondlibrary.org/event/italian-language-course-for-children-3/2025-04-05/
LOCATION:Sid Chaplin room
END:VEVENT
BEGIN:VEVENT
DTSTART;TZID=Europe/London:20250329T133000
DTEND;TZID=Europe/London:20250329T163000
DTSTAMP:20260421T094955
CREATED:20240622T121025Z
LAST-MODIFIED:20241129T143207Z
UID:10054822-1743255000-1743265800@jesmondlibrary.org
SUMMARY:Italian Language Course for Children
DESCRIPTION:
URL:https://jesmondlibrary.org/event/italian-language-course-for-children-3/2025-03-29/
LOCATION:Sid Chaplin room
END:VEVENT
BEGIN:VEVENT
DTSTART;TZID=Europe/London:20250322T133000
DTEND;TZID=Europe/London:20250322T163000
DTSTAMP:20260421T094955
CREATED:20240622T121025Z
LAST-MODIFIED:20241129T143207Z
UID:10054821-1742650200-1742661000@jesmondlibrary.org
SUMMARY:Italian Language Course for Children
DESCRIPTION:
URL:https://jesmondlibrary.org/event/italian-language-course-for-children-3/2025-03-22/
LOCATION:Sid Chaplin room
END:VEVENT
BEGIN:VEVENT
DTSTART;TZID=Europe/London:20250315T133000
DTEND;TZID=Europe/London:20250315T163000
DTSTAMP:20260421T094955
CREATED:20240622T121025Z
LAST-MODIFIED:20241129T143207Z
UID:10054820-1742045400-1742056200@jesmondlibrary.org
SUMMARY:Italian Language Course for Children
DESCRIPTION:
URL:https://jesmondlibrary.org/event/italian-language-course-for-children-3/2025-03-15/
LOCATION:Sid Chaplin room
END:VEVENT
BEGIN:VEVENT
DTSTART;TZID=Europe/London:20250308T133000
DTEND;TZID=Europe/London:20250308T163000
DTSTAMP:20260421T094955
CREATED:20240622T121025Z
LAST-MODIFIED:20241129T143207Z
UID:10054819-1741440600-1741451400@jesmondlibrary.org
SUMMARY:Italian Language Course for Children
DESCRIPTION:
URL:https://jesmondlibrary.org/event/italian-language-course-for-children-3/2025-03-08/
LOCATION:Sid Chaplin room
END:VEVENT
BEGIN:VEVENT
DTSTART;TZID=Europe/London:20250301T133000
DTEND;TZID=Europe/London:20250301T163000
DTSTAMP:20260421T094955
CREATED:20240622T121025Z
LAST-MODIFIED:20241129T143207Z
UID:10055863-1740835800-1740846600@jesmondlibrary.org
SUMMARY:Italian Language Course for Children
DESCRIPTION:
URL:https://jesmondlibrary.org/event/italian-language-course-for-children-3/2025-03-01/
LOCATION:Sid Chaplin room
END:VEVENT
BEGIN:VEVENT
DTSTART;TZID=Europe/London:20250215T133000
DTEND;TZID=Europe/London:20250215T163000
DTSTAMP:20260421T094955
CREATED:20240622T121025Z
LAST-MODIFIED:20241129T143207Z
UID:10054816-1739626200-1739637000@jesmondlibrary.org
SUMMARY:Italian Language Course for Children
DESCRIPTION:
URL:https://jesmondlibrary.org/event/italian-language-course-for-children-3/2025-02-15/
LOCATION:Sid Chaplin room
END:VEVENT
BEGIN:VEVENT
DTSTART;TZID=Europe/London:20250208T133000
DTEND;TZID=Europe/London:20250208T163000
DTSTAMP:20260421T094955
CREATED:20240622T121025Z
LAST-MODIFIED:20241129T143207Z
UID:10054815-1739021400-1739032200@jesmondlibrary.org
SUMMARY:Italian Language Course for Children
DESCRIPTION:
URL:https://jesmondlibrary.org/event/italian-language-course-for-children-3/2025-02-08/
LOCATION:Sid Chaplin room
END:VEVENT
BEGIN:VEVENT
DTSTART;TZID=Europe/London:20250201T133000
DTEND;TZID=Europe/London:20250201T163000
DTSTAMP:20260421T094955
CREATED:20240622T121025Z
LAST-MODIFIED:20241129T143207Z
UID:10054814-1738416600-1738427400@jesmondlibrary.org
SUMMARY:Italian Language Course for Children
DESCRIPTION:
URL:https://jesmondlibrary.org/event/italian-language-course-for-children-3/2025-02-01/
LOCATION:Sid Chaplin room
END:VEVENT
BEGIN:VEVENT
DTSTART;TZID=Europe/London:20250125T133000
DTEND;TZID=Europe/London:20250125T163000
DTSTAMP:20260421T094955
CREATED:20240622T121025Z
LAST-MODIFIED:20241129T143207Z
UID:10054813-1737811800-1737822600@jesmondlibrary.org
SUMMARY:Italian Language Course for Children
DESCRIPTION:
URL:https://jesmondlibrary.org/event/italian-language-course-for-children-3/2025-01-25/
LOCATION:Sid Chaplin room
END:VEVENT
BEGIN:VEVENT
DTSTART;TZID=Europe/London:20250118T133000
DTEND;TZID=Europe/London:20250118T163000
DTSTAMP:20260421T094955
CREATED:20240622T121025Z
LAST-MODIFIED:20241129T143207Z
UID:10054812-1737207000-1737217800@jesmondlibrary.org
SUMMARY:Italian Language Course for Children
DESCRIPTION:
URL:https://jesmondlibrary.org/event/italian-language-course-for-children-3/2025-01-18/
LOCATION:Sid Chaplin room
END:VEVENT
BEGIN:VEVENT
DTSTART;TZID=Europe/London:20250111T133000
DTEND;TZID=Europe/London:20250111T163000
DTSTAMP:20260421T094955
CREATED:20240622T121025Z
LAST-MODIFIED:20241129T143207Z
UID:10054811-1736602200-1736613000@jesmondlibrary.org
SUMMARY:Italian Language Course for Children
DESCRIPTION:
URL:https://jesmondlibrary.org/event/italian-language-course-for-children-3/2025-01-11/
LOCATION:Sid Chaplin room
END:VEVENT
BEGIN:VEVENT
DTSTART;TZID=Europe/London:20241214T133000
DTEND;TZID=Europe/London:20241214T163000
DTSTAMP:20260421T094955
CREATED:20240622T121025Z
LAST-MODIFIED:20241129T143207Z
UID:10054807-1734183000-1734193800@jesmondlibrary.org
SUMMARY:Italian Language Course for Children
DESCRIPTION:
URL:https://jesmondlibrary.org/event/italian-language-course-for-children-3/2024-12-14/
LOCATION:Sid Chaplin room
END:VEVENT
BEGIN:VEVENT
DTSTART;TZID=Europe/London:20241207T133000
DTEND;TZID=Europe/London:20241207T163000
DTSTAMP:20260421T094955
CREATED:20240622T121025Z
LAST-MODIFIED:20241129T143207Z
UID:10054806-1733578200-1733589000@jesmondlibrary.org
SUMMARY:Italian Language Course for Children
DESCRIPTION:
URL:https://jesmondlibrary.org/event/italian-language-course-for-children-3/2024-12-07/
LOCATION:Sid Chaplin room
END:VEVENT
BEGIN:VEVENT
DTSTART;TZID=Europe/London:20241130T133000
DTEND;TZID=Europe/London:20241130T163000
DTSTAMP:20260421T094955
CREATED:20240622T121025Z
LAST-MODIFIED:20241129T143207Z
UID:10054805-1732973400-1732984200@jesmondlibrary.org
SUMMARY:Italian Language Course for Children
DESCRIPTION:
URL:https://jesmondlibrary.org/event/italian-language-course-for-children-3/2024-11-30/
LOCATION:Sid Chaplin room
END:VEVENT
BEGIN:VEVENT
DTSTART;TZID=Europe/London:20241123T133000
DTEND;TZID=Europe/London:20241123T163000
DTSTAMP:20260421T094955
CREATED:20240622T121025Z
LAST-MODIFIED:20241129T143207Z
UID:10054804-1732368600-1732379400@jesmondlibrary.org
SUMMARY:Italian Language Course for Children
DESCRIPTION:
URL:https://jesmondlibrary.org/event/italian-language-course-for-children-3/2024-11-23/
LOCATION:Sid Chaplin room
END:VEVENT
BEGIN:VEVENT
DTSTART;TZID=Europe/London:20241116T133000
DTEND;TZID=Europe/London:20241116T163000
DTSTAMP:20260421T094955
CREATED:20240622T121025Z
LAST-MODIFIED:20241129T143207Z
UID:10054803-1731763800-1731774600@jesmondlibrary.org
SUMMARY:Italian Language Course for Children
DESCRIPTION:
URL:https://jesmondlibrary.org/event/italian-language-course-for-children-3/2024-11-16/
LOCATION:Sid Chaplin room
END:VEVENT
BEGIN:VEVENT
DTSTART;TZID=Europe/London:20241026T133000
DTEND;TZID=Europe/London:20241026T163000
DTSTAMP:20260421T094955
CREATED:20240622T121025Z
LAST-MODIFIED:20241129T143207Z
UID:10054800-1729949400-1729960200@jesmondlibrary.org
SUMMARY:Italian Language Course for Children
DESCRIPTION:
URL:https://jesmondlibrary.org/event/italian-language-course-for-children-3/2024-10-26/
LOCATION:Sid Chaplin room
END:VEVENT
BEGIN:VEVENT
DTSTART;TZID=Europe/London:20241019T133000
DTEND;TZID=Europe/London:20241019T163000
DTSTAMP:20260421T094955
CREATED:20240622T121025Z
LAST-MODIFIED:20241129T143207Z
UID:10054799-1729344600-1729355400@jesmondlibrary.org
SUMMARY:Italian Language Course for Children
DESCRIPTION:
URL:https://jesmondlibrary.org/event/italian-language-course-for-children-3/2024-10-19/
LOCATION:Sid Chaplin room
END:VEVENT
END:VCALENDAR