BEGIN:VCALENDAR
VERSION:2.0
PRODID:-//Jesmond Library - ECPv6.15.17.1//NONSGML v1.0//EN
CALSCALE:GREGORIAN
METHOD:PUBLISH
X-ORIGINAL-URL:https://jesmondlibrary.org
X-WR-CALDESC:Events for Jesmond Library
REFRESH-INTERVAL;VALUE=DURATION:PT1H
X-Robots-Tag:noindex
X-PUBLISHED-TTL:PT1H
BEGIN:VTIMEZONE
TZID:Europe/London
BEGIN:DAYLIGHT
TZOFFSETFROM:+0000
TZOFFSETTO:+0100
TZNAME:BST
DTSTART:20230326T010000
END:DAYLIGHT
BEGIN:STANDARD
TZOFFSETFROM:+0100
TZOFFSETTO:+0000
TZNAME:GMT
DTSTART:20231029T010000
END:STANDARD
BEGIN:DAYLIGHT
TZOFFSETFROM:+0000
TZOFFSETTO:+0100
TZNAME:BST
DTSTART:20240331T010000
END:DAYLIGHT
BEGIN:STANDARD
TZOFFSETFROM:+0100
TZOFFSETTO:+0000
TZNAME:GMT
DTSTART:20241027T010000
END:STANDARD
BEGIN:DAYLIGHT
TZOFFSETFROM:+0000
TZOFFSETTO:+0100
TZNAME:BST
DTSTART:20250330T010000
END:DAYLIGHT
BEGIN:STANDARD
TZOFFSETFROM:+0100
TZOFFSETTO:+0000
TZNAME:GMT
DTSTART:20251026T010000
END:STANDARD
BEGIN:DAYLIGHT
TZOFFSETFROM:+0000
TZOFFSETTO:+0100
TZNAME:BST
DTSTART:20260329T010000
END:DAYLIGHT
BEGIN:STANDARD
TZOFFSETFROM:+0100
TZOFFSETTO:+0000
TZNAME:GMT
DTSTART:20261025T010000
END:STANDARD
BEGIN:DAYLIGHT
TZOFFSETFROM:+0000
TZOFFSETTO:+0100
TZNAME:BST
DTSTART:20270328T010000
END:DAYLIGHT
BEGIN:STANDARD
TZOFFSETFROM:+0100
TZOFFSETTO:+0000
TZNAME:GMT
DTSTART:20271031T010000
END:STANDARD
END:VTIMEZONE
BEGIN:VEVENT
DTSTART;TZID=Europe/London:20260303T190000
DTEND;TZID=Europe/London:20260303T203000
DTSTAMP:20260422T165434
CREATED:20260107T101854Z
LAST-MODIFIED:20260107T101854Z
UID:10058758-1772564400-1772569800@jesmondlibrary.org
SUMMARY:Jesmond Community Forum meeting
DESCRIPTION:
URL:https://jesmondlibrary.org/event/jesmond-community-forum-meeting-6/
LOCATION:Main Room
END:VEVENT
BEGIN:VEVENT
DTSTART;TZID=Europe/London:20260113T190000
DTEND;TZID=Europe/London:20260113T203000
DTSTAMP:20260422T165434
CREATED:20260107T101404Z
LAST-MODIFIED:20260107T101404Z
UID:10058757-1768330800-1768336200@jesmondlibrary.org
SUMMARY:Jesmond Community Forum meeting
DESCRIPTION:
URL:https://jesmondlibrary.org/event/jesmond-community-forum-meeting-2/
LOCATION:Main Room
END:VEVENT
BEGIN:VEVENT
DTSTART;TZID=Europe/London:20240910T180000
DTEND;TZID=Europe/London:20240910T213000
DTSTAMP:20260422T165434
CREATED:20240625T105320Z
LAST-MODIFIED:20240628T100457Z
UID:10054607-1725991200-1726003800@jesmondlibrary.org
SUMMARY:Jesmond Community Forum AGM
DESCRIPTION:
URL:https://jesmondlibrary.org/event/jesmond-community-forum-agm/
LOCATION:Main Room
END:VEVENT
BEGIN:VEVENT
DTSTART;TZID=Europe/London:20240611T190000
DTEND;TZID=Europe/London:20240611T203000
DTSTAMP:20260422T165434
CREATED:20240508T092900Z
LAST-MODIFIED:20240508T093314Z
UID:10054207-1718132400-1718137800@jesmondlibrary.org
SUMMARY:Jesmond Community Forum meeting
DESCRIPTION:
URL:https://jesmondlibrary.org/event/jesmond-labour-party-meeting/
LOCATION:Main Room
END:VEVENT
END:VCALENDAR