BEGIN:VCALENDAR
VERSION:2.0
PRODID:-//Jesmond Library - ECPv6.15.17.1//NONSGML v1.0//EN
CALSCALE:GREGORIAN
METHOD:PUBLISH
X-WR-CALNAME:Jesmond Library
X-ORIGINAL-URL:https://jesmondlibrary.org
X-WR-CALDESC:Events for Jesmond Library
REFRESH-INTERVAL;VALUE=DURATION:PT1H
X-Robots-Tag:noindex
X-PUBLISHED-TTL:PT1H
BEGIN:VTIMEZONE
TZID:Europe/London
BEGIN:DAYLIGHT
TZOFFSETFROM:+0000
TZOFFSETTO:+0100
TZNAME:BST
DTSTART:20230326T010000
END:DAYLIGHT
BEGIN:STANDARD
TZOFFSETFROM:+0100
TZOFFSETTO:+0000
TZNAME:GMT
DTSTART:20231029T010000
END:STANDARD
BEGIN:DAYLIGHT
TZOFFSETFROM:+0000
TZOFFSETTO:+0100
TZNAME:BST
DTSTART:20240331T010000
END:DAYLIGHT
BEGIN:STANDARD
TZOFFSETFROM:+0100
TZOFFSETTO:+0000
TZNAME:GMT
DTSTART:20241027T010000
END:STANDARD
BEGIN:DAYLIGHT
TZOFFSETFROM:+0000
TZOFFSETTO:+0100
TZNAME:BST
DTSTART:20250330T010000
END:DAYLIGHT
BEGIN:STANDARD
TZOFFSETFROM:+0100
TZOFFSETTO:+0000
TZNAME:GMT
DTSTART:20251026T010000
END:STANDARD
BEGIN:DAYLIGHT
TZOFFSETFROM:+0000
TZOFFSETTO:+0100
TZNAME:BST
DTSTART:20260329T010000
END:DAYLIGHT
BEGIN:STANDARD
TZOFFSETFROM:+0100
TZOFFSETTO:+0000
TZNAME:GMT
DTSTART:20261025T010000
END:STANDARD
END:VTIMEZONE
BEGIN:VEVENT
DTSTART;TZID=Europe/London:20250212T123000
DTEND;TZID=Europe/London:20250212T170000
DTSTAMP:20260425T153747
CREATED:20240209T114315Z
LAST-MODIFIED:20240520T163336Z
UID:10053694-1739363400-1739379600@jesmondlibrary.org
SUMMARY:Social Housing Resident Training 08: Options for resident control
DESCRIPTION:Community Libraries Training
URL:https://jesmondlibrary.org/event/community-libraries-training-7/
LOCATION:Main Room & Catherine Cookson Room
END:VEVENT
BEGIN:VEVENT
DTSTART;TZID=Europe/London:20250115T123000
DTEND;TZID=Europe/London:20250115T170000
DTSTAMP:20260425T153747
CREATED:20240209T114225Z
LAST-MODIFIED:20240520T163222Z
UID:10053693-1736944200-1736960400@jesmondlibrary.org
SUMMARY:Social Housing Resident Training 07: Understanding Landlord Financial Models
DESCRIPTION:
URL:https://jesmondlibrary.org/event/community-libraries-training-6/
LOCATION:Main Room & Catherine Cookson Room
END:VEVENT
BEGIN:VEVENT
DTSTART;TZID=Europe/London:20241113T123000
DTEND;TZID=Europe/London:20241113T170000
DTSTAMP:20260425T153747
CREATED:20240209T114528Z
LAST-MODIFIED:20240520T163045Z
UID:10053695-1731501000-1731517200@jesmondlibrary.org
SUMMARY:Social Housing Resident Training 06: Social Housing regulatory requirements
DESCRIPTION:
URL:https://jesmondlibrary.org/event/community-libraries-training-8/
LOCATION:Main Room & Catherine Cookson Room
END:VEVENT
BEGIN:VEVENT
DTSTART;TZID=Europe/London:20241016T123000
DTEND;TZID=Europe/London:20241016T170000
DTSTAMP:20260425T153747
CREATED:20240209T114027Z
LAST-MODIFIED:20240520T163609Z
UID:10053692-1729081800-1729098000@jesmondlibrary.org
SUMMARY:Social Housing Resident Training 05: Social Housing legal requirements
DESCRIPTION:
URL:https://jesmondlibrary.org/event/community-libraries-training-5/
LOCATION:Main Room & Catherine Cookson Room
END:VEVENT
BEGIN:VEVENT
DTSTART;TZID=Europe/London:20240918T123000
DTEND;TZID=Europe/London:20240918T170000
DTSTAMP:20260425T153747
CREATED:20240209T113933Z
LAST-MODIFIED:20240520T162842Z
UID:10053691-1726662600-1726678800@jesmondlibrary.org
SUMMARY:Social Housing Resident Training 04: How to run an effective residents' association
DESCRIPTION:
URL:https://jesmondlibrary.org/event/community-libraries-training-4/
LOCATION:Main Room & Catherine Cookson Room
END:VEVENT
BEGIN:VEVENT
DTSTART;TZID=Europe/London:20240717T123000
DTEND;TZID=Europe/London:20240717T170000
DTSTAMP:20260425T153747
CREATED:20240209T113847Z
LAST-MODIFIED:20240520T162657Z
UID:10053690-1721219400-1721235600@jesmondlibrary.org
SUMMARY:Social Housing Resident Training 03: Resident Panels
DESCRIPTION:
URL:https://jesmondlibrary.org/event/community-libraries-training-3/
LOCATION:Main Room & Catherine Cookson Room
END:VEVENT
BEGIN:VEVENT
DTSTART;TZID=Europe/London:20240619T123000
DTEND;TZID=Europe/London:20240619T170000
DTSTAMP:20260425T153747
CREATED:20240209T113233Z
LAST-MODIFIED:20240520T162524Z
UID:10053689-1718800200-1718816400@jesmondlibrary.org
SUMMARY:Social Housing Resident Training 02:  Equality\, Diversity & Inclusion
DESCRIPTION:
URL:https://jesmondlibrary.org/event/community-libraries-training-2/
LOCATION:Main Room & Catherine Cookson Room
END:VEVENT
BEGIN:VEVENT
DTSTART;TZID=Europe/London:20240522T123000
DTEND;TZID=Europe/London:20240522T170000
DTSTAMP:20260425T153747
CREATED:20240209T113020Z
LAST-MODIFIED:20240520T163742Z
UID:10053688-1716381000-1716397200@jesmondlibrary.org
SUMMARY:Social Housing Resident Training 01: Know your rights to engage & be heard
DESCRIPTION:
URL:https://jesmondlibrary.org/event/community-libraries-training/
LOCATION:Main Room & Catherine Cookson Room
END:VEVENT
END:VCALENDAR