BEGIN:VCALENDAR
VERSION:2.0
PRODID:-//Jesmond Library - ECPv6.15.17.1//NONSGML v1.0//EN
CALSCALE:GREGORIAN
METHOD:PUBLISH
X-WR-CALNAME:Jesmond Library
X-ORIGINAL-URL:https://jesmondlibrary.org
X-WR-CALDESC:Events for Jesmond Library
REFRESH-INTERVAL;VALUE=DURATION:PT1H
X-Robots-Tag:noindex
X-PUBLISHED-TTL:PT1H
BEGIN:VTIMEZONE
TZID:Europe/London
BEGIN:DAYLIGHT
TZOFFSETFROM:+0000
TZOFFSETTO:+0100
TZNAME:BST
DTSTART:20240331T010000
END:DAYLIGHT
BEGIN:STANDARD
TZOFFSETFROM:+0100
TZOFFSETTO:+0000
TZNAME:GMT
DTSTART:20241027T010000
END:STANDARD
BEGIN:DAYLIGHT
TZOFFSETFROM:+0000
TZOFFSETTO:+0100
TZNAME:BST
DTSTART:20250330T010000
END:DAYLIGHT
BEGIN:STANDARD
TZOFFSETFROM:+0100
TZOFFSETTO:+0000
TZNAME:GMT
DTSTART:20251026T010000
END:STANDARD
BEGIN:DAYLIGHT
TZOFFSETFROM:+0000
TZOFFSETTO:+0100
TZNAME:BST
DTSTART:20260329T010000
END:DAYLIGHT
BEGIN:STANDARD
TZOFFSETFROM:+0100
TZOFFSETTO:+0000
TZNAME:GMT
DTSTART:20261025T010000
END:STANDARD
BEGIN:DAYLIGHT
TZOFFSETFROM:+0000
TZOFFSETTO:+0100
TZNAME:BST
DTSTART:20270328T010000
END:DAYLIGHT
BEGIN:STANDARD
TZOFFSETFROM:+0100
TZOFFSETTO:+0000
TZNAME:GMT
DTSTART:20271031T010000
END:STANDARD
END:VTIMEZONE
BEGIN:VEVENT
DTSTART;TZID=Europe/London:20260402T100000
DTEND;TZID=Europe/London:20260402T120000
DTSTAMP:20260421T094729
CREATED:20251212T102014Z
LAST-MODIFIED:20251212T102014Z
UID:10058725-1775124000-1775131200@jesmondlibrary.org
SUMMARY:Private French conversation group
DESCRIPTION:
URL:https://jesmondlibrary.org/event/private-french-conversation-group/2026-04-02/
LOCATION:Catherine Cookson Room\, Jesmond Library\, Newcastle upon Tyne\, NE2 2DL\, United Kingdom
GEO:54.9932456;-1.606461
X-APPLE-STRUCTURED-LOCATION;VALUE=URI;X-ADDRESS=Catherine Cookson Room Jesmond Library Newcastle upon Tyne NE2 2DL United Kingdom;X-APPLE-RADIUS=500;X-TITLE=Jesmond Library:geo:-1.606461,54.9932456
END:VEVENT
BEGIN:VEVENT
DTSTART;TZID=Europe/London:20260326T100000
DTEND;TZID=Europe/London:20260326T120000
DTSTAMP:20260421T094729
CREATED:20251212T102014Z
LAST-MODIFIED:20251212T102014Z
UID:10058724-1774519200-1774526400@jesmondlibrary.org
SUMMARY:Private French conversation group
DESCRIPTION:
URL:https://jesmondlibrary.org/event/private-french-conversation-group/2026-03-26/
LOCATION:Catherine Cookson Room\, Jesmond Library\, Newcastle upon Tyne\, NE2 2DL\, United Kingdom
GEO:54.9932456;-1.606461
X-APPLE-STRUCTURED-LOCATION;VALUE=URI;X-ADDRESS=Catherine Cookson Room Jesmond Library Newcastle upon Tyne NE2 2DL United Kingdom;X-APPLE-RADIUS=500;X-TITLE=Jesmond Library:geo:-1.606461,54.9932456
END:VEVENT
BEGIN:VEVENT
DTSTART;TZID=Europe/London:20260319T100000
DTEND;TZID=Europe/London:20260319T120000
DTSTAMP:20260421T094729
CREATED:20251212T102014Z
LAST-MODIFIED:20251212T102014Z
UID:10058723-1773914400-1773921600@jesmondlibrary.org
SUMMARY:Private French conversation group
DESCRIPTION:
URL:https://jesmondlibrary.org/event/private-french-conversation-group/2026-03-19/
LOCATION:Catherine Cookson Room\, Jesmond Library\, Newcastle upon Tyne\, NE2 2DL\, United Kingdom
GEO:54.9932456;-1.606461
X-APPLE-STRUCTURED-LOCATION;VALUE=URI;X-ADDRESS=Catherine Cookson Room Jesmond Library Newcastle upon Tyne NE2 2DL United Kingdom;X-APPLE-RADIUS=500;X-TITLE=Jesmond Library:geo:-1.606461,54.9932456
END:VEVENT
BEGIN:VEVENT
DTSTART;TZID=Europe/London:20260305T100000
DTEND;TZID=Europe/London:20260305T120000
DTSTAMP:20260421T094729
CREATED:20251212T102014Z
LAST-MODIFIED:20251212T102014Z
UID:10058722-1772704800-1772712000@jesmondlibrary.org
SUMMARY:Private French conversation group
DESCRIPTION:
URL:https://jesmondlibrary.org/event/private-french-conversation-group/2026-03-05/
LOCATION:Catherine Cookson Room\, Jesmond Library\, Newcastle upon Tyne\, NE2 2DL\, United Kingdom
GEO:54.9932456;-1.606461
X-APPLE-STRUCTURED-LOCATION;VALUE=URI;X-ADDRESS=Catherine Cookson Room Jesmond Library Newcastle upon Tyne NE2 2DL United Kingdom;X-APPLE-RADIUS=500;X-TITLE=Jesmond Library:geo:-1.606461,54.9932456
END:VEVENT
BEGIN:VEVENT
DTSTART;TZID=Europe/London:20260226T100000
DTEND;TZID=Europe/London:20260226T120000
DTSTAMP:20260421T094729
CREATED:20251212T102014Z
LAST-MODIFIED:20251212T102014Z
UID:10058721-1772100000-1772107200@jesmondlibrary.org
SUMMARY:Private French conversation group
DESCRIPTION:
URL:https://jesmondlibrary.org/event/private-french-conversation-group/2026-02-26/
LOCATION:Catherine Cookson Room\, Jesmond Library\, Newcastle upon Tyne\, NE2 2DL\, United Kingdom
GEO:54.9932456;-1.606461
X-APPLE-STRUCTURED-LOCATION;VALUE=URI;X-ADDRESS=Catherine Cookson Room Jesmond Library Newcastle upon Tyne NE2 2DL United Kingdom;X-APPLE-RADIUS=500;X-TITLE=Jesmond Library:geo:-1.606461,54.9932456
END:VEVENT
BEGIN:VEVENT
DTSTART;TZID=Europe/London:20260219T100000
DTEND;TZID=Europe/London:20260219T120000
DTSTAMP:20260421T094729
CREATED:20251212T102014Z
LAST-MODIFIED:20251212T102014Z
UID:10058720-1771495200-1771502400@jesmondlibrary.org
SUMMARY:Private French conversation group
DESCRIPTION:
URL:https://jesmondlibrary.org/event/private-french-conversation-group/2026-02-19/
LOCATION:Catherine Cookson Room\, Jesmond Library\, Newcastle upon Tyne\, NE2 2DL\, United Kingdom
GEO:54.9932456;-1.606461
X-APPLE-STRUCTURED-LOCATION;VALUE=URI;X-ADDRESS=Catherine Cookson Room Jesmond Library Newcastle upon Tyne NE2 2DL United Kingdom;X-APPLE-RADIUS=500;X-TITLE=Jesmond Library:geo:-1.606461,54.9932456
END:VEVENT
BEGIN:VEVENT
DTSTART;TZID=Europe/London:20260212T100000
DTEND;TZID=Europe/London:20260212T120000
DTSTAMP:20260421T094729
CREATED:20251212T102014Z
LAST-MODIFIED:20251212T102014Z
UID:10058719-1770890400-1770897600@jesmondlibrary.org
SUMMARY:Private French conversation group
DESCRIPTION:
URL:https://jesmondlibrary.org/event/private-french-conversation-group/2026-02-12/
LOCATION:Catherine Cookson Room\, Jesmond Library\, Newcastle upon Tyne\, NE2 2DL\, United Kingdom
GEO:54.9932456;-1.606461
X-APPLE-STRUCTURED-LOCATION;VALUE=URI;X-ADDRESS=Catherine Cookson Room Jesmond Library Newcastle upon Tyne NE2 2DL United Kingdom;X-APPLE-RADIUS=500;X-TITLE=Jesmond Library:geo:-1.606461,54.9932456
END:VEVENT
BEGIN:VEVENT
DTSTART;TZID=Europe/London:20260205T100000
DTEND;TZID=Europe/London:20260205T120000
DTSTAMP:20260421T094729
CREATED:20251212T102014Z
LAST-MODIFIED:20251212T102014Z
UID:10058718-1770285600-1770292800@jesmondlibrary.org
SUMMARY:Private French conversation group
DESCRIPTION:
URL:https://jesmondlibrary.org/event/private-french-conversation-group/2026-02-05/
LOCATION:Catherine Cookson Room\, Jesmond Library\, Newcastle upon Tyne\, NE2 2DL\, United Kingdom
GEO:54.9932456;-1.606461
X-APPLE-STRUCTURED-LOCATION;VALUE=URI;X-ADDRESS=Catherine Cookson Room Jesmond Library Newcastle upon Tyne NE2 2DL United Kingdom;X-APPLE-RADIUS=500;X-TITLE=Jesmond Library:geo:-1.606461,54.9932456
END:VEVENT
BEGIN:VEVENT
DTSTART;TZID=Europe/London:20260129T100000
DTEND;TZID=Europe/London:20260129T120000
DTSTAMP:20260421T094729
CREATED:20251212T102014Z
LAST-MODIFIED:20251212T102014Z
UID:10058717-1769680800-1769688000@jesmondlibrary.org
SUMMARY:Private French conversation group
DESCRIPTION:
URL:https://jesmondlibrary.org/event/private-french-conversation-group/2026-01-29/
LOCATION:Catherine Cookson Room\, Jesmond Library\, Newcastle upon Tyne\, NE2 2DL\, United Kingdom
GEO:54.9932456;-1.606461
X-APPLE-STRUCTURED-LOCATION;VALUE=URI;X-ADDRESS=Catherine Cookson Room Jesmond Library Newcastle upon Tyne NE2 2DL United Kingdom;X-APPLE-RADIUS=500;X-TITLE=Jesmond Library:geo:-1.606461,54.9932456
END:VEVENT
BEGIN:VEVENT
DTSTART;TZID=Europe/London:20260122T100000
DTEND;TZID=Europe/London:20260122T120000
DTSTAMP:20260421T094729
CREATED:20251212T102014Z
LAST-MODIFIED:20251212T102014Z
UID:10058716-1769076000-1769083200@jesmondlibrary.org
SUMMARY:Private French conversation group
DESCRIPTION:
URL:https://jesmondlibrary.org/event/private-french-conversation-group/2026-01-22/
LOCATION:Catherine Cookson Room\, Jesmond Library\, Newcastle upon Tyne\, NE2 2DL\, United Kingdom
GEO:54.9932456;-1.606461
X-APPLE-STRUCTURED-LOCATION;VALUE=URI;X-ADDRESS=Catherine Cookson Room Jesmond Library Newcastle upon Tyne NE2 2DL United Kingdom;X-APPLE-RADIUS=500;X-TITLE=Jesmond Library:geo:-1.606461,54.9932456
END:VEVENT
BEGIN:VEVENT
DTSTART;TZID=Europe/London:20260115T100000
DTEND;TZID=Europe/London:20260115T120000
DTSTAMP:20260421T094730
CREATED:20251212T102014Z
LAST-MODIFIED:20251212T102014Z
UID:10058715-1768471200-1768478400@jesmondlibrary.org
SUMMARY:Private French conversation group
DESCRIPTION:
URL:https://jesmondlibrary.org/event/private-french-conversation-group/2026-01-15/
LOCATION:Catherine Cookson Room\, Jesmond Library\, Newcastle upon Tyne\, NE2 2DL\, United Kingdom
GEO:54.9932456;-1.606461
X-APPLE-STRUCTURED-LOCATION;VALUE=URI;X-ADDRESS=Catherine Cookson Room Jesmond Library Newcastle upon Tyne NE2 2DL United Kingdom;X-APPLE-RADIUS=500;X-TITLE=Jesmond Library:geo:-1.606461,54.9932456
END:VEVENT
BEGIN:VEVENT
DTSTART;TZID=Europe/London:20251218T100000
DTEND;TZID=Europe/London:20251218T120000
DTSTAMP:20260421T094730
CREATED:20250624T104505Z
LAST-MODIFIED:20250929T101425Z
UID:10057020-1766052000-1766059200@jesmondlibrary.org
SUMMARY:Private French conversation group (downstairs)
DESCRIPTION:
URL:https://jesmondlibrary.org/event/private-french-conversation/2025-12-18/
LOCATION:Catherine Cookson Room\, Jesmond Library\, Newcastle upon Tyne\, NE2 2DL\, United Kingdom
GEO:54.9932456;-1.606461
X-APPLE-STRUCTURED-LOCATION;VALUE=URI;X-ADDRESS=Catherine Cookson Room Jesmond Library Newcastle upon Tyne NE2 2DL United Kingdom;X-APPLE-RADIUS=500;X-TITLE=Jesmond Library:geo:-1.606461,54.9932456
END:VEVENT
BEGIN:VEVENT
DTSTART;TZID=Europe/London:20251211T100000
DTEND;TZID=Europe/London:20251211T120000
DTSTAMP:20260421T094730
CREATED:20250624T104505Z
LAST-MODIFIED:20250929T101425Z
UID:10057019-1765447200-1765454400@jesmondlibrary.org
SUMMARY:Private French conversation group (downstairs)
DESCRIPTION:
URL:https://jesmondlibrary.org/event/private-french-conversation/2025-12-11/
LOCATION:Catherine Cookson Room\, Jesmond Library\, Newcastle upon Tyne\, NE2 2DL\, United Kingdom
GEO:54.9932456;-1.606461
X-APPLE-STRUCTURED-LOCATION;VALUE=URI;X-ADDRESS=Catherine Cookson Room Jesmond Library Newcastle upon Tyne NE2 2DL United Kingdom;X-APPLE-RADIUS=500;X-TITLE=Jesmond Library:geo:-1.606461,54.9932456
END:VEVENT
BEGIN:VEVENT
DTSTART;TZID=Europe/London:20251204T100000
DTEND;TZID=Europe/London:20251204T120000
DTSTAMP:20260421T094730
CREATED:20250624T104505Z
LAST-MODIFIED:20250929T101425Z
UID:10056778-1764842400-1764849600@jesmondlibrary.org
SUMMARY:Private French conversation group (downstairs)
DESCRIPTION:
URL:https://jesmondlibrary.org/event/private-french-conversation/2025-12-04/
LOCATION:Catherine Cookson Room\, Jesmond Library\, Newcastle upon Tyne\, NE2 2DL\, United Kingdom
GEO:54.9932456;-1.606461
X-APPLE-STRUCTURED-LOCATION;VALUE=URI;X-ADDRESS=Catherine Cookson Room Jesmond Library Newcastle upon Tyne NE2 2DL United Kingdom;X-APPLE-RADIUS=500;X-TITLE=Jesmond Library:geo:-1.606461,54.9932456
END:VEVENT
BEGIN:VEVENT
DTSTART;TZID=Europe/London:20251127T100000
DTEND;TZID=Europe/London:20251127T120000
DTSTAMP:20260421T094730
CREATED:20250624T104505Z
LAST-MODIFIED:20250929T101425Z
UID:10056777-1764237600-1764244800@jesmondlibrary.org
SUMMARY:Private French conversation group (downstairs)
DESCRIPTION:
URL:https://jesmondlibrary.org/event/private-french-conversation/2025-11-27/
LOCATION:Catherine Cookson Room\, Jesmond Library\, Newcastle upon Tyne\, NE2 2DL\, United Kingdom
GEO:54.9932456;-1.606461
X-APPLE-STRUCTURED-LOCATION;VALUE=URI;X-ADDRESS=Catherine Cookson Room Jesmond Library Newcastle upon Tyne NE2 2DL United Kingdom;X-APPLE-RADIUS=500;X-TITLE=Jesmond Library:geo:-1.606461,54.9932456
END:VEVENT
BEGIN:VEVENT
DTSTART;TZID=Europe/London:20251120T100000
DTEND;TZID=Europe/London:20251120T120000
DTSTAMP:20260421T094730
CREATED:20250624T104505Z
LAST-MODIFIED:20250929T101425Z
UID:10056776-1763632800-1763640000@jesmondlibrary.org
SUMMARY:Private French conversation group (downstairs)
DESCRIPTION:
URL:https://jesmondlibrary.org/event/private-french-conversation/2025-11-20/
LOCATION:Catherine Cookson Room\, Jesmond Library\, Newcastle upon Tyne\, NE2 2DL\, United Kingdom
GEO:54.9932456;-1.606461
X-APPLE-STRUCTURED-LOCATION;VALUE=URI;X-ADDRESS=Catherine Cookson Room Jesmond Library Newcastle upon Tyne NE2 2DL United Kingdom;X-APPLE-RADIUS=500;X-TITLE=Jesmond Library:geo:-1.606461,54.9932456
END:VEVENT
BEGIN:VEVENT
DTSTART;TZID=Europe/London:20251115T180000
DTEND;TZID=Europe/London:20251115T220000
DTSTAMP:20260421T094730
CREATED:20250710T140339Z
LAST-MODIFIED:20251003T090118Z
UID:10056863-1763229600-1763244000@jesmondlibrary.org
SUMMARY:Les Freres Frangipane - French comedy fund-raising event
DESCRIPTION:
URL:https://jesmondlibrary.org/event/frere-frangipane-fund-raising-event-tbc/
LOCATION:Main Room
ATTACH;FMTTYPE=image/jpeg:https://jesmondlibrary.org/wp-content/uploads/2025/07/FF@Jesmond-Library15-11-25-final.-1.jpg
END:VEVENT
BEGIN:VEVENT
DTSTART;TZID=Europe/London:20251113T100000
DTEND;TZID=Europe/London:20251113T120000
DTSTAMP:20260421T094730
CREATED:20250624T104505Z
LAST-MODIFIED:20250929T101425Z
UID:10056775-1763028000-1763035200@jesmondlibrary.org
SUMMARY:Private French conversation group (downstairs)
DESCRIPTION:
URL:https://jesmondlibrary.org/event/private-french-conversation/2025-11-13/
LOCATION:Catherine Cookson Room\, Jesmond Library\, Newcastle upon Tyne\, NE2 2DL\, United Kingdom
GEO:54.9932456;-1.606461
X-APPLE-STRUCTURED-LOCATION;VALUE=URI;X-ADDRESS=Catherine Cookson Room Jesmond Library Newcastle upon Tyne NE2 2DL United Kingdom;X-APPLE-RADIUS=500;X-TITLE=Jesmond Library:geo:-1.606461,54.9932456
END:VEVENT
BEGIN:VEVENT
DTSTART;TZID=Europe/London:20251106T100000
DTEND;TZID=Europe/London:20251106T120000
DTSTAMP:20260421T094730
CREATED:20250624T104505Z
LAST-MODIFIED:20250929T101425Z
UID:10056774-1762423200-1762430400@jesmondlibrary.org
SUMMARY:Private French conversation group (downstairs)
DESCRIPTION:
URL:https://jesmondlibrary.org/event/private-french-conversation/2025-11-06/
LOCATION:Catherine Cookson Room\, Jesmond Library\, Newcastle upon Tyne\, NE2 2DL\, United Kingdom
GEO:54.9932456;-1.606461
X-APPLE-STRUCTURED-LOCATION;VALUE=URI;X-ADDRESS=Catherine Cookson Room Jesmond Library Newcastle upon Tyne NE2 2DL United Kingdom;X-APPLE-RADIUS=500;X-TITLE=Jesmond Library:geo:-1.606461,54.9932456
END:VEVENT
BEGIN:VEVENT
DTSTART;TZID=Europe/London:20251030T100000
DTEND;TZID=Europe/London:20251030T120000
DTSTAMP:20260421T094730
CREATED:20250624T104505Z
LAST-MODIFIED:20250929T101425Z
UID:10056773-1761818400-1761825600@jesmondlibrary.org
SUMMARY:Private French conversation group (downstairs)
DESCRIPTION:
URL:https://jesmondlibrary.org/event/private-french-conversation/2025-10-30/
LOCATION:Catherine Cookson Room\, Jesmond Library\, Newcastle upon Tyne\, NE2 2DL\, United Kingdom
GEO:54.9932456;-1.606461
X-APPLE-STRUCTURED-LOCATION;VALUE=URI;X-ADDRESS=Catherine Cookson Room Jesmond Library Newcastle upon Tyne NE2 2DL United Kingdom;X-APPLE-RADIUS=500;X-TITLE=Jesmond Library:geo:-1.606461,54.9932456
END:VEVENT
BEGIN:VEVENT
DTSTART;TZID=Europe/London:20251023T100000
DTEND;TZID=Europe/London:20251023T120000
DTSTAMP:20260421T094730
CREATED:20250624T104505Z
LAST-MODIFIED:20250929T101425Z
UID:10056772-1761213600-1761220800@jesmondlibrary.org
SUMMARY:Private French conversation group (downstairs)
DESCRIPTION:
URL:https://jesmondlibrary.org/event/private-french-conversation/2025-10-23/
LOCATION:Catherine Cookson Room\, Jesmond Library\, Newcastle upon Tyne\, NE2 2DL\, United Kingdom
GEO:54.9932456;-1.606461
X-APPLE-STRUCTURED-LOCATION;VALUE=URI;X-ADDRESS=Catherine Cookson Room Jesmond Library Newcastle upon Tyne NE2 2DL United Kingdom;X-APPLE-RADIUS=500;X-TITLE=Jesmond Library:geo:-1.606461,54.9932456
END:VEVENT
BEGIN:VEVENT
DTSTART;TZID=Europe/London:20251016T100000
DTEND;TZID=Europe/London:20251016T120000
DTSTAMP:20260421T094730
CREATED:20250624T104505Z
LAST-MODIFIED:20250929T101425Z
UID:10056771-1760608800-1760616000@jesmondlibrary.org
SUMMARY:Private French conversation group (downstairs)
DESCRIPTION:
URL:https://jesmondlibrary.org/event/private-french-conversation/2025-10-16/
LOCATION:Catherine Cookson Room\, Jesmond Library\, Newcastle upon Tyne\, NE2 2DL\, United Kingdom
GEO:54.9932456;-1.606461
X-APPLE-STRUCTURED-LOCATION;VALUE=URI;X-ADDRESS=Catherine Cookson Room Jesmond Library Newcastle upon Tyne NE2 2DL United Kingdom;X-APPLE-RADIUS=500;X-TITLE=Jesmond Library:geo:-1.606461,54.9932456
END:VEVENT
BEGIN:VEVENT
DTSTART;TZID=Europe/London:20251002T100000
DTEND;TZID=Europe/London:20251002T120000
DTSTAMP:20260421T094730
CREATED:20250624T104505Z
LAST-MODIFIED:20250929T101425Z
UID:10056770-1759399200-1759406400@jesmondlibrary.org
SUMMARY:Private French conversation group (downstairs)
DESCRIPTION:
URL:https://jesmondlibrary.org/event/private-french-conversation/2025-10-02/
LOCATION:Catherine Cookson Room\, Jesmond Library\, Newcastle upon Tyne\, NE2 2DL\, United Kingdom
GEO:54.9932456;-1.606461
X-APPLE-STRUCTURED-LOCATION;VALUE=URI;X-ADDRESS=Catherine Cookson Room Jesmond Library Newcastle upon Tyne NE2 2DL United Kingdom;X-APPLE-RADIUS=500;X-TITLE=Jesmond Library:geo:-1.606461,54.9932456
END:VEVENT
BEGIN:VEVENT
DTSTART;TZID=Europe/London:20250619T100000
DTEND;TZID=Europe/London:20250619T120000
DTSTAMP:20260421T094730
CREATED:20250328T121634Z
LAST-MODIFIED:20250416T103905Z
UID:10056494-1750327200-1750334400@jesmondlibrary.org
SUMMARY:Private French conversation group
DESCRIPTION:
URL:https://jesmondlibrary.org/event/private-french-conversation-group-7/2025-06-19/
LOCATION:Sid Chaplin room
END:VEVENT
BEGIN:VEVENT
DTSTART;TZID=Europe/London:20250612T100000
DTEND;TZID=Europe/London:20250612T120000
DTSTAMP:20260421T094730
CREATED:20250328T121634Z
LAST-MODIFIED:20250416T103905Z
UID:10056493-1749722400-1749729600@jesmondlibrary.org
SUMMARY:Private French conversation group
DESCRIPTION:
URL:https://jesmondlibrary.org/event/private-french-conversation-group-7/2025-06-12/
LOCATION:Sid Chaplin room
END:VEVENT
BEGIN:VEVENT
DTSTART;TZID=Europe/London:20250605T100000
DTEND;TZID=Europe/London:20250605T120000
DTSTAMP:20260421T094730
CREATED:20250328T121634Z
LAST-MODIFIED:20250416T103905Z
UID:10056492-1749117600-1749124800@jesmondlibrary.org
SUMMARY:Private French conversation group
DESCRIPTION:
URL:https://jesmondlibrary.org/event/private-french-conversation-group-7/2025-06-05/
LOCATION:Sid Chaplin room
END:VEVENT
BEGIN:VEVENT
DTSTART;TZID=Europe/London:20250529T100000
DTEND;TZID=Europe/London:20250529T120000
DTSTAMP:20260421T094730
CREATED:20250328T121634Z
LAST-MODIFIED:20250416T103905Z
UID:10056491-1748512800-1748520000@jesmondlibrary.org
SUMMARY:Private French conversation group
DESCRIPTION:
URL:https://jesmondlibrary.org/event/private-french-conversation-group-7/2025-05-29/
LOCATION:Sid Chaplin room
END:VEVENT
BEGIN:VEVENT
DTSTART;TZID=Europe/London:20250522T100000
DTEND;TZID=Europe/London:20250522T120000
DTSTAMP:20260421T094730
CREATED:20250328T121634Z
LAST-MODIFIED:20250416T103905Z
UID:10056490-1747908000-1747915200@jesmondlibrary.org
SUMMARY:Private French conversation group
DESCRIPTION:
URL:https://jesmondlibrary.org/event/private-french-conversation-group-7/2025-05-22/
LOCATION:Sid Chaplin room
END:VEVENT
BEGIN:VEVENT
DTSTART;TZID=Europe/London:20250515T100000
DTEND;TZID=Europe/London:20250515T120000
DTSTAMP:20260421T094730
CREATED:20250328T121634Z
LAST-MODIFIED:20250416T103905Z
UID:10056489-1747303200-1747310400@jesmondlibrary.org
SUMMARY:Private French conversation group
DESCRIPTION:
URL:https://jesmondlibrary.org/event/private-french-conversation-group-7/2025-05-15/
LOCATION:Sid Chaplin room
END:VEVENT
BEGIN:VEVENT
DTSTART;TZID=Europe/London:20250508T100000
DTEND;TZID=Europe/London:20250508T120000
DTSTAMP:20260421T094730
CREATED:20250328T121634Z
LAST-MODIFIED:20250416T103905Z
UID:10056488-1746698400-1746705600@jesmondlibrary.org
SUMMARY:Private French conversation group
DESCRIPTION:
URL:https://jesmondlibrary.org/event/private-french-conversation-group-7/2025-05-08/
LOCATION:Sid Chaplin room
END:VEVENT
END:VCALENDAR