BEGIN:VCALENDAR
VERSION:2.0
PRODID:-//Jesmond Library - ECPv6.15.17.1//NONSGML v1.0//EN
CALSCALE:GREGORIAN
METHOD:PUBLISH
X-WR-CALNAME:Jesmond Library
X-ORIGINAL-URL:https://jesmondlibrary.org
X-WR-CALDESC:Events for Jesmond Library
REFRESH-INTERVAL;VALUE=DURATION:PT1H
X-Robots-Tag:noindex
X-PUBLISHED-TTL:PT1H
BEGIN:VTIMEZONE
TZID:Europe/London
BEGIN:DAYLIGHT
TZOFFSETFROM:+0000
TZOFFSETTO:+0100
TZNAME:BST
DTSTART:20250330T010000
END:DAYLIGHT
BEGIN:STANDARD
TZOFFSETFROM:+0100
TZOFFSETTO:+0000
TZNAME:GMT
DTSTART:20251026T010000
END:STANDARD
BEGIN:DAYLIGHT
TZOFFSETFROM:+0000
TZOFFSETTO:+0100
TZNAME:BST
DTSTART:20260329T010000
END:DAYLIGHT
BEGIN:STANDARD
TZOFFSETFROM:+0100
TZOFFSETTO:+0000
TZNAME:GMT
DTSTART:20261025T010000
END:STANDARD
BEGIN:DAYLIGHT
TZOFFSETFROM:+0000
TZOFFSETTO:+0100
TZNAME:BST
DTSTART:20270328T010000
END:DAYLIGHT
BEGIN:STANDARD
TZOFFSETFROM:+0100
TZOFFSETTO:+0000
TZNAME:GMT
DTSTART:20271031T010000
END:STANDARD
END:VTIMEZONE
BEGIN:VEVENT
DTSTART;TZID=Europe/London:20260713T110000
DTEND;TZID=Europe/London:20260713T123000
DTSTAMP:20260423T154658
CREATED:20260211T133539Z
LAST-MODIFIED:20260211T133539Z
UID:10058848-1783940400-1783945800@jesmondlibrary.org
SUMMARY:Motherfolk Writing Circle
DESCRIPTION:
URL:https://jesmondlibrary.org/event/motherfolk-writing-circle-5/2026-07-13/
LOCATION:Main Room
ATTACH;FMTTYPE=image/png:https://jesmondlibrary.org/wp-content/uploads/2025/07/Motherfolk-June-25.png
END:VEVENT
BEGIN:VEVENT
DTSTART;TZID=Europe/London:20260907T110000
DTEND;TZID=Europe/London:20260907T123000
DTSTAMP:20260423T154658
CREATED:20260211T133835Z
LAST-MODIFIED:20260211T133835Z
UID:10058849-1788778800-1788784200@jesmondlibrary.org
SUMMARY:Motherfolk Writing Circle
DESCRIPTION:
URL:https://jesmondlibrary.org/event/motherfolk-writing-circle-6/2026-09-07/
LOCATION:Main Room
ATTACH;FMTTYPE=image/png:https://jesmondlibrary.org/wp-content/uploads/2025/07/Motherfolk-June-25.png
END:VEVENT
BEGIN:VEVENT
DTSTART;TZID=Europe/London:20260914T110000
DTEND;TZID=Europe/London:20260914T123000
DTSTAMP:20260423T154658
CREATED:20260211T133835Z
LAST-MODIFIED:20260211T133835Z
UID:10058850-1789383600-1789389000@jesmondlibrary.org
SUMMARY:Motherfolk Writing Circle
DESCRIPTION:
URL:https://jesmondlibrary.org/event/motherfolk-writing-circle-6/2026-09-14/
LOCATION:Main Room
ATTACH;FMTTYPE=image/png:https://jesmondlibrary.org/wp-content/uploads/2025/07/Motherfolk-June-25.png
END:VEVENT
BEGIN:VEVENT
DTSTART;TZID=Europe/London:20260921T110000
DTEND;TZID=Europe/London:20260921T123000
DTSTAMP:20260423T154658
CREATED:20260211T133835Z
LAST-MODIFIED:20260211T133835Z
UID:10058851-1789988400-1789993800@jesmondlibrary.org
SUMMARY:Motherfolk Writing Circle
DESCRIPTION:
URL:https://jesmondlibrary.org/event/motherfolk-writing-circle-6/2026-09-21/
LOCATION:Main Room
ATTACH;FMTTYPE=image/png:https://jesmondlibrary.org/wp-content/uploads/2025/07/Motherfolk-June-25.png
END:VEVENT
BEGIN:VEVENT
DTSTART;TZID=Europe/London:20260928T110000
DTEND;TZID=Europe/London:20260928T123000
DTSTAMP:20260423T154658
CREATED:20260211T133835Z
LAST-MODIFIED:20260211T133835Z
UID:10058852-1790593200-1790598600@jesmondlibrary.org
SUMMARY:Motherfolk Writing Circle
DESCRIPTION:
URL:https://jesmondlibrary.org/event/motherfolk-writing-circle-6/2026-09-28/
LOCATION:Main Room
ATTACH;FMTTYPE=image/png:https://jesmondlibrary.org/wp-content/uploads/2025/07/Motherfolk-June-25.png
END:VEVENT
BEGIN:VEVENT
DTSTART;TZID=Europe/London:20261005T110000
DTEND;TZID=Europe/London:20261005T123000
DTSTAMP:20260423T154658
CREATED:20260211T133835Z
LAST-MODIFIED:20260211T133835Z
UID:10058853-1791198000-1791203400@jesmondlibrary.org
SUMMARY:Motherfolk Writing Circle
DESCRIPTION:
URL:https://jesmondlibrary.org/event/motherfolk-writing-circle-6/2026-10-05/
LOCATION:Main Room
ATTACH;FMTTYPE=image/png:https://jesmondlibrary.org/wp-content/uploads/2025/07/Motherfolk-June-25.png
END:VEVENT
BEGIN:VEVENT
DTSTART;TZID=Europe/London:20261012T110000
DTEND;TZID=Europe/London:20261012T123000
DTSTAMP:20260423T154658
CREATED:20260211T133835Z
LAST-MODIFIED:20260211T133835Z
UID:10058854-1791802800-1791808200@jesmondlibrary.org
SUMMARY:Motherfolk Writing Circle
DESCRIPTION:
URL:https://jesmondlibrary.org/event/motherfolk-writing-circle-6/2026-10-12/
LOCATION:Main Room
ATTACH;FMTTYPE=image/png:https://jesmondlibrary.org/wp-content/uploads/2025/07/Motherfolk-June-25.png
END:VEVENT
BEGIN:VEVENT
DTSTART;TZID=Europe/London:20261019T110000
DTEND;TZID=Europe/London:20261019T123000
DTSTAMP:20260423T154658
CREATED:20260211T133835Z
LAST-MODIFIED:20260211T133835Z
UID:10058855-1792407600-1792413000@jesmondlibrary.org
SUMMARY:Motherfolk Writing Circle
DESCRIPTION:
URL:https://jesmondlibrary.org/event/motherfolk-writing-circle-6/2026-10-19/
LOCATION:Main Room
ATTACH;FMTTYPE=image/png:https://jesmondlibrary.org/wp-content/uploads/2025/07/Motherfolk-June-25.png
END:VEVENT
BEGIN:VEVENT
DTSTART;TZID=Europe/London:20261102T110000
DTEND;TZID=Europe/London:20261102T123000
DTSTAMP:20260423T154658
CREATED:20260211T133835Z
LAST-MODIFIED:20260211T133835Z
UID:10058856-1793617200-1793622600@jesmondlibrary.org
SUMMARY:Motherfolk Writing Circle
DESCRIPTION:
URL:https://jesmondlibrary.org/event/motherfolk-writing-circle-6/2026-11-02/
LOCATION:Main Room
ATTACH;FMTTYPE=image/png:https://jesmondlibrary.org/wp-content/uploads/2025/07/Motherfolk-June-25.png
END:VEVENT
BEGIN:VEVENT
DTSTART;TZID=Europe/London:20261109T110000
DTEND;TZID=Europe/London:20261109T123000
DTSTAMP:20260423T154658
CREATED:20260211T133835Z
LAST-MODIFIED:20260211T133835Z
UID:10058857-1794222000-1794227400@jesmondlibrary.org
SUMMARY:Motherfolk Writing Circle
DESCRIPTION:
URL:https://jesmondlibrary.org/event/motherfolk-writing-circle-6/2026-11-09/
LOCATION:Main Room
ATTACH;FMTTYPE=image/png:https://jesmondlibrary.org/wp-content/uploads/2025/07/Motherfolk-June-25.png
END:VEVENT
BEGIN:VEVENT
DTSTART;TZID=Europe/London:20261116T110000
DTEND;TZID=Europe/London:20261116T123000
DTSTAMP:20260423T154658
CREATED:20260211T133835Z
LAST-MODIFIED:20260211T133835Z
UID:10058858-1794826800-1794832200@jesmondlibrary.org
SUMMARY:Motherfolk Writing Circle
DESCRIPTION:
URL:https://jesmondlibrary.org/event/motherfolk-writing-circle-6/2026-11-16/
LOCATION:Main Room
ATTACH;FMTTYPE=image/png:https://jesmondlibrary.org/wp-content/uploads/2025/07/Motherfolk-June-25.png
END:VEVENT
BEGIN:VEVENT
DTSTART;TZID=Europe/London:20261123T110000
DTEND;TZID=Europe/London:20261123T123000
DTSTAMP:20260423T154658
CREATED:20260211T133835Z
LAST-MODIFIED:20260211T133835Z
UID:10058859-1795431600-1795437000@jesmondlibrary.org
SUMMARY:Motherfolk Writing Circle
DESCRIPTION:
URL:https://jesmondlibrary.org/event/motherfolk-writing-circle-6/2026-11-23/
LOCATION:Main Room
ATTACH;FMTTYPE=image/png:https://jesmondlibrary.org/wp-content/uploads/2025/07/Motherfolk-June-25.png
END:VEVENT
BEGIN:VEVENT
DTSTART;TZID=Europe/London:20261130T110000
DTEND;TZID=Europe/London:20261130T123000
DTSTAMP:20260423T154658
CREATED:20260211T133835Z
LAST-MODIFIED:20260211T133835Z
UID:10058860-1796036400-1796041800@jesmondlibrary.org
SUMMARY:Motherfolk Writing Circle
DESCRIPTION:
URL:https://jesmondlibrary.org/event/motherfolk-writing-circle-6/2026-11-30/
LOCATION:Main Room
ATTACH;FMTTYPE=image/png:https://jesmondlibrary.org/wp-content/uploads/2025/07/Motherfolk-June-25.png
END:VEVENT
BEGIN:VEVENT
DTSTART;TZID=Europe/London:20261207T110000
DTEND;TZID=Europe/London:20261207T123000
DTSTAMP:20260423T154658
CREATED:20260211T133835Z
LAST-MODIFIED:20260211T133835Z
UID:10058861-1796641200-1796646600@jesmondlibrary.org
SUMMARY:Motherfolk Writing Circle
DESCRIPTION:
URL:https://jesmondlibrary.org/event/motherfolk-writing-circle-6/2026-12-07/
LOCATION:Main Room
ATTACH;FMTTYPE=image/png:https://jesmondlibrary.org/wp-content/uploads/2025/07/Motherfolk-June-25.png
END:VEVENT
BEGIN:VEVENT
DTSTART;TZID=Europe/London:20261214T110000
DTEND;TZID=Europe/London:20261214T123000
DTSTAMP:20260423T154658
CREATED:20260211T133835Z
LAST-MODIFIED:20260211T133835Z
UID:10058862-1797246000-1797251400@jesmondlibrary.org
SUMMARY:Motherfolk Writing Circle
DESCRIPTION:
URL:https://jesmondlibrary.org/event/motherfolk-writing-circle-6/2026-12-14/
LOCATION:Main Room
ATTACH;FMTTYPE=image/png:https://jesmondlibrary.org/wp-content/uploads/2025/07/Motherfolk-June-25.png
END:VEVENT
END:VCALENDAR