BEGIN:VCALENDAR
VERSION:2.0
PRODID:-//Jesmond Library - ECPv6.15.17.1//NONSGML v1.0//EN
CALSCALE:GREGORIAN
METHOD:PUBLISH
X-WR-CALNAME:Jesmond Library
X-ORIGINAL-URL:https://jesmondlibrary.org
X-WR-CALDESC:Events for Jesmond Library
REFRESH-INTERVAL;VALUE=DURATION:PT1H
X-Robots-Tag:noindex
X-PUBLISHED-TTL:PT1H
BEGIN:VTIMEZONE
TZID:Europe/London
BEGIN:DAYLIGHT
TZOFFSETFROM:+0000
TZOFFSETTO:+0100
TZNAME:BST
DTSTART:20240331T010000
END:DAYLIGHT
BEGIN:STANDARD
TZOFFSETFROM:+0100
TZOFFSETTO:+0000
TZNAME:GMT
DTSTART:20241027T010000
END:STANDARD
BEGIN:DAYLIGHT
TZOFFSETFROM:+0000
TZOFFSETTO:+0100
TZNAME:BST
DTSTART:20250330T010000
END:DAYLIGHT
BEGIN:STANDARD
TZOFFSETFROM:+0100
TZOFFSETTO:+0000
TZNAME:GMT
DTSTART:20251026T010000
END:STANDARD
BEGIN:DAYLIGHT
TZOFFSETFROM:+0000
TZOFFSETTO:+0100
TZNAME:BST
DTSTART:20260329T010000
END:DAYLIGHT
BEGIN:STANDARD
TZOFFSETFROM:+0100
TZOFFSETTO:+0000
TZNAME:GMT
DTSTART:20261025T010000
END:STANDARD
END:VTIMEZONE
BEGIN:VEVENT
DTSTART;TZID=Europe/London:20251123T090000
DTEND;TZID=Europe/London:20251123T130000
DTSTAMP:20260419T180638
CREATED:20251009T085440Z
LAST-MODIFIED:20251009T090300Z
UID:10057162-1763888400-1763902800@jesmondlibrary.org
SUMMARY:AMC Holy Trinity Church meeting
DESCRIPTION:
URL:https://jesmondlibrary.org/event/private-church-meetings-2/2025-11-23/
LOCATION:Main Room
END:VEVENT
BEGIN:VEVENT
DTSTART;TZID=Europe/London:20251116T111500
DTEND;TZID=Europe/London:20251116T121500
DTSTAMP:20260419T180638
CREATED:20251009T090127Z
LAST-MODIFIED:20251009T090127Z
UID:10057173-1763291700-1763295300@jesmondlibrary.org
SUMMARY:AMC Holy Trinity Church (CC)
DESCRIPTION:
URL:https://jesmondlibrary.org/event/amc-holy-trinity-church-cc/2025-11-16/
LOCATION:Catherine Cookson Room
END:VEVENT
BEGIN:VEVENT
DTSTART;TZID=Europe/London:20251116T090000
DTEND;TZID=Europe/London:20251116T130000
DTSTAMP:20260419T180638
CREATED:20251009T085440Z
LAST-MODIFIED:20251009T090300Z
UID:10057161-1763283600-1763298000@jesmondlibrary.org
SUMMARY:AMC Holy Trinity Church meeting
DESCRIPTION:
URL:https://jesmondlibrary.org/event/private-church-meetings-2/2025-11-16/
LOCATION:Main Room
END:VEVENT
BEGIN:VEVENT
DTSTART;TZID=Europe/London:20251109T111500
DTEND;TZID=Europe/London:20251109T121500
DTSTAMP:20260419T180638
CREATED:20251009T090127Z
LAST-MODIFIED:20251009T090127Z
UID:10057172-1762686900-1762690500@jesmondlibrary.org
SUMMARY:AMC Holy Trinity Church (CC)
DESCRIPTION:
URL:https://jesmondlibrary.org/event/amc-holy-trinity-church-cc/2025-11-09/
LOCATION:Catherine Cookson Room
END:VEVENT
BEGIN:VEVENT
DTSTART;TZID=Europe/London:20251109T090000
DTEND;TZID=Europe/London:20251109T130000
DTSTAMP:20260419T180638
CREATED:20251009T085440Z
LAST-MODIFIED:20251009T090300Z
UID:10057160-1762678800-1762693200@jesmondlibrary.org
SUMMARY:AMC Holy Trinity Church meeting
DESCRIPTION:
URL:https://jesmondlibrary.org/event/private-church-meetings-2/2025-11-09/
LOCATION:Main Room
END:VEVENT
BEGIN:VEVENT
DTSTART;TZID=Europe/London:20251102T111500
DTEND;TZID=Europe/London:20251102T121500
DTSTAMP:20260419T180638
CREATED:20251009T090127Z
LAST-MODIFIED:20251009T090127Z
UID:10057171-1762082100-1762085700@jesmondlibrary.org
SUMMARY:AMC Holy Trinity Church (CC)
DESCRIPTION:
URL:https://jesmondlibrary.org/event/amc-holy-trinity-church-cc/2025-11-02/
LOCATION:Catherine Cookson Room
END:VEVENT
BEGIN:VEVENT
DTSTART;TZID=Europe/London:20251102T090000
DTEND;TZID=Europe/London:20251102T130000
DTSTAMP:20260419T180638
CREATED:20251009T085440Z
LAST-MODIFIED:20251009T090300Z
UID:10057159-1762074000-1762088400@jesmondlibrary.org
SUMMARY:AMC Holy Trinity Church meeting
DESCRIPTION:
URL:https://jesmondlibrary.org/event/private-church-meetings-2/2025-11-02/
LOCATION:Main Room
END:VEVENT
BEGIN:VEVENT
DTSTART;TZID=Europe/London:20251026T111500
DTEND;TZID=Europe/London:20251026T121500
DTSTAMP:20260419T180638
CREATED:20251009T090127Z
LAST-MODIFIED:20251009T090127Z
UID:10057170-1761477300-1761480900@jesmondlibrary.org
SUMMARY:AMC Holy Trinity Church (CC)
DESCRIPTION:
URL:https://jesmondlibrary.org/event/amc-holy-trinity-church-cc/2025-10-26/
LOCATION:Catherine Cookson Room
END:VEVENT
BEGIN:VEVENT
DTSTART;TZID=Europe/London:20251026T090000
DTEND;TZID=Europe/London:20251026T130000
DTSTAMP:20260419T180638
CREATED:20251009T085440Z
LAST-MODIFIED:20251009T090300Z
UID:10057158-1761469200-1761483600@jesmondlibrary.org
SUMMARY:AMC Holy Trinity Church meeting
DESCRIPTION:
URL:https://jesmondlibrary.org/event/private-church-meetings-2/2025-10-26/
LOCATION:Main Room
END:VEVENT
BEGIN:VEVENT
DTSTART;TZID=Europe/London:20251019T111500
DTEND;TZID=Europe/London:20251019T121500
DTSTAMP:20260419T180638
CREATED:20251009T090127Z
LAST-MODIFIED:20251009T090127Z
UID:10057169-1760872500-1760876100@jesmondlibrary.org
SUMMARY:AMC Holy Trinity Church (CC)
DESCRIPTION:
URL:https://jesmondlibrary.org/event/amc-holy-trinity-church-cc/2025-10-19/
LOCATION:Catherine Cookson Room
END:VEVENT
BEGIN:VEVENT
DTSTART;TZID=Europe/London:20251019T090000
DTEND;TZID=Europe/London:20251019T130000
DTSTAMP:20260419T180638
CREATED:20251009T085440Z
LAST-MODIFIED:20251009T090300Z
UID:10057157-1760864400-1760878800@jesmondlibrary.org
SUMMARY:AMC Holy Trinity Church meeting
DESCRIPTION:
URL:https://jesmondlibrary.org/event/private-church-meetings-2/2025-10-19/
LOCATION:Main Room
END:VEVENT
END:VCALENDAR