BEGIN:VCALENDAR
VERSION:2.0
PRODID:-//Jesmond Library - ECPv6.15.17.1//NONSGML v1.0//EN
CALSCALE:GREGORIAN
METHOD:PUBLISH
X-WR-CALNAME:Jesmond Library
X-ORIGINAL-URL:https://jesmondlibrary.org
X-WR-CALDESC:Events for Jesmond Library
REFRESH-INTERVAL;VALUE=DURATION:PT1H
X-Robots-Tag:noindex
X-PUBLISHED-TTL:PT1H
BEGIN:VTIMEZONE
TZID:Europe/London
BEGIN:DAYLIGHT
TZOFFSETFROM:+0000
TZOFFSETTO:+0100
TZNAME:BST
DTSTART:20250330T010000
END:DAYLIGHT
BEGIN:STANDARD
TZOFFSETFROM:+0100
TZOFFSETTO:+0000
TZNAME:GMT
DTSTART:20251026T010000
END:STANDARD
BEGIN:DAYLIGHT
TZOFFSETFROM:+0000
TZOFFSETTO:+0100
TZNAME:BST
DTSTART:20260329T010000
END:DAYLIGHT
BEGIN:STANDARD
TZOFFSETFROM:+0100
TZOFFSETTO:+0000
TZNAME:GMT
DTSTART:20261025T010000
END:STANDARD
BEGIN:DAYLIGHT
TZOFFSETFROM:+0000
TZOFFSETTO:+0100
TZNAME:BST
DTSTART:20270328T010000
END:DAYLIGHT
BEGIN:STANDARD
TZOFFSETFROM:+0100
TZOFFSETTO:+0000
TZNAME:GMT
DTSTART:20271031T010000
END:STANDARD
END:VTIMEZONE
BEGIN:VEVENT
DTSTART;TZID=Europe/London:20260608T110000
DTEND;TZID=Europe/London:20260608T123000
DTSTAMP:20260419T174316
CREATED:20260211T133539Z
LAST-MODIFIED:20260211T133539Z
UID:10058843-1780916400-1780921800@jesmondlibrary.org
SUMMARY:Motherfolk Writing Circle
DESCRIPTION:
URL:https://jesmondlibrary.org/event/motherfolk-writing-circle-5/2026-06-08/
LOCATION:Main Room
ATTACH;FMTTYPE=image/png:https://jesmondlibrary.org/wp-content/uploads/2025/07/Motherfolk-June-25.png
END:VEVENT
BEGIN:VEVENT
DTSTART;TZID=Europe/London:20260608T140000
DTEND;TZID=Europe/London:20260608T160000
DTSTAMP:20260419T174316
CREATED:20260401T091528Z
LAST-MODIFIED:20260401T091528Z
UID:10058935-1780927200-1780934400@jesmondlibrary.org
SUMMARY:Everyturn craft group TBC
DESCRIPTION:
URL:https://jesmondlibrary.org/event/everyturn-craft-group-tbc/2026-06-08/
LOCATION:Main Room
END:VEVENT
BEGIN:VEVENT
DTSTART;TZID=Europe/London:20260608T181500
DTEND;TZID=Europe/London:20260608T201500
DTSTAMP:20260419T174316
CREATED:20251111T144423Z
LAST-MODIFIED:20260320T153713Z
UID:10058249-1780942500-1780949700@jesmondlibrary.org
SUMMARY:Italian for Total Beginners
DESCRIPTION:
URL:https://jesmondlibrary.org/event/italian-for-total-beginners-8/2026-06-08/
LOCATION:Sid Chaplin room
ATTACH;FMTTYPE=image/jpeg:https://jesmondlibrary.org/wp-content/uploads/2025/11/Jesmond-Holiday-Courses.jpg
END:VEVENT
BEGIN:VEVENT
DTSTART;TZID=Europe/London:20260608T190000
DTEND;TZID=Europe/London:20260608T210000
DTSTAMP:20260419T174316
CREATED:20251111T094915Z
LAST-MODIFIED:20251111T094915Z
UID:10057616-1780945200-1780952400@jesmondlibrary.org
SUMMARY:Play Reading
DESCRIPTION:
URL:https://jesmondlibrary.org/event/play-reading-6/2026-06-08/
LOCATION:Main room – Coffee Area
ATTACH;FMTTYPE=image/jpeg:https://jesmondlibrary.org/wp-content/uploads/2022/11/PLAY-READING.jpg
ORGANIZER;CN="Jesmond Library":MAILTO:events@jesmondlibrary.org
END:VEVENT
BEGIN:VEVENT
DTSTART;TZID=Europe/London:20260609T093000
DTEND;TZID=Europe/London:20260609T163000
DTSTAMP:20260419T174316
CREATED:20251121T101724Z
LAST-MODIFIED:20251121T101724Z
UID:10058592-1780997400-1781022600@jesmondlibrary.org
SUMMARY:LIBRARY OPEN TUESDAYS
DESCRIPTION:
URL:https://jesmondlibrary.org/event/library-open-tuesdays-11/2026-06-09/
LOCATION:Main Room
ORGANIZER;CN="Jesmond Library":MAILTO:events@jesmondlibrary.org
END:VEVENT
BEGIN:VEVENT
DTSTART;TZID=Europe/London:20260609T100000
DTEND;TZID=Europe/London:20260609T110000
DTSTAMP:20260419T174316
CREATED:20251111T095458Z
LAST-MODIFIED:20251111T095458Z
UID:10057667-1780999200-1781002800@jesmondlibrary.org
SUMMARY:Intermediate German conversation
DESCRIPTION:
URL:https://jesmondlibrary.org/event/intermediate-german-conversation-5/2026-06-09/
LOCATION:Sid Chaplin room
ATTACH;FMTTYPE=image/jpeg:https://jesmondlibrary.org/wp-content/uploads/2025/11/Int-German-places-in-Thursdays-group.jpg
ORGANIZER;CN="Jesmond Library":MAILTO:events@jesmondlibrary.org
END:VEVENT
BEGIN:VEVENT
DTSTART;TZID=Europe/London:20260609T110000
DTEND;TZID=Europe/London:20260609T120000
DTSTAMP:20260419T174316
CREATED:20251111T095755Z
LAST-MODIFIED:20251111T095755Z
UID:10057719-1781002800-1781006400@jesmondlibrary.org
SUMMARY:Beginners' Spanish conversation
DESCRIPTION:
URL:https://jesmondlibrary.org/event/beginners-spanish-conversation-2/2026-06-09/
LOCATION:Sid Chaplin room
ATTACH;FMTTYPE=image/jpeg:https://jesmondlibrary.org/wp-content/uploads/2025/11/Spanish-Beginners-Tuesdays.jpg
ORGANIZER;CN="Jesmond Library":MAILTO:events@jesmondlibrary.org
END:VEVENT
BEGIN:VEVENT
DTSTART;TZID=Europe/London:20260609T120000
DTEND;TZID=Europe/London:20260609T130000
DTSTAMP:20260419T174316
CREATED:20260401T085059Z
LAST-MODIFIED:20260401T085059Z
UID:10057771-1781006400-1781010000@jesmondlibrary.org
SUMMARY:Italian conversation with Antonella
DESCRIPTION:
URL:https://jesmondlibrary.org/event/italian-conversation-with-antonella-13-2/2026-06-09/
LOCATION:Catherine Cookson Room\, Jesmond Library\, Newcastle upon Tyne\, NE2 2DL\, United Kingdom
ATTACH;FMTTYPE=image/jpeg:https://jesmondlibrary.org/wp-content/uploads/2025/11/ITALIAN-Conversation.jpg
ORGANIZER;CN="Jesmond Library":MAILTO:events@jesmondlibrary.org
GEO:54.9932456;-1.606461
X-APPLE-STRUCTURED-LOCATION;VALUE=URI;X-ADDRESS=Catherine Cookson Room Jesmond Library Newcastle upon Tyne NE2 2DL United Kingdom;X-APPLE-RADIUS=500;X-TITLE=Jesmond Library:geo:-1.606461,54.9932456
END:VEVENT
BEGIN:VEVENT
DTSTART;TZID=Europe/London:20260609T130000
DTEND;TZID=Europe/London:20260609T140000
DTSTAMP:20260419T174316
CREATED:20251111T100225Z
LAST-MODIFIED:20251111T100805Z
UID:10057823-1781010000-1781013600@jesmondlibrary.org
SUMMARY:French Intermediate Conversation 1
DESCRIPTION:
URL:https://jesmondlibrary.org/event/french-intermediate-conversation-1/2026-06-09/
LOCATION:Catherine Cookson Room
ATTACH;FMTTYPE=image/jpeg:https://jesmondlibrary.org/wp-content/uploads/2023/11/FRENCH.jpg
ORGANIZER;CN="Jesmond Library":MAILTO:events@jesmondlibrary.org
END:VEVENT
BEGIN:VEVENT
DTSTART;TZID=Europe/London:20260609T130000
DTEND;TZID=Europe/London:20260609T140000
DTSTAMP:20260419T174316
CREATED:20251111T100633Z
LAST-MODIFIED:20251111T100633Z
UID:10057875-1781010000-1781013600@jesmondlibrary.org
SUMMARY:French Intermediate conversation 2
DESCRIPTION:
URL:https://jesmondlibrary.org/event/french-intermediate-conversation-2/2026-06-09/
LOCATION:Sid Chaplin room
ATTACH;FMTTYPE=image/jpeg:https://jesmondlibrary.org/wp-content/uploads/2023/11/FRENCH.jpg
ORGANIZER;CN="Jesmond Library":MAILTO:events@jesmondlibrary.org
END:VEVENT
BEGIN:VEVENT
DTSTART;TZID=Europe/London:20260609T141500
DTEND;TZID=Europe/London:20260609T154500
DTSTAMP:20260419T174316
CREATED:20251111T101159Z
LAST-MODIFIED:20251208T094507Z
UID:10057939-1781014500-1781019900@jesmondlibrary.org
SUMMARY:Craft 'n' Chat
DESCRIPTION:
URL:https://jesmondlibrary.org/event/craft-n-chat-2/2026-06-09/
LOCATION:Catherine Cookson Room
ATTACH;FMTTYPE=image/jpeg:https://jesmondlibrary.org/wp-content/uploads/2023/02/CRAFT-N-CHAT-1.jpg
ORGANIZER;CN="Jesmond Library":MAILTO:events@jesmondlibrary.org
END:VEVENT
BEGIN:VEVENT
DTSTART;TZID=Europe/London:20260609T190000
DTEND;TZID=Europe/London:20260609T203000
DTSTAMP:20260419T174316
CREATED:20260107T102128Z
LAST-MODIFIED:20260107T102128Z
UID:10058759-1781031600-1781037000@jesmondlibrary.org
SUMMARY:Jesmond Community Forum meeting
DESCRIPTION:
URL:https://jesmondlibrary.org/event/jesmond-community-forum-meeting-7/
LOCATION:Main Room
END:VEVENT
BEGIN:VEVENT
DTSTART;TZID=Europe/London:20260610T090000
DTEND;TZID=Europe/London:20260610T150000
DTSTAMP:20260419T174316
CREATED:20260217T095031Z
LAST-MODIFIED:20260217T095417Z
UID:10058866-1781082000-1781103600@jesmondlibrary.org
SUMMARY:Newcastle General Practices Service Community Assessment Day - Work Well Initiative
DESCRIPTION:
URL:https://jesmondlibrary.org/event/newcastle-general-practices-service-community-assessment-day-work-well-initiative/
LOCATION:Main Room
END:VEVENT
BEGIN:VEVENT
DTSTART;TZID=Europe/London:20260610T190000
DTEND;TZID=Europe/London:20260610T200000
DTSTAMP:20260419T174316
CREATED:20251113T145955Z
LAST-MODIFIED:20251113T150023Z
UID:10058316-1781118000-1781121600@jesmondlibrary.org
SUMMARY:Book Group TBC
DESCRIPTION:
URL:https://jesmondlibrary.org/event/book-group/2026-06-10/
ORGANIZER;CN="Jesmond Library":MAILTO:events@jesmondlibrary.org
END:VEVENT
BEGIN:VEVENT
DTSTART;TZID=Europe/London:20260610T190000
DTEND;TZID=Europe/London:20260610T200000
DTSTAMP:20260419T174316
CREATED:20260115T174756Z
LAST-MODIFIED:20260115T174756Z
UID:10058793-1781118000-1781121600@jesmondlibrary.org
SUMMARY:Book group - Percival Everett - The Trees
DESCRIPTION:
URL:https://jesmondlibrary.org/event/book-group-percival-everett-the-trees/
LOCATION:Main Room
ATTACH;FMTTYPE=image/jpeg:https://jesmondlibrary.org/wp-content/uploads/2026/01/9781035036615-2.jpg
ORGANIZER;CN="Jesmond Library":MAILTO:events@jesmondlibrary.org
END:VEVENT
BEGIN:VEVENT
DTSTART;TZID=Europe/London:20260610T190000
DTEND;TZID=Europe/London:20260610T210000
DTSTAMP:20260419T174316
CREATED:20251106T092648Z
LAST-MODIFIED:20251106T092648Z
UID:10057446-1781118000-1781125200@jesmondlibrary.org
SUMMARY:Serene Reflections
DESCRIPTION:
URL:https://jesmondlibrary.org/event/serene-reflections-3/2026-06-10/
LOCATION:Sid Chaplin room
ATTACH;FMTTYPE=image/jpeg:https://jesmondlibrary.org/wp-content/uploads/2025/11/Serene-Reflections-Meditations-1.jpg
END:VEVENT
BEGIN:VEVENT
DTSTART;TZID=Europe/London:20260611T093000
DTEND;TZID=Europe/London:20260611T180000
DTSTAMP:20260419T174316
CREATED:20251121T102015Z
LAST-MODIFIED:20251121T102015Z
UID:10058644-1781170200-1781200800@jesmondlibrary.org
SUMMARY:LIBRARY OPEN THURSDAYS
DESCRIPTION:
URL:https://jesmondlibrary.org/event/library-open-thursdays/2026-06-11/
LOCATION:Main Room
ORGANIZER;CN="Jesmond Library":MAILTO:events@jesmondlibrary.org
END:VEVENT
BEGIN:VEVENT
DTSTART;TZID=Europe/London:20260611T100000
DTEND;TZID=Europe/London:20260611T103000
DTSTAMP:20260419T174316
CREATED:20260409T125931Z
LAST-MODIFIED:20260409T141911Z
UID:10058971-1781172000-1781173800@jesmondlibrary.org
SUMMARY:Story & Rhyme Time
DESCRIPTION:
URL:https://jesmondlibrary.org/event/story-rhyme-time/2026-06-11/
LOCATION:Main Room
ATTACH;FMTTYPE=image/jpeg:https://jesmondlibrary.org/wp-content/uploads/2026/04/STORYTIME.jpg
ORGANIZER;CN="Jesmond Library":MAILTO:events@jesmondlibrary.org
END:VEVENT
BEGIN:VEVENT
DTSTART;TZID=Europe/London:20260611T100000
DTEND;TZID=Europe/London:20260611T120000
DTSTAMP:20260419T174316
CREATED:20260409T134001Z
LAST-MODIFIED:20260409T134001Z
UID:10058983-1781172000-1781179200@jesmondlibrary.org
SUMMARY:Private French Conversation group
DESCRIPTION:
URL:https://jesmondlibrary.org/event/private-french-conversation-group-2/2026-06-11/
LOCATION:Catherine Cookson Room\, Jesmond Library\, Newcastle upon Tyne\, NE2 2DL\, United Kingdom
GEO:54.9932456;-1.606461
X-APPLE-STRUCTURED-LOCATION;VALUE=URI;X-ADDRESS=Catherine Cookson Room Jesmond Library Newcastle upon Tyne NE2 2DL United Kingdom;X-APPLE-RADIUS=500;X-TITLE=Jesmond Library:geo:-1.606461,54.9932456
END:VEVENT
BEGIN:VEVENT
DTSTART;TZID=Europe/London:20260611T104500
DTEND;TZID=Europe/London:20260611T114500
DTSTAMP:20260419T174316
CREATED:20251027T110506Z
LAST-MODIFIED:20260212T093209Z
UID:10057326-1781174700-1781178300@jesmondlibrary.org
SUMMARY:Advanced German
DESCRIPTION:
URL:https://jesmondlibrary.org/event/advanced-german-4/2026-06-11/
LOCATION:Sid Chaplin room
ATTACH;FMTTYPE=image/jpeg:https://jesmondlibrary.org/wp-content/uploads/2025/10/German-Advanced.jpg
ORGANIZER;CN="Jesmond Library":MAILTO:events@jesmondlibrary.org
END:VEVENT
BEGIN:VEVENT
DTSTART;TZID=Europe/London:20260611T121500
DTEND;TZID=Europe/London:20260611T131500
DTSTAMP:20260419T174316
CREATED:20250509T150234Z
LAST-MODIFIED:20250509T151420Z
UID:10056698-1781180100-1781183700@jesmondlibrary.org
SUMMARY:Intermediate German conversation 2
DESCRIPTION:
URL:https://jesmondlibrary.org/event/intermediate-german-conversation-2-4/2026-06-11/
LOCATION:Catherine Cookson Room\, Jesmond Library\, Newcastle upon Tyne\, NE2 2DL\, United Kingdom
ATTACH;FMTTYPE=image/jpeg:https://jesmondlibrary.org/wp-content/uploads/2025/04/GERMAN_INT1.jpg
ORGANIZER;CN="Jesmond Library":MAILTO:events@jesmondlibrary.org
GEO:54.9932456;-1.606461
X-APPLE-STRUCTURED-LOCATION;VALUE=URI;X-ADDRESS=Catherine Cookson Room Jesmond Library Newcastle upon Tyne NE2 2DL United Kingdom;X-APPLE-RADIUS=500;X-TITLE=Jesmond Library:geo:-1.606461,54.9932456
END:VEVENT
BEGIN:VEVENT
DTSTART;TZID=Europe/London:20260611T180000
DTEND;TZID=Europe/London:20260611T190000
DTSTAMP:20260419T174316
CREATED:20251218T141627Z
LAST-MODIFIED:20251218T141627Z
UID:10058726-1781200800-1781204400@jesmondlibrary.org
SUMMARY:Thursday Talk - AA Milne
DESCRIPTION:Charles Linaker celebrates Winnie the Pooh’s 100th anniversary by looking at the other writings which made AA Milne famous\, including plays\, screenplays and humorous work for “Punch” magazine.
URL:https://jesmondlibrary.org/event/thursday-talk-aa-milne/
LOCATION:Main Room
ORGANIZER;CN="Jesmond Library":MAILTO:events@jesmondlibrary.org
END:VEVENT
BEGIN:VEVENT
DTSTART;TZID=Europe/London:20260611T180000
DTEND;TZID=Europe/London:20260611T193000
DTSTAMP:20260419T174316
CREATED:20251111T101917Z
LAST-MODIFIED:20251208T095144Z
UID:10058003-1781200800-1781206200@jesmondlibrary.org
SUMMARY:Spanish Conversation
DESCRIPTION:
URL:https://jesmondlibrary.org/event/spanish-conversation-4/2026-06-11/
LOCATION:Sid Chaplin room
ATTACH;FMTTYPE=image/jpeg:https://jesmondlibrary.org/wp-content/uploads/2025/11/SPANISH1.jpg
ORGANIZER;CN="Jesmond Library":MAILTO:events@jesmondlibrary.org
END:VEVENT
BEGIN:VEVENT
DTSTART;TZID=Europe/London:20260612T093000
DTEND;TZID=Europe/London:20260612T123000
DTSTAMP:20260419T174316
CREATED:20251018T103504Z
LAST-MODIFIED:20251018T104116Z
UID:10057212-1781256600-1781267400@jesmondlibrary.org
SUMMARY:LIBRARY OPEN FRIDAYS
DESCRIPTION:
URL:https://jesmondlibrary.org/event/library-open-fridays-2/2026-06-12/
LOCATION:Main Room
ORGANIZER;CN="Jesmond Library":MAILTO:events@jesmondlibrary.org
END:VEVENT
BEGIN:VEVENT
DTSTART;TZID=Europe/London:20260612T093000
DTEND;TZID=Europe/London:20260612T123000
DTSTAMP:20260419T174316
CREATED:20251111T102411Z
LAST-MODIFIED:20251111T102532Z
UID:10058153-1781256600-1781267400@jesmondlibrary.org
SUMMARY:Beginners English Language Conversation Class
DESCRIPTION:
URL:https://jesmondlibrary.org/event/beginners-english-language-conversation-class/2026-06-12/
LOCATION:Sid Chaplin room
ATTACH;FMTTYPE=image/jpeg:https://jesmondlibrary.org/wp-content/uploads/2024/12/ENGLISH_LANGUAGE_beginners1.jpg
ORGANIZER;CN="Jesmond Library":MAILTO:events@jesmondlibrary.org
END:VEVENT
BEGIN:VEVENT
DTSTART;TZID=Europe/London:20260612T093100
DTEND;TZID=Europe/London:20260612T123000
DTSTAMP:20260419T174316
CREATED:20251111T102235Z
LAST-MODIFIED:20251111T102801Z
UID:10058203-1781256660-1781267400@jesmondlibrary.org
SUMMARY:Improvers English Language Conversation class
DESCRIPTION:
URL:https://jesmondlibrary.org/event/improvers-english-language-conversation-class/2026-06-12/
LOCATION:Catherine Cookson Room
ATTACH;FMTTYPE=image/jpeg:https://jesmondlibrary.org/wp-content/uploads/2024/10/ENGLISH_LANGUAGE_Improvers1.jpg
ORGANIZER;CN="Jesmond Library":MAILTO:events@jesmondlibrary.org
END:VEVENT
BEGIN:VEVENT
DTSTART;TZID=Europe/London:20260612T103000
DTEND;TZID=Europe/London:20260612T120000
DTSTAMP:20260419T174316
CREATED:20260315T093436Z
LAST-MODIFIED:20260315T093710Z
UID:10058899-1781260200-1781265600@jesmondlibrary.org
SUMMARY:Healthwatch Drop-In
DESCRIPTION:
URL:https://jesmondlibrary.org/event/healthwatch-drop-in-8/
LOCATION:Main Room
ATTACH;FMTTYPE=image/png:https://jesmondlibrary.org/wp-content/uploads/2024/01/Healthwatch-Newcastle-Leaflet-2-of-2.png
END:VEVENT
BEGIN:VEVENT
DTSTART;TZID=Europe/London:20260612T130000
DTEND;TZID=Europe/London:20260612T140000
DTSTAMP:20260419T174316
CREATED:20260409T132233Z
LAST-MODIFIED:20260409T132317Z
UID:10058974-1781269200-1781272800@jesmondlibrary.org
SUMMARY:Music in the Library: Pete Tanton and Alan Law: Trumpet/Vocal and Piano Duo
DESCRIPTION:
URL:https://jesmondlibrary.org/event/music-in-the-library-2/
LOCATION:Main Room
ORGANIZER;CN="Jesmond Library":MAILTO:events@jesmondlibrary.org
END:VEVENT
BEGIN:VEVENT
DTSTART;TZID=Europe/London:20260613T093000
DTEND;TZID=Europe/London:20260613T163000
DTSTAMP:20260419T174316
CREATED:20251018T103753Z
LAST-MODIFIED:20251018T103910Z
UID:10057263-1781343000-1781368200@jesmondlibrary.org
SUMMARY:LIBRARY OPEN SATURDAYS
DESCRIPTION:
URL:https://jesmondlibrary.org/event/library-open-saturdays-6/2026-06-13/
LOCATION:Main Room
ORGANIZER;CN="Jesmond Library":MAILTO:events@jesmondlibrary.org
END:VEVENT
BEGIN:VEVENT
DTSTART;TZID=Europe/London:20260613T110000
DTEND;TZID=Europe/London:20260613T120000
DTSTAMP:20260419T174316
CREATED:20250901T092226Z
LAST-MODIFIED:20250904T102538Z
UID:10057069-1781348400-1781352000@jesmondlibrary.org
SUMMARY:Italian Language Course for Children
DESCRIPTION:
URL:https://jesmondlibrary.org/event/italian-language-course-for-children-5/2026-06-13/
LOCATION:Sid Chaplin room
END:VEVENT
END:VCALENDAR