BEGIN:VCALENDAR
VERSION:2.0
PRODID:-//Jesmond Library - ECPv6.15.17.1//NONSGML v1.0//EN
CALSCALE:GREGORIAN
METHOD:PUBLISH
X-WR-CALNAME:Jesmond Library
X-ORIGINAL-URL:https://jesmondlibrary.org
X-WR-CALDESC:Events for Jesmond Library
REFRESH-INTERVAL;VALUE=DURATION:PT1H
X-Robots-Tag:noindex
X-PUBLISHED-TTL:PT1H
BEGIN:VTIMEZONE
TZID:Europe/London
BEGIN:DAYLIGHT
TZOFFSETFROM:+0000
TZOFFSETTO:+0100
TZNAME:BST
DTSTART:20240331T010000
END:DAYLIGHT
BEGIN:STANDARD
TZOFFSETFROM:+0100
TZOFFSETTO:+0000
TZNAME:GMT
DTSTART:20241027T010000
END:STANDARD
BEGIN:DAYLIGHT
TZOFFSETFROM:+0000
TZOFFSETTO:+0100
TZNAME:BST
DTSTART:20250330T010000
END:DAYLIGHT
BEGIN:STANDARD
TZOFFSETFROM:+0100
TZOFFSETTO:+0000
TZNAME:GMT
DTSTART:20251026T010000
END:STANDARD
BEGIN:DAYLIGHT
TZOFFSETFROM:+0000
TZOFFSETTO:+0100
TZNAME:BST
DTSTART:20260329T010000
END:DAYLIGHT
BEGIN:STANDARD
TZOFFSETFROM:+0100
TZOFFSETTO:+0000
TZNAME:GMT
DTSTART:20261025T010000
END:STANDARD
END:VTIMEZONE
BEGIN:VEVENT
DTSTART;TZID=Europe/London:20251222T110000
DTEND;TZID=Europe/London:20251222T123000
DTSTAMP:20260419T174327
CREATED:20251210T100116Z
LAST-MODIFIED:20251210T100116Z
UID:10057187-1766401200-1766406600@jesmondlibrary.org
SUMMARY:Christmas Crafts session
DESCRIPTION:
URL:https://jesmondlibrary.org/event/christmas-crafts-session-2/
LOCATION:Main Room
ATTACH;FMTTYPE=image/jpeg:https://jesmondlibrary.org/wp-content/uploads/2025/10/CHRISTMAS-CRAFTS.jpg
ORGANIZER;CN="Jesmond Library":MAILTO:events@jesmondlibrary.org
END:VEVENT
BEGIN:VEVENT
DTSTART;TZID=Europe/London:20251223T093000
DTEND;TZID=Europe/London:20251223T123000
DTSTAMP:20260419T174327
CREATED:20251018T102936Z
LAST-MODIFIED:20251018T102936Z
UID:10053465-1766482200-1766493000@jesmondlibrary.org
SUMMARY:LIBRARY OPEN TUESDAYS
DESCRIPTION:
URL:https://jesmondlibrary.org/event/library-open-tuesdays-9/
LOCATION:Main Room
ORGANIZER;CN="Jesmond Library":MAILTO:events@jesmondlibrary.org
END:VEVENT
BEGIN:VEVENT
DTSTART;VALUE=DATE:20251225
DTEND;VALUE=DATE:20251226
DTSTAMP:20260419T174327
CREATED:20251029T174306Z
LAST-MODIFIED:20251029T174349Z
UID:10057361-1766620800-1766707199@jesmondlibrary.org
SUMMARY:CHRISTMAS DAY
DESCRIPTION:
URL:https://jesmondlibrary.org/event/christmas-day-library-closed/
ORGANIZER;CN="Jesmond Library":MAILTO:events@jesmondlibrary.org
END:VEVENT
BEGIN:VEVENT
DTSTART;TZID=Europe/London:20251225T100000
DTEND;TZID=Europe/London:20251225T120000
DTSTAMP:20260419T174327
CREATED:20251208T103243Z
LAST-MODIFIED:20251218T232900Z
UID:10058708-1766656800-1766664000@jesmondlibrary.org
SUMMARY:AMC Holy Trinity Church meeting
DESCRIPTION:
URL:https://jesmondlibrary.org/event/amc-holy-trinity-church-meeting-2/
LOCATION:Main Room
ATTACH;FMTTYPE=image/jpeg:https://jesmondlibrary.org/wp-content/uploads/2025/12/10008712811.jpg
END:VEVENT
BEGIN:VEVENT
DTSTART;VALUE=DATE:20251226
DTEND;VALUE=DATE:20251227
DTSTAMP:20260419T174327
CREATED:20251029T174455Z
LAST-MODIFIED:20251029T174455Z
UID:10057362-1766707200-1766793599@jesmondlibrary.org
SUMMARY:BOXING DAY
DESCRIPTION:
URL:https://jesmondlibrary.org/event/boxing-day/
ORGANIZER;CN="Jesmond Library":MAILTO:events@jesmondlibrary.org
END:VEVENT
BEGIN:VEVENT
DTSTART;TZID=Europe/London:20251227T093000
DTEND;TZID=Europe/London:20251227T123000
DTSTAMP:20260419T174327
CREATED:20251018T103211Z
LAST-MODIFIED:20251018T103211Z
UID:10055115-1766827800-1766838600@jesmondlibrary.org
SUMMARY:LIBRARY OPEN SATURDAYS
DESCRIPTION:
URL:https://jesmondlibrary.org/event/library-open-saturdays-5/
LOCATION:Main Room
ORGANIZER;CN="Jesmond Library":MAILTO:events@jesmondlibrary.org
END:VEVENT
BEGIN:VEVENT
DTSTART;TZID=Europe/London:20251228T090000
DTEND;TZID=Europe/London:20251228T130000
DTSTAMP:20260419T174327
CREATED:20251009T085440Z
LAST-MODIFIED:20251009T090300Z
UID:10057167-1766912400-1766926800@jesmondlibrary.org
SUMMARY:AMC Holy Trinity Church meeting
DESCRIPTION:
URL:https://jesmondlibrary.org/event/private-church-meetings-2/2025-12-28/
LOCATION:Main Room
END:VEVENT
BEGIN:VEVENT
DTSTART;TZID=Europe/London:20251228T111500
DTEND;TZID=Europe/London:20251228T121500
DTSTAMP:20260419T174327
CREATED:20251009T090127Z
LAST-MODIFIED:20251009T090127Z
UID:10057179-1766920500-1766924100@jesmondlibrary.org
SUMMARY:AMC Holy Trinity Church (CC)
DESCRIPTION:
URL:https://jesmondlibrary.org/event/amc-holy-trinity-church-cc/2025-12-28/
LOCATION:Catherine Cookson Room
END:VEVENT
END:VCALENDAR