BEGIN:VCALENDAR
VERSION:2.0
PRODID:-//Jesmond Library - ECPv6.15.17.1//NONSGML v1.0//EN
CALSCALE:GREGORIAN
METHOD:PUBLISH
X-ORIGINAL-URL:https://jesmondlibrary.org
X-WR-CALDESC:Events for Jesmond Library
REFRESH-INTERVAL;VALUE=DURATION:PT1H
X-Robots-Tag:noindex
X-PUBLISHED-TTL:PT1H
BEGIN:VTIMEZONE
TZID:Europe/London
BEGIN:DAYLIGHT
TZOFFSETFROM:+0000
TZOFFSETTO:+0100
TZNAME:BST
DTSTART:20230326T010000
END:DAYLIGHT
BEGIN:STANDARD
TZOFFSETFROM:+0100
TZOFFSETTO:+0000
TZNAME:GMT
DTSTART:20231029T010000
END:STANDARD
BEGIN:DAYLIGHT
TZOFFSETFROM:+0000
TZOFFSETTO:+0100
TZNAME:BST
DTSTART:20240331T010000
END:DAYLIGHT
BEGIN:STANDARD
TZOFFSETFROM:+0100
TZOFFSETTO:+0000
TZNAME:GMT
DTSTART:20241027T010000
END:STANDARD
BEGIN:DAYLIGHT
TZOFFSETFROM:+0000
TZOFFSETTO:+0100
TZNAME:BST
DTSTART:20250330T010000
END:DAYLIGHT
BEGIN:STANDARD
TZOFFSETFROM:+0100
TZOFFSETTO:+0000
TZNAME:GMT
DTSTART:20251026T010000
END:STANDARD
END:VTIMEZONE
BEGIN:VEVENT
DTSTART;TZID=Europe/London:20240820T093000
DTEND;TZID=Europe/London:20240820T163000
DTSTAMP:20260419T161059
CREATED:20231205T112520Z
LAST-MODIFIED:20240126T103620Z
UID:10052937-1724146200-1724171400@jesmondlibrary.org
SUMMARY:LIBRARY OPEN TUESDAYS
DESCRIPTION:
URL:https://jesmondlibrary.org/event/library-open-2024/2024-08-20/
LOCATION:Main Room
ORGANIZER;CN="Jesmond Library":MAILTO:events@jesmondlibrary.org
END:VEVENT
BEGIN:VEVENT
DTSTART;TZID=Europe/London:20240820T100000
DTEND;TZID=Europe/London:20240820T110000
DTSTAMP:20260419T161059
CREATED:20231118T115553Z
LAST-MODIFIED:20231229T113823Z
UID:10050337-1724148000-1724151600@jesmondlibrary.org
SUMMARY:Intermediate German conversation
DESCRIPTION:
URL:https://jesmondlibrary.org/event/intermediate-german-conversation/2024-08-20/
LOCATION:Sid Chaplin room
ATTACH;FMTTYPE=image/jpeg:https://jesmondlibrary.org/wp-content/uploads/2023/11/GERMAN-INT.jpg
ORGANIZER;CN="Jesmond Library":MAILTO:events@jesmondlibrary.org
END:VEVENT
BEGIN:VEVENT
DTSTART;TZID=Europe/London:20240820T110000
DTEND;TZID=Europe/London:20240820T120000
DTSTAMP:20260419T161059
CREATED:20231118T115723Z
LAST-MODIFIED:20231229T114210Z
UID:10050398-1724151600-1724155200@jesmondlibrary.org
SUMMARY:Spanish conversation - Beginners
DESCRIPTION:
URL:https://jesmondlibrary.org/event/spanish-conversation-10/2024-08-20/
LOCATION:Sid Chaplin room
ATTACH;FMTTYPE=image/jpeg:https://jesmondlibrary.org/wp-content/uploads/2023/11/SPANISH.jpg
ORGANIZER;CN="Jesmond Library":MAILTO:events@jesmondlibrary.org
END:VEVENT
BEGIN:VEVENT
DTSTART;TZID=Europe/London:20240820T120000
DTEND;TZID=Europe/London:20240820T130000
DTSTAMP:20260419T161059
CREATED:20240801T100827Z
LAST-MODIFIED:20240903T100927Z
UID:10054716-1724155200-1724158800@jesmondlibrary.org
SUMMARY:Italian conversation with Antonella
DESCRIPTION:
URL:https://jesmondlibrary.org/event/italian-conversation-6-2024-01-16-2/2024-08-20/
LOCATION:Catherine Cookson Room\, Jesmond Library\, Newcastle upon Tyne\, NE2 2DL\, United Kingdom
ATTACH;FMTTYPE=image/jpeg:https://jesmondlibrary.org/wp-content/uploads/2023/11/ITALIAN-Conversation.jpg
ORGANIZER;CN="Jesmond Library":MAILTO:events@jesmondlibrary.org
GEO:54.9932456;-1.606461
X-APPLE-STRUCTURED-LOCATION;VALUE=URI;X-ADDRESS=Catherine Cookson Room Jesmond Library Newcastle upon Tyne NE2 2DL United Kingdom;X-APPLE-RADIUS=500;X-TITLE=Jesmond Library:geo:-1.606461,54.9932456
END:VEVENT
BEGIN:VEVENT
DTSTART;TZID=Europe/London:20240820T130000
DTEND;TZID=Europe/London:20240820T140000
DTSTAMP:20260419T161059
CREATED:20231118T120005Z
LAST-MODIFIED:20240913T123700Z
UID:10053835-1724158800-1724162400@jesmondlibrary.org
SUMMARY:French conversation - Intermediate
DESCRIPTION:
URL:https://jesmondlibrary.org/event/french-conversation-2024-01-16/2024-08-20/
LOCATION:Catherine Cookson Room\, Jesmond Library\, Newcastle upon Tyne\, NE2 2DL\, United Kingdom
ATTACH;FMTTYPE=image/jpeg:https://jesmondlibrary.org/wp-content/uploads/2023/11/image_64834411.jpg
ORGANIZER;CN="Jesmond Library":MAILTO:events@jesmondlibrary.org
GEO:54.9932456;-1.606461
X-APPLE-STRUCTURED-LOCATION;VALUE=URI;X-ADDRESS=Catherine Cookson Room Jesmond Library Newcastle upon Tyne NE2 2DL United Kingdom;X-APPLE-RADIUS=500;X-TITLE=Jesmond Library:geo:-1.606461,54.9932456
END:VEVENT
BEGIN:VEVENT
DTSTART;TZID=Europe/London:20240821T190000
DTEND;TZID=Europe/London:20240821T210000
DTSTAMP:20260419T161059
CREATED:20231118T114739Z
LAST-MODIFIED:20231229T120003Z
UID:10050171-1724266800-1724274000@jesmondlibrary.org
SUMMARY:Serene Reflections
DESCRIPTION:
URL:https://jesmondlibrary.org/event/serene-reflections/2024-08-21/
LOCATION:Sid Chaplin room
END:VEVENT
BEGIN:VEVENT
DTSTART;TZID=Europe/London:20240822T093000
DTEND;TZID=Europe/London:20240822T180000
DTSTAMP:20260419T161059
CREATED:20231205T112652Z
LAST-MODIFIED:20240103T135518Z
UID:10052994-1724319000-1724349600@jesmondlibrary.org
SUMMARY:LIBRARY OPEN THURSDAYS
DESCRIPTION:
URL:https://jesmondlibrary.org/event/library-open-thursdays-2024/2024-08-22/
LOCATION:Main Room
ORGANIZER;CN="Jesmond Library":MAILTO:events@jesmondlibrary.org
END:VEVENT
BEGIN:VEVENT
DTSTART;TZID=Europe/London:20240822T104500
DTEND;TZID=Europe/London:20240822T114500
DTSTAMP:20260419T161059
CREATED:20231118T114334Z
LAST-MODIFIED:20231229T120427Z
UID:10052823-1724323500-1724327100@jesmondlibrary.org
SUMMARY:Advanced German conversation group
DESCRIPTION:
URL:https://jesmondlibrary.org/event/advanced-german/2024-08-22/
LOCATION:Catherine Cookson Room\, Jesmond Library\, Newcastle upon Tyne\, NE2 2DL\, United Kingdom
ORGANIZER;CN="Jesmond Library":MAILTO:events@jesmondlibrary.org
GEO:54.9932456;-1.606461
X-APPLE-STRUCTURED-LOCATION;VALUE=URI;X-ADDRESS=Catherine Cookson Room Jesmond Library Newcastle upon Tyne NE2 2DL United Kingdom;X-APPLE-RADIUS=500;X-TITLE=Jesmond Library:geo:-1.606461,54.9932456
END:VEVENT
BEGIN:VEVENT
DTSTART;TZID=Europe/London:20240822T180000
DTEND;TZID=Europe/London:20240822T193000
DTSTAMP:20260419T161059
CREATED:20231118T115102Z
LAST-MODIFIED:20231229T120934Z
UID:10050234-1724349600-1724355000@jesmondlibrary.org
SUMMARY:Spanish Conversation
DESCRIPTION:
URL:https://jesmondlibrary.org/event/spanish-conversation-9/2024-08-22/
LOCATION:Sid Chaplin room
ATTACH;FMTTYPE=image/jpeg:https://jesmondlibrary.org/wp-content/uploads/2022/05/SPANISH.jpg
ORGANIZER;CN="Jesmond Library":MAILTO:events@jesmondlibrary.org
END:VEVENT
BEGIN:VEVENT
DTSTART;TZID=Europe/London:20240823T093000
DTEND;TZID=Europe/London:20240823T123000
DTSTAMP:20260419T161059
CREATED:20231205T112827Z
LAST-MODIFIED:20240211T172652Z
UID:10053045-1724405400-1724416200@jesmondlibrary.org
SUMMARY:LIBRARY OPEN FRIDAYS
DESCRIPTION:Library Open 2024
URL:https://jesmondlibrary.org/event/library-open-fridays-2024/2024-08-23/
LOCATION:Main Room
ORGANIZER;CN="Jesmond Library":MAILTO:events@jesmondlibrary.org
END:VEVENT
BEGIN:VEVENT
DTSTART;TZID=Europe/London:20240823T093000
DTEND;TZID=Europe/London:20240823T123000
DTSTAMP:20260419T161059
CREATED:20231229T121359Z
LAST-MODIFIED:20240130T145220Z
UID:10053348-1724405400-1724416200@jesmondlibrary.org
SUMMARY:English Language Conversation Class
DESCRIPTION:
URL:https://jesmondlibrary.org/event/friends-friday-4-2024-02-02/2024-08-23/
LOCATION:Catherine Cookson Room\, Jesmond Library\, Newcastle upon Tyne\, NE2 2DL\, United Kingdom
ATTACH;FMTTYPE=image/jpeg:https://jesmondlibrary.org/wp-content/uploads/2023/12/ENGLISH-LANGUAGE.jpg
ORGANIZER;CN="Jesmond Library":MAILTO:events@jesmondlibrary.org
GEO:54.9932456;-1.606461
X-APPLE-STRUCTURED-LOCATION;VALUE=URI;X-ADDRESS=Catherine Cookson Room Jesmond Library Newcastle upon Tyne NE2 2DL United Kingdom;X-APPLE-RADIUS=500;X-TITLE=Jesmond Library:geo:-1.606461,54.9932456
END:VEVENT
BEGIN:VEVENT
DTSTART;TZID=Europe/London:20240823T103000
DTEND;TZID=Europe/London:20240823T110000
DTSTAMP:20260419T161059
CREATED:20240726T092327Z
LAST-MODIFIED:20240817T165248Z
UID:10054699-1724409000-1724410800@jesmondlibrary.org
SUMMARY:Police Drop-In
DESCRIPTION:
URL:https://jesmondlibrary.org/event/police-drop-in-2/
ATTACH;FMTTYPE=image/jpeg:https://jesmondlibrary.org/wp-content/uploads/2024/07/Police-Drop-In-scaled.jpg
ORGANIZER;CN="Jesmond Library":MAILTO:events@jesmondlibrary.org
END:VEVENT
BEGIN:VEVENT
DTSTART;TZID=Europe/London:20240824T093000
DTEND;TZID=Europe/London:20240824T163000
DTSTAMP:20260419T161059
CREATED:20231205T112847Z
LAST-MODIFIED:20240103T135812Z
UID:10053097-1724491800-1724517000@jesmondlibrary.org
SUMMARY:LIBRARY OPEN SATURDAYS
DESCRIPTION:
URL:https://jesmondlibrary.org/event/library-open-saturdays-2024/2024-08-24/
LOCATION:Main Room
ORGANIZER;CN="Jesmond Library":MAILTO:events@jesmondlibrary.org
END:VEVENT
BEGIN:VEVENT
DTSTART;TZID=Europe/London:20240824T100000
DTEND;TZID=Europe/London:20240824T110000
DTSTAMP:20260419T161059
CREATED:20240220T133750Z
LAST-MODIFIED:20240220T133751Z
UID:10053803-1724493600-1724497200@jesmondlibrary.org
SUMMARY:Lib Dem Surgery
DESCRIPTION:
URL:https://jesmondlibrary.org/event/lib-dem-surgery-2/2024-08-24/
LOCATION:Main Room
END:VEVENT
BEGIN:VEVENT
DTSTART;TZID=Europe/London:20240825T133000
DTEND;TZID=Europe/London:20240825T143000
DTSTAMP:20260419T161059
CREATED:20231118T143606Z
LAST-MODIFIED:20231229T121614Z
UID:10052873-1724592600-1724596200@jesmondlibrary.org
SUMMARY:Mindful Therapies Meditation
DESCRIPTION:
URL:https://jesmondlibrary.org/event/mindful-therapies-meditation-4/2024-08-25/
LOCATION:Catherine Cookson Room\, Jesmond Library\, Newcastle upon Tyne\, NE2 2DL\, United Kingdom
GEO:54.9932456;-1.606461
X-APPLE-STRUCTURED-LOCATION;VALUE=URI;X-ADDRESS=Catherine Cookson Room Jesmond Library Newcastle upon Tyne NE2 2DL United Kingdom;X-APPLE-RADIUS=500;X-TITLE=Jesmond Library:geo:-1.606461,54.9932456
END:VEVENT
END:VCALENDAR