BEGIN:VCALENDAR
VERSION:2.0
PRODID:-//Jesmond Library - ECPv6.15.17.1//NONSGML v1.0//EN
CALSCALE:GREGORIAN
METHOD:PUBLISH
X-WR-CALNAME:Jesmond Library
X-ORIGINAL-URL:https://jesmondlibrary.org
X-WR-CALDESC:Events for Jesmond Library
REFRESH-INTERVAL;VALUE=DURATION:PT1H
X-Robots-Tag:noindex
X-PUBLISHED-TTL:PT1H
BEGIN:VTIMEZONE
TZID:Europe/London
BEGIN:DAYLIGHT
TZOFFSETFROM:+0000
TZOFFSETTO:+0100
TZNAME:BST
DTSTART:20250330T010000
END:DAYLIGHT
BEGIN:STANDARD
TZOFFSETFROM:+0100
TZOFFSETTO:+0000
TZNAME:GMT
DTSTART:20251026T010000
END:STANDARD
BEGIN:DAYLIGHT
TZOFFSETFROM:+0000
TZOFFSETTO:+0100
TZNAME:BST
DTSTART:20260329T010000
END:DAYLIGHT
BEGIN:STANDARD
TZOFFSETFROM:+0100
TZOFFSETTO:+0000
TZNAME:GMT
DTSTART:20261025T010000
END:STANDARD
BEGIN:DAYLIGHT
TZOFFSETFROM:+0000
TZOFFSETTO:+0100
TZNAME:BST
DTSTART:20270328T010000
END:DAYLIGHT
BEGIN:STANDARD
TZOFFSETFROM:+0100
TZOFFSETTO:+0000
TZNAME:GMT
DTSTART:20271031T010000
END:STANDARD
END:VTIMEZONE
BEGIN:VEVENT
DTSTART;TZID=Europe/London:20260910T180000
DTEND;TZID=Europe/London:20260910T190000
DTSTAMP:20260421T101118
CREATED:20260310T201221Z
LAST-MODIFIED:20260310T201233Z
UID:10058881-1789063200-1789066800@jesmondlibrary.org
SUMMARY:Thursday Talk - Jack and Bobby Charlton
DESCRIPTION:Michael Gatherar talks about the lives and careers of legendary Geordie footballers Jack and Bobby Charlton.
URL:https://jesmondlibrary.org/event/thursday-talk-jack-and-bobby-charlton-2/
LOCATION:Main Room
ORGANIZER;CN="Jesmond Library":MAILTO:events@jesmondlibrary.org
END:VEVENT
BEGIN:VEVENT
DTSTART;TZID=Europe/London:20260917T180000
DTEND;TZID=Europe/London:20260917T190000
DTSTAMP:20260421T101118
CREATED:20260309T180417Z
LAST-MODIFIED:20260310T201451Z
UID:10058883-1789668000-1789671600@jesmondlibrary.org
SUMMARY:Thursday Talk
DESCRIPTION:
URL:https://jesmondlibrary.org/event/thursday-talk-14/2026-09-17/
ORGANIZER;CN="Jesmond Library":MAILTO:events@jesmondlibrary.org
END:VEVENT
BEGIN:VEVENT
DTSTART;TZID=Europe/London:20260924T180000
DTEND;TZID=Europe/London:20260924T190000
DTSTAMP:20260421T101118
CREATED:20260309T180417Z
LAST-MODIFIED:20260310T201451Z
UID:10058884-1790272800-1790276400@jesmondlibrary.org
SUMMARY:Thursday Talk
DESCRIPTION:
URL:https://jesmondlibrary.org/event/thursday-talk-14/2026-09-24/
ORGANIZER;CN="Jesmond Library":MAILTO:events@jesmondlibrary.org
END:VEVENT
BEGIN:VEVENT
DTSTART;TZID=Europe/London:20261001T180000
DTEND;TZID=Europe/London:20261001T190000
DTSTAMP:20260421T101118
CREATED:20260311T080116Z
LAST-MODIFIED:20260311T080419Z
UID:10058885-1790877600-1790881200@jesmondlibrary.org
SUMMARY:Thursday Talk - the 1826 Northumberland Election
DESCRIPTION:The 1826 Northumberland Election became nationally infamous for its level of acrimony\, disorderly behaviour and above all expense.  To celebrate the 200th anniversary\, Keith Jewitt repeats his popular talk first delivered in 2017.
URL:https://jesmondlibrary.org/event/thursday-talk-15/
LOCATION:Main Room
ORGANIZER;CN="Jesmond Library":MAILTO:events@jesmondlibrary.org
END:VEVENT
BEGIN:VEVENT
DTSTART;TZID=Europe/London:20261008T180000
DTEND;TZID=Europe/London:20261008T190000
DTSTAMP:20260421T101118
CREATED:20260316T150638Z
LAST-MODIFIED:20260316T150759Z
UID:10058886-1791482400-1791486000@jesmondlibrary.org
SUMMARY:Thursday Talk - Citizens Advice Bureau Cases in Tyneside in the 1950s: Divorce\, Domestics and Rehousing.
DESCRIPTION:Margaret Bozic provides amazing insights into life in 1950s Newcastle\, using real cases brought to the Citizens Advice Bureau.
URL:https://jesmondlibrary.org/event/thursday-talk-17/
LOCATION:Main Room
ORGANIZER;CN="Jesmond Library":MAILTO:events@jesmondlibrary.org
END:VEVENT
BEGIN:VEVENT
DTSTART;TZID=Europe/London:20261015T180000
DTEND;TZID=Europe/London:20261015T190000
DTSTAMP:20260421T101118
CREATED:20260321T153138Z
LAST-MODIFIED:20260321T153349Z
UID:10058887-1792087200-1792090800@jesmondlibrary.org
SUMMARY:Thursday Talk - Sustainable Gardening
DESCRIPTION:Following up her earlier talk on “Finding Sanctuary in Urban Gardens”\, Dr Juno Quaintrell shares the secrets of her nature-friendly garden and shows us how it has changed through the seasons.
URL:https://jesmondlibrary.org/event/thursday-talk-19/
LOCATION:Main Room
ORGANIZER;CN="Jesmond Library":MAILTO:events@jesmondlibrary.org
END:VEVENT
BEGIN:VEVENT
DTSTART;TZID=Europe/London:20261022T180000
DTEND;TZID=Europe/London:20261022T190000
DTSTAMP:20260421T101118
CREATED:20260320T184850Z
LAST-MODIFIED:20260320T185020Z
UID:10058888-1792692000-1792695600@jesmondlibrary.org
SUMMARY:Thursday Talk - Viking Age Northumberland
DESCRIPTION:Military and local historian John Sadler looks at Viking Age Northumberland – invasions\, battles\, coexistence and competition for land and kingship.
URL:https://jesmondlibrary.org/event/thursday-talk-18/
LOCATION:Main Room
ORGANIZER;CN="Jesmond Library":MAILTO:events@jesmondlibrary.org
END:VEVENT
BEGIN:VEVENT
DTSTART;TZID=Europe/London:20261029T180000
DTEND;TZID=Europe/London:20261029T190000
DTSTAMP:20260421T101118
CREATED:20260309T180417Z
LAST-MODIFIED:20260310T201451Z
UID:10058889-1793296800-1793300400@jesmondlibrary.org
SUMMARY:Thursday Talk
DESCRIPTION:
URL:https://jesmondlibrary.org/event/thursday-talk-14/2026-10-29/
ORGANIZER;CN="Jesmond Library":MAILTO:events@jesmondlibrary.org
END:VEVENT
BEGIN:VEVENT
DTSTART;TZID=Europe/London:20261105T180000
DTEND;TZID=Europe/London:20261105T190000
DTSTAMP:20260421T101118
CREATED:20260311T175011Z
LAST-MODIFIED:20260311T175216Z
UID:10058890-1793901600-1793905200@jesmondlibrary.org
SUMMARY:Thursday Talk - Anthony Powell
DESCRIPTION:Keith Jewitt discusses the life and work of Anthony Powell (1905-2000)\, one of England’s foremost 20th century novelists.  Keith aims to provide both an introduction for those unfamiliar with the work\, and more in-depth discussion for fans.
URL:https://jesmondlibrary.org/event/thursday-talk-16/
LOCATION:Main Room
ORGANIZER;CN="Jesmond Library":MAILTO:events@jesmondlibrary.org
END:VEVENT
BEGIN:VEVENT
DTSTART;TZID=Europe/London:20261112T180000
DTEND;TZID=Europe/London:20261112T190000
DTSTAMP:20260421T101118
CREATED:20260309T180417Z
LAST-MODIFIED:20260310T201451Z
UID:10058891-1794506400-1794510000@jesmondlibrary.org
SUMMARY:Thursday Talk
DESCRIPTION:
URL:https://jesmondlibrary.org/event/thursday-talk-14/2026-11-12/
ORGANIZER;CN="Jesmond Library":MAILTO:events@jesmondlibrary.org
END:VEVENT
BEGIN:VEVENT
DTSTART;TZID=Europe/London:20261119T180000
DTEND;TZID=Europe/London:20261119T190000
DTSTAMP:20260421T101118
CREATED:20260309T180417Z
LAST-MODIFIED:20260310T201451Z
UID:10058892-1795111200-1795114800@jesmondlibrary.org
SUMMARY:Thursday Talk
DESCRIPTION:
URL:https://jesmondlibrary.org/event/thursday-talk-14/2026-11-19/
ORGANIZER;CN="Jesmond Library":MAILTO:events@jesmondlibrary.org
END:VEVENT
BEGIN:VEVENT
DTSTART;TZID=Europe/London:20261126T180000
DTEND;TZID=Europe/London:20261126T190000
DTSTAMP:20260421T101118
CREATED:20260309T180417Z
LAST-MODIFIED:20260310T201451Z
UID:10058893-1795716000-1795719600@jesmondlibrary.org
SUMMARY:Thursday Talk
DESCRIPTION:
URL:https://jesmondlibrary.org/event/thursday-talk-14/2026-11-26/
ORGANIZER;CN="Jesmond Library":MAILTO:events@jesmondlibrary.org
END:VEVENT
BEGIN:VEVENT
DTSTART;TZID=Europe/London:20261203T180000
DTEND;TZID=Europe/London:20261203T190000
DTSTAMP:20260421T101118
CREATED:20260310T201047Z
LAST-MODIFIED:20260310T201134Z
UID:10058894-1796320800-1796324400@jesmondlibrary.org
SUMMARY:Thursday Talk - Stan Laurel on Tyneside
DESCRIPTION:Michael Gatherar talks about the Tyneside roots of legendary entertainer Stan Laurel.
URL:https://jesmondlibrary.org/event/thursday-talk-jack-and-bobby-charlton/
LOCATION:Main Room
ORGANIZER;CN="Jesmond Library":MAILTO:events@jesmondlibrary.org
END:VEVENT
BEGIN:VEVENT
DTSTART;TZID=Europe/London:20261210T180000
DTEND;TZID=Europe/London:20261210T190000
DTSTAMP:20260421T101118
CREATED:20260309T180417Z
LAST-MODIFIED:20260310T201451Z
UID:10058895-1796925600-1796929200@jesmondlibrary.org
SUMMARY:Thursday Talk
DESCRIPTION:
URL:https://jesmondlibrary.org/event/thursday-talk-14/2026-12-10/
ORGANIZER;CN="Jesmond Library":MAILTO:events@jesmondlibrary.org
END:VEVENT
END:VCALENDAR