BEGIN:VCALENDAR
VERSION:2.0
PRODID:-//Jesmond Library - ECPv6.15.17.1//NONSGML v1.0//EN
CALSCALE:GREGORIAN
METHOD:PUBLISH
X-WR-CALNAME:Jesmond Library
X-ORIGINAL-URL:https://jesmondlibrary.org
X-WR-CALDESC:Events for Jesmond Library
REFRESH-INTERVAL;VALUE=DURATION:PT1H
X-Robots-Tag:noindex
X-PUBLISHED-TTL:PT1H
BEGIN:VTIMEZONE
TZID:Europe/London
BEGIN:DAYLIGHT
TZOFFSETFROM:+0000
TZOFFSETTO:+0100
TZNAME:BST
DTSTART:20250330T010000
END:DAYLIGHT
BEGIN:STANDARD
TZOFFSETFROM:+0100
TZOFFSETTO:+0000
TZNAME:GMT
DTSTART:20251026T010000
END:STANDARD
BEGIN:DAYLIGHT
TZOFFSETFROM:+0000
TZOFFSETTO:+0100
TZNAME:BST
DTSTART:20260329T010000
END:DAYLIGHT
BEGIN:STANDARD
TZOFFSETFROM:+0100
TZOFFSETTO:+0000
TZNAME:GMT
DTSTART:20261025T010000
END:STANDARD
BEGIN:DAYLIGHT
TZOFFSETFROM:+0000
TZOFFSETTO:+0100
TZNAME:BST
DTSTART:20270328T010000
END:DAYLIGHT
BEGIN:STANDARD
TZOFFSETFROM:+0100
TZOFFSETTO:+0000
TZNAME:GMT
DTSTART:20271031T010000
END:STANDARD
END:VTIMEZONE
BEGIN:VEVENT
DTSTART;TZID=Europe/London:20260505T140000
DTEND;TZID=Europe/London:20260505T153000
DTSTAMP:20260420T125430
CREATED:20251111T100952Z
LAST-MODIFIED:20251219T093359Z
UID:10057909-1777989600-1777995000@jesmondlibrary.org
SUMMARY:Poetry Sharing
DESCRIPTION:
URL:https://jesmondlibrary.org/event/poetry-reading/2026-05-05/
LOCATION:Sid Chaplin room
ATTACH;FMTTYPE=image/jpeg:https://jesmondlibrary.org/wp-content/uploads/2024/10/Poetry-Sharing.jpg
ORGANIZER;CN="Jesmond Library":MAILTO:events@jesmondlibrary.org
END:VEVENT
BEGIN:VEVENT
DTSTART;TZID=Europe/London:20260602T140000
DTEND;TZID=Europe/London:20260602T153000
DTSTAMP:20260420T125430
CREATED:20251111T100952Z
LAST-MODIFIED:20251219T093359Z
UID:10057910-1780408800-1780414200@jesmondlibrary.org
SUMMARY:Poetry Sharing
DESCRIPTION:
URL:https://jesmondlibrary.org/event/poetry-reading/2026-06-02/
LOCATION:Sid Chaplin room
ATTACH;FMTTYPE=image/jpeg:https://jesmondlibrary.org/wp-content/uploads/2024/10/Poetry-Sharing.jpg
ORGANIZER;CN="Jesmond Library":MAILTO:events@jesmondlibrary.org
END:VEVENT
BEGIN:VEVENT
DTSTART;TZID=Europe/London:20260707T140000
DTEND;TZID=Europe/London:20260707T153000
DTSTAMP:20260420T125430
CREATED:20251111T100952Z
LAST-MODIFIED:20251219T093359Z
UID:10057911-1783432800-1783438200@jesmondlibrary.org
SUMMARY:Poetry Sharing
DESCRIPTION:
URL:https://jesmondlibrary.org/event/poetry-reading/2026-07-07/
LOCATION:Sid Chaplin room
ATTACH;FMTTYPE=image/jpeg:https://jesmondlibrary.org/wp-content/uploads/2024/10/Poetry-Sharing.jpg
ORGANIZER;CN="Jesmond Library":MAILTO:events@jesmondlibrary.org
END:VEVENT
BEGIN:VEVENT
DTSTART;TZID=Europe/London:20260804T140000
DTEND;TZID=Europe/London:20260804T153000
DTSTAMP:20260420T125430
CREATED:20251111T100952Z
LAST-MODIFIED:20251219T093359Z
UID:10057912-1785852000-1785857400@jesmondlibrary.org
SUMMARY:Poetry Sharing
DESCRIPTION:
URL:https://jesmondlibrary.org/event/poetry-reading/2026-08-04/
LOCATION:Sid Chaplin room
ATTACH;FMTTYPE=image/jpeg:https://jesmondlibrary.org/wp-content/uploads/2024/10/Poetry-Sharing.jpg
ORGANIZER;CN="Jesmond Library":MAILTO:events@jesmondlibrary.org
END:VEVENT
BEGIN:VEVENT
DTSTART;TZID=Europe/London:20260901T140000
DTEND;TZID=Europe/London:20260901T153000
DTSTAMP:20260420T125430
CREATED:20251111T100952Z
LAST-MODIFIED:20251219T093359Z
UID:10057913-1788271200-1788276600@jesmondlibrary.org
SUMMARY:Poetry Sharing
DESCRIPTION:
URL:https://jesmondlibrary.org/event/poetry-reading/2026-09-01/
LOCATION:Sid Chaplin room
ATTACH;FMTTYPE=image/jpeg:https://jesmondlibrary.org/wp-content/uploads/2024/10/Poetry-Sharing.jpg
ORGANIZER;CN="Jesmond Library":MAILTO:events@jesmondlibrary.org
END:VEVENT
BEGIN:VEVENT
DTSTART;TZID=Europe/London:20261006T140000
DTEND;TZID=Europe/London:20261006T153000
DTSTAMP:20260420T125430
CREATED:20251111T100952Z
LAST-MODIFIED:20251219T093359Z
UID:10057914-1791295200-1791300600@jesmondlibrary.org
SUMMARY:Poetry Sharing
DESCRIPTION:
URL:https://jesmondlibrary.org/event/poetry-reading/2026-10-06/
LOCATION:Sid Chaplin room
ATTACH;FMTTYPE=image/jpeg:https://jesmondlibrary.org/wp-content/uploads/2024/10/Poetry-Sharing.jpg
ORGANIZER;CN="Jesmond Library":MAILTO:events@jesmondlibrary.org
END:VEVENT
BEGIN:VEVENT
DTSTART;TZID=Europe/London:20261103T140000
DTEND;TZID=Europe/London:20261103T153000
DTSTAMP:20260420T125430
CREATED:20251111T100952Z
LAST-MODIFIED:20251219T093359Z
UID:10057915-1793714400-1793719800@jesmondlibrary.org
SUMMARY:Poetry Sharing
DESCRIPTION:
URL:https://jesmondlibrary.org/event/poetry-reading/2026-11-03/
LOCATION:Sid Chaplin room
ATTACH;FMTTYPE=image/jpeg:https://jesmondlibrary.org/wp-content/uploads/2024/10/Poetry-Sharing.jpg
ORGANIZER;CN="Jesmond Library":MAILTO:events@jesmondlibrary.org
END:VEVENT
BEGIN:VEVENT
DTSTART;TZID=Europe/London:20261201T140000
DTEND;TZID=Europe/London:20261201T153000
DTSTAMP:20260420T125430
CREATED:20251111T100952Z
LAST-MODIFIED:20251219T093359Z
UID:10057916-1796133600-1796139000@jesmondlibrary.org
SUMMARY:Poetry Sharing
DESCRIPTION:
URL:https://jesmondlibrary.org/event/poetry-reading/2026-12-01/
LOCATION:Sid Chaplin room
ATTACH;FMTTYPE=image/jpeg:https://jesmondlibrary.org/wp-content/uploads/2024/10/Poetry-Sharing.jpg
ORGANIZER;CN="Jesmond Library":MAILTO:events@jesmondlibrary.org
END:VEVENT
END:VCALENDAR