BEGIN:VCALENDAR
VERSION:2.0
PRODID:-//Jesmond Library - ECPv6.15.17.1//NONSGML v1.0//EN
CALSCALE:GREGORIAN
METHOD:PUBLISH
X-WR-CALNAME:Jesmond Library
X-ORIGINAL-URL:https://jesmondlibrary.org
X-WR-CALDESC:Events for Jesmond Library
REFRESH-INTERVAL;VALUE=DURATION:PT1H
X-Robots-Tag:noindex
X-PUBLISHED-TTL:PT1H
BEGIN:VTIMEZONE
TZID:Europe/London
BEGIN:DAYLIGHT
TZOFFSETFROM:+0000
TZOFFSETTO:+0100
TZNAME:BST
DTSTART:20250330T010000
END:DAYLIGHT
BEGIN:STANDARD
TZOFFSETFROM:+0100
TZOFFSETTO:+0000
TZNAME:GMT
DTSTART:20251026T010000
END:STANDARD
BEGIN:DAYLIGHT
TZOFFSETFROM:+0000
TZOFFSETTO:+0100
TZNAME:BST
DTSTART:20260329T010000
END:DAYLIGHT
BEGIN:STANDARD
TZOFFSETFROM:+0100
TZOFFSETTO:+0000
TZNAME:GMT
DTSTART:20261025T010000
END:STANDARD
BEGIN:DAYLIGHT
TZOFFSETFROM:+0000
TZOFFSETTO:+0100
TZNAME:BST
DTSTART:20270328T010000
END:DAYLIGHT
BEGIN:STANDARD
TZOFFSETFROM:+0100
TZOFFSETTO:+0000
TZNAME:GMT
DTSTART:20271031T010000
END:STANDARD
END:VTIMEZONE
BEGIN:VEVENT
DTSTART;TZID=Europe/London:20260420T190000
DTEND;TZID=Europe/London:20260420T210000
DTSTAMP:20260420T162108
CREATED:20251111T094915Z
LAST-MODIFIED:20251111T094915Z
UID:10057609-1776711600-1776718800@jesmondlibrary.org
SUMMARY:Play Reading
DESCRIPTION:
URL:https://jesmondlibrary.org/event/play-reading-6/2026-04-20/
LOCATION:Main room – Coffee Area
ATTACH;FMTTYPE=image/jpeg:https://jesmondlibrary.org/wp-content/uploads/2022/11/PLAY-READING.jpg
ORGANIZER;CN="Jesmond Library":MAILTO:events@jesmondlibrary.org
END:VEVENT
BEGIN:VEVENT
DTSTART;TZID=Europe/London:20260427T190000
DTEND;TZID=Europe/London:20260427T210000
DTSTAMP:20260420T162108
CREATED:20251111T094915Z
LAST-MODIFIED:20251111T094915Z
UID:10057610-1777316400-1777323600@jesmondlibrary.org
SUMMARY:Play Reading
DESCRIPTION:
URL:https://jesmondlibrary.org/event/play-reading-6/2026-04-27/
LOCATION:Main room – Coffee Area
ATTACH;FMTTYPE=image/jpeg:https://jesmondlibrary.org/wp-content/uploads/2022/11/PLAY-READING.jpg
ORGANIZER;CN="Jesmond Library":MAILTO:events@jesmondlibrary.org
END:VEVENT
BEGIN:VEVENT
DTSTART;TZID=Europe/London:20260518T190000
DTEND;TZID=Europe/London:20260518T210000
DTSTAMP:20260420T162108
CREATED:20251111T094915Z
LAST-MODIFIED:20251111T094915Z
UID:10057613-1779130800-1779138000@jesmondlibrary.org
SUMMARY:Play Reading
DESCRIPTION:
URL:https://jesmondlibrary.org/event/play-reading-6/2026-05-18/
LOCATION:Main room – Coffee Area
ATTACH;FMTTYPE=image/jpeg:https://jesmondlibrary.org/wp-content/uploads/2022/11/PLAY-READING.jpg
ORGANIZER;CN="Jesmond Library":MAILTO:events@jesmondlibrary.org
END:VEVENT
BEGIN:VEVENT
DTSTART;TZID=Europe/London:20260525T190000
DTEND;TZID=Europe/London:20260525T210000
DTSTAMP:20260420T162108
CREATED:20251111T094915Z
LAST-MODIFIED:20251111T094915Z
UID:10057614-1779735600-1779742800@jesmondlibrary.org
SUMMARY:Play Reading
DESCRIPTION:
URL:https://jesmondlibrary.org/event/play-reading-6/2026-05-25/
LOCATION:Main room – Coffee Area
ATTACH;FMTTYPE=image/jpeg:https://jesmondlibrary.org/wp-content/uploads/2022/11/PLAY-READING.jpg
ORGANIZER;CN="Jesmond Library":MAILTO:events@jesmondlibrary.org
END:VEVENT
BEGIN:VEVENT
DTSTART;TZID=Europe/London:20260601T190000
DTEND;TZID=Europe/London:20260601T210000
DTSTAMP:20260420T162108
CREATED:20251111T094915Z
LAST-MODIFIED:20251111T094915Z
UID:10057615-1780340400-1780347600@jesmondlibrary.org
SUMMARY:Play Reading
DESCRIPTION:
URL:https://jesmondlibrary.org/event/play-reading-6/2026-06-01/
LOCATION:Main room – Coffee Area
ATTACH;FMTTYPE=image/jpeg:https://jesmondlibrary.org/wp-content/uploads/2022/11/PLAY-READING.jpg
ORGANIZER;CN="Jesmond Library":MAILTO:events@jesmondlibrary.org
END:VEVENT
BEGIN:VEVENT
DTSTART;TZID=Europe/London:20260608T190000
DTEND;TZID=Europe/London:20260608T210000
DTSTAMP:20260420T162108
CREATED:20251111T094915Z
LAST-MODIFIED:20251111T094915Z
UID:10057616-1780945200-1780952400@jesmondlibrary.org
SUMMARY:Play Reading
DESCRIPTION:
URL:https://jesmondlibrary.org/event/play-reading-6/2026-06-08/
LOCATION:Main room – Coffee Area
ATTACH;FMTTYPE=image/jpeg:https://jesmondlibrary.org/wp-content/uploads/2022/11/PLAY-READING.jpg
ORGANIZER;CN="Jesmond Library":MAILTO:events@jesmondlibrary.org
END:VEVENT
BEGIN:VEVENT
DTSTART;TZID=Europe/London:20260615T190000
DTEND;TZID=Europe/London:20260615T210000
DTSTAMP:20260420T162108
CREATED:20251111T094915Z
LAST-MODIFIED:20251111T094915Z
UID:10057617-1781550000-1781557200@jesmondlibrary.org
SUMMARY:Play Reading
DESCRIPTION:
URL:https://jesmondlibrary.org/event/play-reading-6/2026-06-15/
LOCATION:Main room – Coffee Area
ATTACH;FMTTYPE=image/jpeg:https://jesmondlibrary.org/wp-content/uploads/2022/11/PLAY-READING.jpg
ORGANIZER;CN="Jesmond Library":MAILTO:events@jesmondlibrary.org
END:VEVENT
BEGIN:VEVENT
DTSTART;TZID=Europe/London:20260622T190000
DTEND;TZID=Europe/London:20260622T210000
DTSTAMP:20260420T162108
CREATED:20251111T094915Z
LAST-MODIFIED:20251111T094915Z
UID:10057618-1782154800-1782162000@jesmondlibrary.org
SUMMARY:Play Reading
DESCRIPTION:
URL:https://jesmondlibrary.org/event/play-reading-6/2026-06-22/
LOCATION:Main room – Coffee Area
ATTACH;FMTTYPE=image/jpeg:https://jesmondlibrary.org/wp-content/uploads/2022/11/PLAY-READING.jpg
ORGANIZER;CN="Jesmond Library":MAILTO:events@jesmondlibrary.org
END:VEVENT
BEGIN:VEVENT
DTSTART;TZID=Europe/London:20260629T190000
DTEND;TZID=Europe/London:20260629T210000
DTSTAMP:20260420T162108
CREATED:20251111T094915Z
LAST-MODIFIED:20251111T094915Z
UID:10057619-1782759600-1782766800@jesmondlibrary.org
SUMMARY:Play Reading
DESCRIPTION:
URL:https://jesmondlibrary.org/event/play-reading-6/2026-06-29/
LOCATION:Main room – Coffee Area
ATTACH;FMTTYPE=image/jpeg:https://jesmondlibrary.org/wp-content/uploads/2022/11/PLAY-READING.jpg
ORGANIZER;CN="Jesmond Library":MAILTO:events@jesmondlibrary.org
END:VEVENT
BEGIN:VEVENT
DTSTART;TZID=Europe/London:20260706T190000
DTEND;TZID=Europe/London:20260706T210000
DTSTAMP:20260420T162108
CREATED:20251111T094915Z
LAST-MODIFIED:20251111T094915Z
UID:10057620-1783364400-1783371600@jesmondlibrary.org
SUMMARY:Play Reading
DESCRIPTION:
URL:https://jesmondlibrary.org/event/play-reading-6/2026-07-06/
LOCATION:Main room – Coffee Area
ATTACH;FMTTYPE=image/jpeg:https://jesmondlibrary.org/wp-content/uploads/2022/11/PLAY-READING.jpg
ORGANIZER;CN="Jesmond Library":MAILTO:events@jesmondlibrary.org
END:VEVENT
BEGIN:VEVENT
DTSTART;TZID=Europe/London:20260713T190000
DTEND;TZID=Europe/London:20260713T210000
DTSTAMP:20260420T162108
CREATED:20251111T094915Z
LAST-MODIFIED:20251111T094915Z
UID:10057621-1783969200-1783976400@jesmondlibrary.org
SUMMARY:Play Reading
DESCRIPTION:
URL:https://jesmondlibrary.org/event/play-reading-6/2026-07-13/
LOCATION:Main room – Coffee Area
ATTACH;FMTTYPE=image/jpeg:https://jesmondlibrary.org/wp-content/uploads/2022/11/PLAY-READING.jpg
ORGANIZER;CN="Jesmond Library":MAILTO:events@jesmondlibrary.org
END:VEVENT
BEGIN:VEVENT
DTSTART;TZID=Europe/London:20260720T190000
DTEND;TZID=Europe/London:20260720T210000
DTSTAMP:20260420T162108
CREATED:20251111T094915Z
LAST-MODIFIED:20251111T094915Z
UID:10057622-1784574000-1784581200@jesmondlibrary.org
SUMMARY:Play Reading
DESCRIPTION:
URL:https://jesmondlibrary.org/event/play-reading-6/2026-07-20/
LOCATION:Main room – Coffee Area
ATTACH;FMTTYPE=image/jpeg:https://jesmondlibrary.org/wp-content/uploads/2022/11/PLAY-READING.jpg
ORGANIZER;CN="Jesmond Library":MAILTO:events@jesmondlibrary.org
END:VEVENT
BEGIN:VEVENT
DTSTART;TZID=Europe/London:20260727T190000
DTEND;TZID=Europe/London:20260727T210000
DTSTAMP:20260420T162108
CREATED:20251111T094915Z
LAST-MODIFIED:20251111T094915Z
UID:10057623-1785178800-1785186000@jesmondlibrary.org
SUMMARY:Play Reading
DESCRIPTION:
URL:https://jesmondlibrary.org/event/play-reading-6/2026-07-27/
LOCATION:Main room – Coffee Area
ATTACH;FMTTYPE=image/jpeg:https://jesmondlibrary.org/wp-content/uploads/2022/11/PLAY-READING.jpg
ORGANIZER;CN="Jesmond Library":MAILTO:events@jesmondlibrary.org
END:VEVENT
BEGIN:VEVENT
DTSTART;TZID=Europe/London:20260803T190000
DTEND;TZID=Europe/London:20260803T210000
DTSTAMP:20260420T162108
CREATED:20251111T094915Z
LAST-MODIFIED:20251111T094915Z
UID:10057624-1785783600-1785790800@jesmondlibrary.org
SUMMARY:Play Reading
DESCRIPTION:
URL:https://jesmondlibrary.org/event/play-reading-6/2026-08-03/
LOCATION:Main room – Coffee Area
ATTACH;FMTTYPE=image/jpeg:https://jesmondlibrary.org/wp-content/uploads/2022/11/PLAY-READING.jpg
ORGANIZER;CN="Jesmond Library":MAILTO:events@jesmondlibrary.org
END:VEVENT
BEGIN:VEVENT
DTSTART;TZID=Europe/London:20260810T190000
DTEND;TZID=Europe/London:20260810T210000
DTSTAMP:20260420T162108
CREATED:20251111T094915Z
LAST-MODIFIED:20251111T094915Z
UID:10057625-1786388400-1786395600@jesmondlibrary.org
SUMMARY:Play Reading
DESCRIPTION:
URL:https://jesmondlibrary.org/event/play-reading-6/2026-08-10/
LOCATION:Main room – Coffee Area
ATTACH;FMTTYPE=image/jpeg:https://jesmondlibrary.org/wp-content/uploads/2022/11/PLAY-READING.jpg
ORGANIZER;CN="Jesmond Library":MAILTO:events@jesmondlibrary.org
END:VEVENT
BEGIN:VEVENT
DTSTART;TZID=Europe/London:20260817T190000
DTEND;TZID=Europe/London:20260817T210000
DTSTAMP:20260420T162108
CREATED:20251111T094915Z
LAST-MODIFIED:20251111T094915Z
UID:10057626-1786993200-1787000400@jesmondlibrary.org
SUMMARY:Play Reading
DESCRIPTION:
URL:https://jesmondlibrary.org/event/play-reading-6/2026-08-17/
LOCATION:Main room – Coffee Area
ATTACH;FMTTYPE=image/jpeg:https://jesmondlibrary.org/wp-content/uploads/2022/11/PLAY-READING.jpg
ORGANIZER;CN="Jesmond Library":MAILTO:events@jesmondlibrary.org
END:VEVENT
BEGIN:VEVENT
DTSTART;TZID=Europe/London:20260824T190000
DTEND;TZID=Europe/London:20260824T210000
DTSTAMP:20260420T162108
CREATED:20251111T094915Z
LAST-MODIFIED:20251111T094915Z
UID:10057627-1787598000-1787605200@jesmondlibrary.org
SUMMARY:Play Reading
DESCRIPTION:
URL:https://jesmondlibrary.org/event/play-reading-6/2026-08-24/
LOCATION:Main room – Coffee Area
ATTACH;FMTTYPE=image/jpeg:https://jesmondlibrary.org/wp-content/uploads/2022/11/PLAY-READING.jpg
ORGANIZER;CN="Jesmond Library":MAILTO:events@jesmondlibrary.org
END:VEVENT
BEGIN:VEVENT
DTSTART;TZID=Europe/London:20260831T190000
DTEND;TZID=Europe/London:20260831T210000
DTSTAMP:20260420T162108
CREATED:20251111T094915Z
LAST-MODIFIED:20251111T094915Z
UID:10057628-1788202800-1788210000@jesmondlibrary.org
SUMMARY:Play Reading
DESCRIPTION:
URL:https://jesmondlibrary.org/event/play-reading-6/2026-08-31/
LOCATION:Main room – Coffee Area
ATTACH;FMTTYPE=image/jpeg:https://jesmondlibrary.org/wp-content/uploads/2022/11/PLAY-READING.jpg
ORGANIZER;CN="Jesmond Library":MAILTO:events@jesmondlibrary.org
END:VEVENT
BEGIN:VEVENT
DTSTART;TZID=Europe/London:20260907T190000
DTEND;TZID=Europe/London:20260907T210000
DTSTAMP:20260420T162108
CREATED:20251111T094915Z
LAST-MODIFIED:20251111T094915Z
UID:10057629-1788807600-1788814800@jesmondlibrary.org
SUMMARY:Play Reading
DESCRIPTION:
URL:https://jesmondlibrary.org/event/play-reading-6/2026-09-07/
LOCATION:Main room – Coffee Area
ATTACH;FMTTYPE=image/jpeg:https://jesmondlibrary.org/wp-content/uploads/2022/11/PLAY-READING.jpg
ORGANIZER;CN="Jesmond Library":MAILTO:events@jesmondlibrary.org
END:VEVENT
BEGIN:VEVENT
DTSTART;TZID=Europe/London:20260914T190000
DTEND;TZID=Europe/London:20260914T210000
DTSTAMP:20260420T162108
CREATED:20251111T094915Z
LAST-MODIFIED:20251111T094915Z
UID:10057630-1789412400-1789419600@jesmondlibrary.org
SUMMARY:Play Reading
DESCRIPTION:
URL:https://jesmondlibrary.org/event/play-reading-6/2026-09-14/
LOCATION:Main room – Coffee Area
ATTACH;FMTTYPE=image/jpeg:https://jesmondlibrary.org/wp-content/uploads/2022/11/PLAY-READING.jpg
ORGANIZER;CN="Jesmond Library":MAILTO:events@jesmondlibrary.org
END:VEVENT
BEGIN:VEVENT
DTSTART;TZID=Europe/London:20260921T190000
DTEND;TZID=Europe/London:20260921T210000
DTSTAMP:20260420T162108
CREATED:20251111T094915Z
LAST-MODIFIED:20251111T094915Z
UID:10057631-1790017200-1790024400@jesmondlibrary.org
SUMMARY:Play Reading
DESCRIPTION:
URL:https://jesmondlibrary.org/event/play-reading-6/2026-09-21/
LOCATION:Main room – Coffee Area
ATTACH;FMTTYPE=image/jpeg:https://jesmondlibrary.org/wp-content/uploads/2022/11/PLAY-READING.jpg
ORGANIZER;CN="Jesmond Library":MAILTO:events@jesmondlibrary.org
END:VEVENT
BEGIN:VEVENT
DTSTART;TZID=Europe/London:20260928T190000
DTEND;TZID=Europe/London:20260928T210000
DTSTAMP:20260420T162108
CREATED:20251111T094915Z
LAST-MODIFIED:20251111T094915Z
UID:10057632-1790622000-1790629200@jesmondlibrary.org
SUMMARY:Play Reading
DESCRIPTION:
URL:https://jesmondlibrary.org/event/play-reading-6/2026-09-28/
LOCATION:Main room – Coffee Area
ATTACH;FMTTYPE=image/jpeg:https://jesmondlibrary.org/wp-content/uploads/2022/11/PLAY-READING.jpg
ORGANIZER;CN="Jesmond Library":MAILTO:events@jesmondlibrary.org
END:VEVENT
BEGIN:VEVENT
DTSTART;TZID=Europe/London:20261005T190000
DTEND;TZID=Europe/London:20261005T210000
DTSTAMP:20260420T162108
CREATED:20251111T094915Z
LAST-MODIFIED:20251111T094915Z
UID:10057633-1791226800-1791234000@jesmondlibrary.org
SUMMARY:Play Reading
DESCRIPTION:
URL:https://jesmondlibrary.org/event/play-reading-6/2026-10-05/
LOCATION:Main room – Coffee Area
ATTACH;FMTTYPE=image/jpeg:https://jesmondlibrary.org/wp-content/uploads/2022/11/PLAY-READING.jpg
ORGANIZER;CN="Jesmond Library":MAILTO:events@jesmondlibrary.org
END:VEVENT
BEGIN:VEVENT
DTSTART;TZID=Europe/London:20261012T190000
DTEND;TZID=Europe/London:20261012T210000
DTSTAMP:20260420T162109
CREATED:20251111T094915Z
LAST-MODIFIED:20251111T094915Z
UID:10057634-1791831600-1791838800@jesmondlibrary.org
SUMMARY:Play Reading
DESCRIPTION:
URL:https://jesmondlibrary.org/event/play-reading-6/2026-10-12/
LOCATION:Main room – Coffee Area
ATTACH;FMTTYPE=image/jpeg:https://jesmondlibrary.org/wp-content/uploads/2022/11/PLAY-READING.jpg
ORGANIZER;CN="Jesmond Library":MAILTO:events@jesmondlibrary.org
END:VEVENT
BEGIN:VEVENT
DTSTART;TZID=Europe/London:20261019T190000
DTEND;TZID=Europe/London:20261019T210000
DTSTAMP:20260420T162109
CREATED:20251111T094915Z
LAST-MODIFIED:20251111T094915Z
UID:10057635-1792436400-1792443600@jesmondlibrary.org
SUMMARY:Play Reading
DESCRIPTION:
URL:https://jesmondlibrary.org/event/play-reading-6/2026-10-19/
LOCATION:Main room – Coffee Area
ATTACH;FMTTYPE=image/jpeg:https://jesmondlibrary.org/wp-content/uploads/2022/11/PLAY-READING.jpg
ORGANIZER;CN="Jesmond Library":MAILTO:events@jesmondlibrary.org
END:VEVENT
BEGIN:VEVENT
DTSTART;TZID=Europe/London:20261026T190000
DTEND;TZID=Europe/London:20261026T210000
DTSTAMP:20260420T162109
CREATED:20251111T094915Z
LAST-MODIFIED:20251111T094915Z
UID:10057636-1793041200-1793048400@jesmondlibrary.org
SUMMARY:Play Reading
DESCRIPTION:
URL:https://jesmondlibrary.org/event/play-reading-6/2026-10-26/
LOCATION:Main room – Coffee Area
ATTACH;FMTTYPE=image/jpeg:https://jesmondlibrary.org/wp-content/uploads/2022/11/PLAY-READING.jpg
ORGANIZER;CN="Jesmond Library":MAILTO:events@jesmondlibrary.org
END:VEVENT
BEGIN:VEVENT
DTSTART;TZID=Europe/London:20261102T190000
DTEND;TZID=Europe/London:20261102T210000
DTSTAMP:20260420T162109
CREATED:20251111T094915Z
LAST-MODIFIED:20251111T094915Z
UID:10057637-1793646000-1793653200@jesmondlibrary.org
SUMMARY:Play Reading
DESCRIPTION:
URL:https://jesmondlibrary.org/event/play-reading-6/2026-11-02/
LOCATION:Main room – Coffee Area
ATTACH;FMTTYPE=image/jpeg:https://jesmondlibrary.org/wp-content/uploads/2022/11/PLAY-READING.jpg
ORGANIZER;CN="Jesmond Library":MAILTO:events@jesmondlibrary.org
END:VEVENT
BEGIN:VEVENT
DTSTART;TZID=Europe/London:20261109T190000
DTEND;TZID=Europe/London:20261109T210000
DTSTAMP:20260420T162109
CREATED:20251111T094915Z
LAST-MODIFIED:20251111T094915Z
UID:10057638-1794250800-1794258000@jesmondlibrary.org
SUMMARY:Play Reading
DESCRIPTION:
URL:https://jesmondlibrary.org/event/play-reading-6/2026-11-09/
LOCATION:Main room – Coffee Area
ATTACH;FMTTYPE=image/jpeg:https://jesmondlibrary.org/wp-content/uploads/2022/11/PLAY-READING.jpg
ORGANIZER;CN="Jesmond Library":MAILTO:events@jesmondlibrary.org
END:VEVENT
BEGIN:VEVENT
DTSTART;TZID=Europe/London:20261116T190000
DTEND;TZID=Europe/London:20261116T210000
DTSTAMP:20260420T162109
CREATED:20251111T094915Z
LAST-MODIFIED:20251111T094915Z
UID:10057639-1794855600-1794862800@jesmondlibrary.org
SUMMARY:Play Reading
DESCRIPTION:
URL:https://jesmondlibrary.org/event/play-reading-6/2026-11-16/
LOCATION:Main room – Coffee Area
ATTACH;FMTTYPE=image/jpeg:https://jesmondlibrary.org/wp-content/uploads/2022/11/PLAY-READING.jpg
ORGANIZER;CN="Jesmond Library":MAILTO:events@jesmondlibrary.org
END:VEVENT
BEGIN:VEVENT
DTSTART;TZID=Europe/London:20261123T190000
DTEND;TZID=Europe/London:20261123T210000
DTSTAMP:20260420T162109
CREATED:20251111T094915Z
LAST-MODIFIED:20251111T094915Z
UID:10057640-1795460400-1795467600@jesmondlibrary.org
SUMMARY:Play Reading
DESCRIPTION:
URL:https://jesmondlibrary.org/event/play-reading-6/2026-11-23/
LOCATION:Main room – Coffee Area
ATTACH;FMTTYPE=image/jpeg:https://jesmondlibrary.org/wp-content/uploads/2022/11/PLAY-READING.jpg
ORGANIZER;CN="Jesmond Library":MAILTO:events@jesmondlibrary.org
END:VEVENT
END:VCALENDAR