BEGIN:VCALENDAR
VERSION:2.0
PRODID:-//Jesmond Library - ECPv6.15.17.1//NONSGML v1.0//EN
CALSCALE:GREGORIAN
METHOD:PUBLISH
X-WR-CALNAME:Jesmond Library
X-ORIGINAL-URL:https://jesmondlibrary.org
X-WR-CALDESC:Events for Jesmond Library
REFRESH-INTERVAL;VALUE=DURATION:PT1H
X-Robots-Tag:noindex
X-PUBLISHED-TTL:PT1H
BEGIN:VTIMEZONE
TZID:Europe/London
BEGIN:DAYLIGHT
TZOFFSETFROM:+0000
TZOFFSETTO:+0100
TZNAME:BST
DTSTART:20250330T010000
END:DAYLIGHT
BEGIN:STANDARD
TZOFFSETFROM:+0100
TZOFFSETTO:+0000
TZNAME:GMT
DTSTART:20251026T010000
END:STANDARD
BEGIN:DAYLIGHT
TZOFFSETFROM:+0000
TZOFFSETTO:+0100
TZNAME:BST
DTSTART:20260329T010000
END:DAYLIGHT
BEGIN:STANDARD
TZOFFSETFROM:+0100
TZOFFSETTO:+0000
TZNAME:GMT
DTSTART:20261025T010000
END:STANDARD
BEGIN:DAYLIGHT
TZOFFSETFROM:+0000
TZOFFSETTO:+0100
TZNAME:BST
DTSTART:20270328T010000
END:DAYLIGHT
BEGIN:STANDARD
TZOFFSETFROM:+0100
TZOFFSETTO:+0000
TZNAME:GMT
DTSTART:20271031T010000
END:STANDARD
END:VTIMEZONE
BEGIN:VEVENT
DTSTART;TZID=Europe/London:20260505T170000
DTEND;TZID=Europe/London:20260505T190000
DTSTAMP:20260420T125435
CREATED:20251106T093526Z
LAST-MODIFIED:20260202T165729Z
UID:10057492-1778000400-1778007600@jesmondlibrary.org
SUMMARY:Philosophy Group
DESCRIPTION:
URL:https://jesmondlibrary.org/event/philosophy-group-8/2026-05-05/
LOCATION:Main Room
ATTACH;FMTTYPE=image/jpeg:https://jesmondlibrary.org/wp-content/uploads/2025/08/Jesmond-Philosophy-Group-1-scaled.jpg
ORGANIZER;CN="Michael Bavidge":MAILTO:michael.bavidge@newcastle.ac.uk
END:VEVENT
BEGIN:VEVENT
DTSTART;TZID=Europe/London:20260602T170000
DTEND;TZID=Europe/London:20260602T190000
DTSTAMP:20260420T125435
CREATED:20251106T093526Z
LAST-MODIFIED:20260202T165729Z
UID:10057496-1780419600-1780426800@jesmondlibrary.org
SUMMARY:Philosophy Group
DESCRIPTION:
URL:https://jesmondlibrary.org/event/philosophy-group-8/2026-06-02/
LOCATION:Main Room
ATTACH;FMTTYPE=image/jpeg:https://jesmondlibrary.org/wp-content/uploads/2025/08/Jesmond-Philosophy-Group-1-scaled.jpg
ORGANIZER;CN="Michael Bavidge":MAILTO:michael.bavidge@newcastle.ac.uk
END:VEVENT
BEGIN:VEVENT
DTSTART;TZID=Europe/London:20260707T170000
DTEND;TZID=Europe/London:20260707T190000
DTSTAMP:20260420T125435
CREATED:20251106T093526Z
LAST-MODIFIED:20260202T165729Z
UID:10057501-1783443600-1783450800@jesmondlibrary.org
SUMMARY:Philosophy Group
DESCRIPTION:
URL:https://jesmondlibrary.org/event/philosophy-group-8/2026-07-07/
LOCATION:Main Room
ATTACH;FMTTYPE=image/jpeg:https://jesmondlibrary.org/wp-content/uploads/2025/08/Jesmond-Philosophy-Group-1-scaled.jpg
ORGANIZER;CN="Michael Bavidge":MAILTO:michael.bavidge@newcastle.ac.uk
END:VEVENT
BEGIN:VEVENT
DTSTART;TZID=Europe/London:20260804T170000
DTEND;TZID=Europe/London:20260804T190000
DTSTAMP:20260420T125435
CREATED:20251106T093526Z
LAST-MODIFIED:20260202T165729Z
UID:10057505-1785862800-1785870000@jesmondlibrary.org
SUMMARY:Philosophy Group
DESCRIPTION:
URL:https://jesmondlibrary.org/event/philosophy-group-8/2026-08-04/
LOCATION:Main Room
ATTACH;FMTTYPE=image/jpeg:https://jesmondlibrary.org/wp-content/uploads/2025/08/Jesmond-Philosophy-Group-1-scaled.jpg
ORGANIZER;CN="Michael Bavidge":MAILTO:michael.bavidge@newcastle.ac.uk
END:VEVENT
BEGIN:VEVENT
DTSTART;TZID=Europe/London:20260901T170000
DTEND;TZID=Europe/London:20260901T190000
DTSTAMP:20260420T125435
CREATED:20251106T093526Z
LAST-MODIFIED:20260202T165729Z
UID:10057509-1788282000-1788289200@jesmondlibrary.org
SUMMARY:Philosophy Group
DESCRIPTION:
URL:https://jesmondlibrary.org/event/philosophy-group-8/2026-09-01/
LOCATION:Main Room
ATTACH;FMTTYPE=image/jpeg:https://jesmondlibrary.org/wp-content/uploads/2025/08/Jesmond-Philosophy-Group-1-scaled.jpg
ORGANIZER;CN="Michael Bavidge":MAILTO:michael.bavidge@newcastle.ac.uk
END:VEVENT
BEGIN:VEVENT
DTSTART;TZID=Europe/London:20261006T170000
DTEND;TZID=Europe/London:20261006T190000
DTSTAMP:20260420T125435
CREATED:20251106T093526Z
LAST-MODIFIED:20260202T165729Z
UID:10057514-1791306000-1791313200@jesmondlibrary.org
SUMMARY:Philosophy Group
DESCRIPTION:
URL:https://jesmondlibrary.org/event/philosophy-group-8/2026-10-06/
LOCATION:Main Room
ATTACH;FMTTYPE=image/jpeg:https://jesmondlibrary.org/wp-content/uploads/2025/08/Jesmond-Philosophy-Group-1-scaled.jpg
ORGANIZER;CN="Michael Bavidge":MAILTO:michael.bavidge@newcastle.ac.uk
END:VEVENT
BEGIN:VEVENT
DTSTART;TZID=Europe/London:20261103T170000
DTEND;TZID=Europe/London:20261103T190000
DTSTAMP:20260420T125435
CREATED:20251106T093526Z
LAST-MODIFIED:20260202T165729Z
UID:10057518-1793725200-1793732400@jesmondlibrary.org
SUMMARY:Philosophy Group
DESCRIPTION:
URL:https://jesmondlibrary.org/event/philosophy-group-8/2026-11-03/
LOCATION:Main Room
ATTACH;FMTTYPE=image/jpeg:https://jesmondlibrary.org/wp-content/uploads/2025/08/Jesmond-Philosophy-Group-1-scaled.jpg
ORGANIZER;CN="Michael Bavidge":MAILTO:michael.bavidge@newcastle.ac.uk
END:VEVENT
BEGIN:VEVENT
DTSTART;TZID=Europe/London:20261201T170000
DTEND;TZID=Europe/London:20261201T190000
DTSTAMP:20260420T125435
CREATED:20251106T093526Z
LAST-MODIFIED:20260202T165729Z
UID:10057522-1796144400-1796151600@jesmondlibrary.org
SUMMARY:Philosophy Group
DESCRIPTION:
URL:https://jesmondlibrary.org/event/philosophy-group-8/2026-12-01/
LOCATION:Main Room
ATTACH;FMTTYPE=image/jpeg:https://jesmondlibrary.org/wp-content/uploads/2025/08/Jesmond-Philosophy-Group-1-scaled.jpg
ORGANIZER;CN="Michael Bavidge":MAILTO:michael.bavidge@newcastle.ac.uk
END:VEVENT
END:VCALENDAR