BEGIN:VCALENDAR
VERSION:2.0
PRODID:-//Jesmond Library - ECPv6.15.17.1//NONSGML v1.0//EN
CALSCALE:GREGORIAN
METHOD:PUBLISH
X-WR-CALNAME:Jesmond Library
X-ORIGINAL-URL:https://jesmondlibrary.org
X-WR-CALDESC:Events for Jesmond Library
REFRESH-INTERVAL;VALUE=DURATION:PT1H
X-Robots-Tag:noindex
X-PUBLISHED-TTL:PT1H
BEGIN:VTIMEZONE
TZID:Europe/London
BEGIN:DAYLIGHT
TZOFFSETFROM:+0000
TZOFFSETTO:+0100
TZNAME:BST
DTSTART:20250330T010000
END:DAYLIGHT
BEGIN:STANDARD
TZOFFSETFROM:+0100
TZOFFSETTO:+0000
TZNAME:GMT
DTSTART:20251026T010000
END:STANDARD
BEGIN:DAYLIGHT
TZOFFSETFROM:+0000
TZOFFSETTO:+0100
TZNAME:BST
DTSTART:20260329T010000
END:DAYLIGHT
BEGIN:STANDARD
TZOFFSETFROM:+0100
TZOFFSETTO:+0000
TZNAME:GMT
DTSTART:20261025T010000
END:STANDARD
BEGIN:DAYLIGHT
TZOFFSETFROM:+0000
TZOFFSETTO:+0100
TZNAME:BST
DTSTART:20270328T010000
END:DAYLIGHT
BEGIN:STANDARD
TZOFFSETFROM:+0100
TZOFFSETTO:+0000
TZNAME:GMT
DTSTART:20271031T010000
END:STANDARD
END:VTIMEZONE
BEGIN:VEVENT
DTSTART;TZID=Europe/London:20260423T104500
DTEND;TZID=Europe/London:20260423T114500
DTSTAMP:20260420T125416
CREATED:20251027T110506Z
LAST-MODIFIED:20260212T093209Z
UID:10057319-1776941100-1776944700@jesmondlibrary.org
SUMMARY:Advanced German
DESCRIPTION:
URL:https://jesmondlibrary.org/event/advanced-german-4/2026-04-23/
LOCATION:Sid Chaplin room
ATTACH;FMTTYPE=image/jpeg:https://jesmondlibrary.org/wp-content/uploads/2025/10/German-Advanced.jpg
ORGANIZER;CN="Jesmond Library":MAILTO:events@jesmondlibrary.org
END:VEVENT
BEGIN:VEVENT
DTSTART;TZID=Europe/London:20260430T104500
DTEND;TZID=Europe/London:20260430T114500
DTSTAMP:20260420T125416
CREATED:20251027T110506Z
LAST-MODIFIED:20260212T093209Z
UID:10057320-1777545900-1777549500@jesmondlibrary.org
SUMMARY:Advanced German
DESCRIPTION:
URL:https://jesmondlibrary.org/event/advanced-german-4/2026-04-30/
LOCATION:Sid Chaplin room
ATTACH;FMTTYPE=image/jpeg:https://jesmondlibrary.org/wp-content/uploads/2025/10/German-Advanced.jpg
ORGANIZER;CN="Jesmond Library":MAILTO:events@jesmondlibrary.org
END:VEVENT
BEGIN:VEVENT
DTSTART;TZID=Europe/London:20260507T104500
DTEND;TZID=Europe/London:20260507T114500
DTSTAMP:20260420T125416
CREATED:20251027T110506Z
LAST-MODIFIED:20260212T093209Z
UID:10057321-1778150700-1778154300@jesmondlibrary.org
SUMMARY:Advanced German
DESCRIPTION:
URL:https://jesmondlibrary.org/event/advanced-german-4/2026-05-07/
LOCATION:Sid Chaplin room
ATTACH;FMTTYPE=image/jpeg:https://jesmondlibrary.org/wp-content/uploads/2025/10/German-Advanced.jpg
ORGANIZER;CN="Jesmond Library":MAILTO:events@jesmondlibrary.org
END:VEVENT
BEGIN:VEVENT
DTSTART;TZID=Europe/London:20260514T104500
DTEND;TZID=Europe/London:20260514T114500
DTSTAMP:20260420T125416
CREATED:20251027T110506Z
LAST-MODIFIED:20260212T093209Z
UID:10057322-1778755500-1778759100@jesmondlibrary.org
SUMMARY:Advanced German
DESCRIPTION:
URL:https://jesmondlibrary.org/event/advanced-german-4/2026-05-14/
LOCATION:Sid Chaplin room
ATTACH;FMTTYPE=image/jpeg:https://jesmondlibrary.org/wp-content/uploads/2025/10/German-Advanced.jpg
ORGANIZER;CN="Jesmond Library":MAILTO:events@jesmondlibrary.org
END:VEVENT
BEGIN:VEVENT
DTSTART;TZID=Europe/London:20260521T104500
DTEND;TZID=Europe/London:20260521T114500
DTSTAMP:20260420T125416
CREATED:20251027T110506Z
LAST-MODIFIED:20260212T093209Z
UID:10057323-1779360300-1779363900@jesmondlibrary.org
SUMMARY:Advanced German
DESCRIPTION:
URL:https://jesmondlibrary.org/event/advanced-german-4/2026-05-21/
LOCATION:Sid Chaplin room
ATTACH;FMTTYPE=image/jpeg:https://jesmondlibrary.org/wp-content/uploads/2025/10/German-Advanced.jpg
ORGANIZER;CN="Jesmond Library":MAILTO:events@jesmondlibrary.org
END:VEVENT
BEGIN:VEVENT
DTSTART;TZID=Europe/London:20260528T104500
DTEND;TZID=Europe/London:20260528T114500
DTSTAMP:20260420T125416
CREATED:20251027T110506Z
LAST-MODIFIED:20260212T093209Z
UID:10057324-1779965100-1779968700@jesmondlibrary.org
SUMMARY:Advanced German
DESCRIPTION:
URL:https://jesmondlibrary.org/event/advanced-german-4/2026-05-28/
LOCATION:Sid Chaplin room
ATTACH;FMTTYPE=image/jpeg:https://jesmondlibrary.org/wp-content/uploads/2025/10/German-Advanced.jpg
ORGANIZER;CN="Jesmond Library":MAILTO:events@jesmondlibrary.org
END:VEVENT
BEGIN:VEVENT
DTSTART;TZID=Europe/London:20260604T104500
DTEND;TZID=Europe/London:20260604T114500
DTSTAMP:20260420T125416
CREATED:20251027T110506Z
LAST-MODIFIED:20260212T093209Z
UID:10057325-1780569900-1780573500@jesmondlibrary.org
SUMMARY:Advanced German
DESCRIPTION:
URL:https://jesmondlibrary.org/event/advanced-german-4/2026-06-04/
LOCATION:Sid Chaplin room
ATTACH;FMTTYPE=image/jpeg:https://jesmondlibrary.org/wp-content/uploads/2025/10/German-Advanced.jpg
ORGANIZER;CN="Jesmond Library":MAILTO:events@jesmondlibrary.org
END:VEVENT
BEGIN:VEVENT
DTSTART;TZID=Europe/London:20260611T104500
DTEND;TZID=Europe/London:20260611T114500
DTSTAMP:20260420T125416
CREATED:20251027T110506Z
LAST-MODIFIED:20260212T093209Z
UID:10057326-1781174700-1781178300@jesmondlibrary.org
SUMMARY:Advanced German
DESCRIPTION:
URL:https://jesmondlibrary.org/event/advanced-german-4/2026-06-11/
LOCATION:Sid Chaplin room
ATTACH;FMTTYPE=image/jpeg:https://jesmondlibrary.org/wp-content/uploads/2025/10/German-Advanced.jpg
ORGANIZER;CN="Jesmond Library":MAILTO:events@jesmondlibrary.org
END:VEVENT
BEGIN:VEVENT
DTSTART;TZID=Europe/London:20260618T104500
DTEND;TZID=Europe/London:20260618T114500
DTSTAMP:20260420T125416
CREATED:20251027T110506Z
LAST-MODIFIED:20260212T093209Z
UID:10057327-1781779500-1781783100@jesmondlibrary.org
SUMMARY:Advanced German
DESCRIPTION:
URL:https://jesmondlibrary.org/event/advanced-german-4/2026-06-18/
LOCATION:Sid Chaplin room
ATTACH;FMTTYPE=image/jpeg:https://jesmondlibrary.org/wp-content/uploads/2025/10/German-Advanced.jpg
ORGANIZER;CN="Jesmond Library":MAILTO:events@jesmondlibrary.org
END:VEVENT
BEGIN:VEVENT
DTSTART;TZID=Europe/London:20260625T104500
DTEND;TZID=Europe/London:20260625T114500
DTSTAMP:20260420T125416
CREATED:20251027T110506Z
LAST-MODIFIED:20260212T093209Z
UID:10057328-1782384300-1782387900@jesmondlibrary.org
SUMMARY:Advanced German
DESCRIPTION:
URL:https://jesmondlibrary.org/event/advanced-german-4/2026-06-25/
LOCATION:Sid Chaplin room
ATTACH;FMTTYPE=image/jpeg:https://jesmondlibrary.org/wp-content/uploads/2025/10/German-Advanced.jpg
ORGANIZER;CN="Jesmond Library":MAILTO:events@jesmondlibrary.org
END:VEVENT
BEGIN:VEVENT
DTSTART;TZID=Europe/London:20260702T104500
DTEND;TZID=Europe/London:20260702T114500
DTSTAMP:20260420T125416
CREATED:20251027T110506Z
LAST-MODIFIED:20260212T093209Z
UID:10057329-1782989100-1782992700@jesmondlibrary.org
SUMMARY:Advanced German
DESCRIPTION:
URL:https://jesmondlibrary.org/event/advanced-german-4/2026-07-02/
LOCATION:Sid Chaplin room
ATTACH;FMTTYPE=image/jpeg:https://jesmondlibrary.org/wp-content/uploads/2025/10/German-Advanced.jpg
ORGANIZER;CN="Jesmond Library":MAILTO:events@jesmondlibrary.org
END:VEVENT
BEGIN:VEVENT
DTSTART;TZID=Europe/London:20260709T104500
DTEND;TZID=Europe/London:20260709T114500
DTSTAMP:20260420T125416
CREATED:20251027T110506Z
LAST-MODIFIED:20260212T093209Z
UID:10057330-1783593900-1783597500@jesmondlibrary.org
SUMMARY:Advanced German
DESCRIPTION:
URL:https://jesmondlibrary.org/event/advanced-german-4/2026-07-09/
LOCATION:Sid Chaplin room
ATTACH;FMTTYPE=image/jpeg:https://jesmondlibrary.org/wp-content/uploads/2025/10/German-Advanced.jpg
ORGANIZER;CN="Jesmond Library":MAILTO:events@jesmondlibrary.org
END:VEVENT
BEGIN:VEVENT
DTSTART;TZID=Europe/London:20260716T104500
DTEND;TZID=Europe/London:20260716T114500
DTSTAMP:20260420T125416
CREATED:20251027T110506Z
LAST-MODIFIED:20260212T093209Z
UID:10057331-1784198700-1784202300@jesmondlibrary.org
SUMMARY:Advanced German
DESCRIPTION:
URL:https://jesmondlibrary.org/event/advanced-german-4/2026-07-16/
LOCATION:Sid Chaplin room
ATTACH;FMTTYPE=image/jpeg:https://jesmondlibrary.org/wp-content/uploads/2025/10/German-Advanced.jpg
ORGANIZER;CN="Jesmond Library":MAILTO:events@jesmondlibrary.org
END:VEVENT
BEGIN:VEVENT
DTSTART;TZID=Europe/London:20260723T104500
DTEND;TZID=Europe/London:20260723T114500
DTSTAMP:20260420T125416
CREATED:20251027T110506Z
LAST-MODIFIED:20260212T093209Z
UID:10057332-1784803500-1784807100@jesmondlibrary.org
SUMMARY:Advanced German
DESCRIPTION:
URL:https://jesmondlibrary.org/event/advanced-german-4/2026-07-23/
LOCATION:Sid Chaplin room
ATTACH;FMTTYPE=image/jpeg:https://jesmondlibrary.org/wp-content/uploads/2025/10/German-Advanced.jpg
ORGANIZER;CN="Jesmond Library":MAILTO:events@jesmondlibrary.org
END:VEVENT
BEGIN:VEVENT
DTSTART;TZID=Europe/London:20260730T104500
DTEND;TZID=Europe/London:20260730T114500
DTSTAMP:20260420T125416
CREATED:20251027T110506Z
LAST-MODIFIED:20260212T093209Z
UID:10057333-1785408300-1785411900@jesmondlibrary.org
SUMMARY:Advanced German
DESCRIPTION:
URL:https://jesmondlibrary.org/event/advanced-german-4/2026-07-30/
LOCATION:Sid Chaplin room
ATTACH;FMTTYPE=image/jpeg:https://jesmondlibrary.org/wp-content/uploads/2025/10/German-Advanced.jpg
ORGANIZER;CN="Jesmond Library":MAILTO:events@jesmondlibrary.org
END:VEVENT
BEGIN:VEVENT
DTSTART;TZID=Europe/London:20260806T104500
DTEND;TZID=Europe/London:20260806T114500
DTSTAMP:20260420T125416
CREATED:20251027T110506Z
LAST-MODIFIED:20260212T093209Z
UID:10057334-1786013100-1786016700@jesmondlibrary.org
SUMMARY:Advanced German
DESCRIPTION:
URL:https://jesmondlibrary.org/event/advanced-german-4/2026-08-06/
LOCATION:Sid Chaplin room
ATTACH;FMTTYPE=image/jpeg:https://jesmondlibrary.org/wp-content/uploads/2025/10/German-Advanced.jpg
ORGANIZER;CN="Jesmond Library":MAILTO:events@jesmondlibrary.org
END:VEVENT
BEGIN:VEVENT
DTSTART;TZID=Europe/London:20260813T104500
DTEND;TZID=Europe/London:20260813T114500
DTSTAMP:20260420T125416
CREATED:20251027T110506Z
LAST-MODIFIED:20260212T093209Z
UID:10057335-1786617900-1786621500@jesmondlibrary.org
SUMMARY:Advanced German
DESCRIPTION:
URL:https://jesmondlibrary.org/event/advanced-german-4/2026-08-13/
LOCATION:Sid Chaplin room
ATTACH;FMTTYPE=image/jpeg:https://jesmondlibrary.org/wp-content/uploads/2025/10/German-Advanced.jpg
ORGANIZER;CN="Jesmond Library":MAILTO:events@jesmondlibrary.org
END:VEVENT
BEGIN:VEVENT
DTSTART;TZID=Europe/London:20260820T104500
DTEND;TZID=Europe/London:20260820T114500
DTSTAMP:20260420T125416
CREATED:20251027T110506Z
LAST-MODIFIED:20260212T093209Z
UID:10057336-1787222700-1787226300@jesmondlibrary.org
SUMMARY:Advanced German
DESCRIPTION:
URL:https://jesmondlibrary.org/event/advanced-german-4/2026-08-20/
LOCATION:Sid Chaplin room
ATTACH;FMTTYPE=image/jpeg:https://jesmondlibrary.org/wp-content/uploads/2025/10/German-Advanced.jpg
ORGANIZER;CN="Jesmond Library":MAILTO:events@jesmondlibrary.org
END:VEVENT
BEGIN:VEVENT
DTSTART;TZID=Europe/London:20260827T104500
DTEND;TZID=Europe/London:20260827T114500
DTSTAMP:20260420T125416
CREATED:20251027T110506Z
LAST-MODIFIED:20260212T093209Z
UID:10057337-1787827500-1787831100@jesmondlibrary.org
SUMMARY:Advanced German
DESCRIPTION:
URL:https://jesmondlibrary.org/event/advanced-german-4/2026-08-27/
LOCATION:Sid Chaplin room
ATTACH;FMTTYPE=image/jpeg:https://jesmondlibrary.org/wp-content/uploads/2025/10/German-Advanced.jpg
ORGANIZER;CN="Jesmond Library":MAILTO:events@jesmondlibrary.org
END:VEVENT
BEGIN:VEVENT
DTSTART;TZID=Europe/London:20260903T104500
DTEND;TZID=Europe/London:20260903T114500
DTSTAMP:20260420T125416
CREATED:20251027T110506Z
LAST-MODIFIED:20260212T093209Z
UID:10057338-1788432300-1788435900@jesmondlibrary.org
SUMMARY:Advanced German
DESCRIPTION:
URL:https://jesmondlibrary.org/event/advanced-german-4/2026-09-03/
LOCATION:Sid Chaplin room
ATTACH;FMTTYPE=image/jpeg:https://jesmondlibrary.org/wp-content/uploads/2025/10/German-Advanced.jpg
ORGANIZER;CN="Jesmond Library":MAILTO:events@jesmondlibrary.org
END:VEVENT
BEGIN:VEVENT
DTSTART;TZID=Europe/London:20260910T104500
DTEND;TZID=Europe/London:20260910T114500
DTSTAMP:20260420T125416
CREATED:20251027T110506Z
LAST-MODIFIED:20260212T093209Z
UID:10057339-1789037100-1789040700@jesmondlibrary.org
SUMMARY:Advanced German
DESCRIPTION:
URL:https://jesmondlibrary.org/event/advanced-german-4/2026-09-10/
LOCATION:Sid Chaplin room
ATTACH;FMTTYPE=image/jpeg:https://jesmondlibrary.org/wp-content/uploads/2025/10/German-Advanced.jpg
ORGANIZER;CN="Jesmond Library":MAILTO:events@jesmondlibrary.org
END:VEVENT
BEGIN:VEVENT
DTSTART;TZID=Europe/London:20260917T104500
DTEND;TZID=Europe/London:20260917T114500
DTSTAMP:20260420T125416
CREATED:20251027T110506Z
LAST-MODIFIED:20260212T093209Z
UID:10057340-1789641900-1789645500@jesmondlibrary.org
SUMMARY:Advanced German
DESCRIPTION:
URL:https://jesmondlibrary.org/event/advanced-german-4/2026-09-17/
LOCATION:Sid Chaplin room
ATTACH;FMTTYPE=image/jpeg:https://jesmondlibrary.org/wp-content/uploads/2025/10/German-Advanced.jpg
ORGANIZER;CN="Jesmond Library":MAILTO:events@jesmondlibrary.org
END:VEVENT
BEGIN:VEVENT
DTSTART;TZID=Europe/London:20260924T104500
DTEND;TZID=Europe/London:20260924T114500
DTSTAMP:20260420T125416
CREATED:20251027T110506Z
LAST-MODIFIED:20260212T093209Z
UID:10057341-1790246700-1790250300@jesmondlibrary.org
SUMMARY:Advanced German
DESCRIPTION:
URL:https://jesmondlibrary.org/event/advanced-german-4/2026-09-24/
LOCATION:Sid Chaplin room
ATTACH;FMTTYPE=image/jpeg:https://jesmondlibrary.org/wp-content/uploads/2025/10/German-Advanced.jpg
ORGANIZER;CN="Jesmond Library":MAILTO:events@jesmondlibrary.org
END:VEVENT
BEGIN:VEVENT
DTSTART;TZID=Europe/London:20261001T104500
DTEND;TZID=Europe/London:20261001T114500
DTSTAMP:20260420T125416
CREATED:20251027T110506Z
LAST-MODIFIED:20260212T093209Z
UID:10057342-1790851500-1790855100@jesmondlibrary.org
SUMMARY:Advanced German
DESCRIPTION:
URL:https://jesmondlibrary.org/event/advanced-german-4/2026-10-01/
LOCATION:Sid Chaplin room
ATTACH;FMTTYPE=image/jpeg:https://jesmondlibrary.org/wp-content/uploads/2025/10/German-Advanced.jpg
ORGANIZER;CN="Jesmond Library":MAILTO:events@jesmondlibrary.org
END:VEVENT
BEGIN:VEVENT
DTSTART;TZID=Europe/London:20261008T104500
DTEND;TZID=Europe/London:20261008T114500
DTSTAMP:20260420T125416
CREATED:20251027T110506Z
LAST-MODIFIED:20260212T093209Z
UID:10057343-1791456300-1791459900@jesmondlibrary.org
SUMMARY:Advanced German
DESCRIPTION:
URL:https://jesmondlibrary.org/event/advanced-german-4/2026-10-08/
LOCATION:Sid Chaplin room
ATTACH;FMTTYPE=image/jpeg:https://jesmondlibrary.org/wp-content/uploads/2025/10/German-Advanced.jpg
ORGANIZER;CN="Jesmond Library":MAILTO:events@jesmondlibrary.org
END:VEVENT
BEGIN:VEVENT
DTSTART;TZID=Europe/London:20261015T104500
DTEND;TZID=Europe/London:20261015T114500
DTSTAMP:20260420T125416
CREATED:20251027T110506Z
LAST-MODIFIED:20260212T093209Z
UID:10057344-1792061100-1792064700@jesmondlibrary.org
SUMMARY:Advanced German
DESCRIPTION:
URL:https://jesmondlibrary.org/event/advanced-german-4/2026-10-15/
LOCATION:Sid Chaplin room
ATTACH;FMTTYPE=image/jpeg:https://jesmondlibrary.org/wp-content/uploads/2025/10/German-Advanced.jpg
ORGANIZER;CN="Jesmond Library":MAILTO:events@jesmondlibrary.org
END:VEVENT
BEGIN:VEVENT
DTSTART;TZID=Europe/London:20261022T104500
DTEND;TZID=Europe/London:20261022T114500
DTSTAMP:20260420T125416
CREATED:20251027T110506Z
LAST-MODIFIED:20260212T093209Z
UID:10057345-1792665900-1792669500@jesmondlibrary.org
SUMMARY:Advanced German
DESCRIPTION:
URL:https://jesmondlibrary.org/event/advanced-german-4/2026-10-22/
LOCATION:Sid Chaplin room
ATTACH;FMTTYPE=image/jpeg:https://jesmondlibrary.org/wp-content/uploads/2025/10/German-Advanced.jpg
ORGANIZER;CN="Jesmond Library":MAILTO:events@jesmondlibrary.org
END:VEVENT
BEGIN:VEVENT
DTSTART;TZID=Europe/London:20261029T104500
DTEND;TZID=Europe/London:20261029T114500
DTSTAMP:20260420T125416
CREATED:20251027T110506Z
LAST-MODIFIED:20260212T093209Z
UID:10057346-1793270700-1793274300@jesmondlibrary.org
SUMMARY:Advanced German
DESCRIPTION:
URL:https://jesmondlibrary.org/event/advanced-german-4/2026-10-29/
LOCATION:Sid Chaplin room
ATTACH;FMTTYPE=image/jpeg:https://jesmondlibrary.org/wp-content/uploads/2025/10/German-Advanced.jpg
ORGANIZER;CN="Jesmond Library":MAILTO:events@jesmondlibrary.org
END:VEVENT
BEGIN:VEVENT
DTSTART;TZID=Europe/London:20261105T104500
DTEND;TZID=Europe/London:20261105T114500
DTSTAMP:20260420T125416
CREATED:20251027T110506Z
LAST-MODIFIED:20260212T093209Z
UID:10057347-1793875500-1793879100@jesmondlibrary.org
SUMMARY:Advanced German
DESCRIPTION:
URL:https://jesmondlibrary.org/event/advanced-german-4/2026-11-05/
LOCATION:Sid Chaplin room
ATTACH;FMTTYPE=image/jpeg:https://jesmondlibrary.org/wp-content/uploads/2025/10/German-Advanced.jpg
ORGANIZER;CN="Jesmond Library":MAILTO:events@jesmondlibrary.org
END:VEVENT
BEGIN:VEVENT
DTSTART;TZID=Europe/London:20261112T104500
DTEND;TZID=Europe/London:20261112T114500
DTSTAMP:20260420T125416
CREATED:20251027T110506Z
LAST-MODIFIED:20260212T093209Z
UID:10057348-1794480300-1794483900@jesmondlibrary.org
SUMMARY:Advanced German
DESCRIPTION:
URL:https://jesmondlibrary.org/event/advanced-german-4/2026-11-12/
LOCATION:Sid Chaplin room
ATTACH;FMTTYPE=image/jpeg:https://jesmondlibrary.org/wp-content/uploads/2025/10/German-Advanced.jpg
ORGANIZER;CN="Jesmond Library":MAILTO:events@jesmondlibrary.org
END:VEVENT
END:VCALENDAR