BEGIN:VCALENDAR
VERSION:2.0
PRODID:-//Jesmond Library - ECPv6.15.17.1//NONSGML v1.0//EN
CALSCALE:GREGORIAN
METHOD:PUBLISH
X-WR-CALNAME:Jesmond Library
X-ORIGINAL-URL:https://jesmondlibrary.org
X-WR-CALDESC:Events for Jesmond Library
REFRESH-INTERVAL;VALUE=DURATION:PT1H
X-Robots-Tag:noindex
X-PUBLISHED-TTL:PT1H
BEGIN:VTIMEZONE
TZID:Europe/London
BEGIN:DAYLIGHT
TZOFFSETFROM:+0000
TZOFFSETTO:+0100
TZNAME:BST
DTSTART:20250330T010000
END:DAYLIGHT
BEGIN:STANDARD
TZOFFSETFROM:+0100
TZOFFSETTO:+0000
TZNAME:GMT
DTSTART:20251026T010000
END:STANDARD
BEGIN:DAYLIGHT
TZOFFSETFROM:+0000
TZOFFSETTO:+0100
TZNAME:BST
DTSTART:20260329T010000
END:DAYLIGHT
BEGIN:STANDARD
TZOFFSETFROM:+0100
TZOFFSETTO:+0000
TZNAME:GMT
DTSTART:20261025T010000
END:STANDARD
BEGIN:DAYLIGHT
TZOFFSETFROM:+0000
TZOFFSETTO:+0100
TZNAME:BST
DTSTART:20270328T010000
END:DAYLIGHT
BEGIN:STANDARD
TZOFFSETFROM:+0100
TZOFFSETTO:+0000
TZNAME:GMT
DTSTART:20271031T010000
END:STANDARD
END:VTIMEZONE
BEGIN:VEVENT
DTSTART;TZID=Europe/London:20260425T093000
DTEND;TZID=Europe/London:20260425T163000
DTSTAMP:20260424T152625
CREATED:20251018T103753Z
LAST-MODIFIED:20251018T103910Z
UID:10057256-1777109400-1777134600@jesmondlibrary.org
SUMMARY:LIBRARY OPEN SATURDAYS
DESCRIPTION:
URL:https://jesmondlibrary.org/event/library-open-saturdays-6/2026-04-25/
LOCATION:Main Room
ORGANIZER;CN="Jesmond Library":MAILTO:events@jesmondlibrary.org
END:VEVENT
BEGIN:VEVENT
DTSTART;TZID=Europe/London:20260502T093000
DTEND;TZID=Europe/London:20260502T163000
DTSTAMP:20260424T152625
CREATED:20251018T103753Z
LAST-MODIFIED:20251018T103910Z
UID:10057257-1777714200-1777739400@jesmondlibrary.org
SUMMARY:LIBRARY OPEN SATURDAYS
DESCRIPTION:
URL:https://jesmondlibrary.org/event/library-open-saturdays-6/2026-05-02/
LOCATION:Main Room
ORGANIZER;CN="Jesmond Library":MAILTO:events@jesmondlibrary.org
END:VEVENT
BEGIN:VEVENT
DTSTART;TZID=Europe/London:20260509T093000
DTEND;TZID=Europe/London:20260509T163000
DTSTAMP:20260424T152625
CREATED:20251018T103753Z
LAST-MODIFIED:20251018T103910Z
UID:10057258-1778319000-1778344200@jesmondlibrary.org
SUMMARY:LIBRARY OPEN SATURDAYS
DESCRIPTION:
URL:https://jesmondlibrary.org/event/library-open-saturdays-6/2026-05-09/
LOCATION:Main Room
ORGANIZER;CN="Jesmond Library":MAILTO:events@jesmondlibrary.org
END:VEVENT
BEGIN:VEVENT
DTSTART;TZID=Europe/London:20260516T093000
DTEND;TZID=Europe/London:20260516T163000
DTSTAMP:20260424T152625
CREATED:20251018T103753Z
LAST-MODIFIED:20251018T103910Z
UID:10057259-1778923800-1778949000@jesmondlibrary.org
SUMMARY:LIBRARY OPEN SATURDAYS
DESCRIPTION:
URL:https://jesmondlibrary.org/event/library-open-saturdays-6/2026-05-16/
LOCATION:Main Room
ORGANIZER;CN="Jesmond Library":MAILTO:events@jesmondlibrary.org
END:VEVENT
BEGIN:VEVENT
DTSTART;TZID=Europe/London:20260523T093000
DTEND;TZID=Europe/London:20260523T163000
DTSTAMP:20260424T152625
CREATED:20251018T103753Z
LAST-MODIFIED:20251018T103910Z
UID:10057260-1779528600-1779553800@jesmondlibrary.org
SUMMARY:LIBRARY OPEN SATURDAYS
DESCRIPTION:
URL:https://jesmondlibrary.org/event/library-open-saturdays-6/2026-05-23/
LOCATION:Main Room
ORGANIZER;CN="Jesmond Library":MAILTO:events@jesmondlibrary.org
END:VEVENT
BEGIN:VEVENT
DTSTART;TZID=Europe/London:20260530T093000
DTEND;TZID=Europe/London:20260530T163000
DTSTAMP:20260424T152625
CREATED:20251018T103753Z
LAST-MODIFIED:20251018T103910Z
UID:10057261-1780133400-1780158600@jesmondlibrary.org
SUMMARY:LIBRARY OPEN SATURDAYS
DESCRIPTION:
URL:https://jesmondlibrary.org/event/library-open-saturdays-6/2026-05-30/
LOCATION:Main Room
ORGANIZER;CN="Jesmond Library":MAILTO:events@jesmondlibrary.org
END:VEVENT
BEGIN:VEVENT
DTSTART;TZID=Europe/London:20260606T093000
DTEND;TZID=Europe/London:20260606T163000
DTSTAMP:20260424T152625
CREATED:20251018T103753Z
LAST-MODIFIED:20251018T103910Z
UID:10057262-1780738200-1780763400@jesmondlibrary.org
SUMMARY:LIBRARY OPEN SATURDAYS
DESCRIPTION:
URL:https://jesmondlibrary.org/event/library-open-saturdays-6/2026-06-06/
LOCATION:Main Room
ORGANIZER;CN="Jesmond Library":MAILTO:events@jesmondlibrary.org
END:VEVENT
BEGIN:VEVENT
DTSTART;TZID=Europe/London:20260613T093000
DTEND;TZID=Europe/London:20260613T163000
DTSTAMP:20260424T152625
CREATED:20251018T103753Z
LAST-MODIFIED:20251018T103910Z
UID:10057263-1781343000-1781368200@jesmondlibrary.org
SUMMARY:LIBRARY OPEN SATURDAYS
DESCRIPTION:
URL:https://jesmondlibrary.org/event/library-open-saturdays-6/2026-06-13/
LOCATION:Main Room
ORGANIZER;CN="Jesmond Library":MAILTO:events@jesmondlibrary.org
END:VEVENT
BEGIN:VEVENT
DTSTART;TZID=Europe/London:20260620T093000
DTEND;TZID=Europe/London:20260620T163000
DTSTAMP:20260424T152625
CREATED:20251018T103753Z
LAST-MODIFIED:20251018T103910Z
UID:10057264-1781947800-1781973000@jesmondlibrary.org
SUMMARY:LIBRARY OPEN SATURDAYS
DESCRIPTION:
URL:https://jesmondlibrary.org/event/library-open-saturdays-6/2026-06-20/
LOCATION:Main Room
ORGANIZER;CN="Jesmond Library":MAILTO:events@jesmondlibrary.org
END:VEVENT
BEGIN:VEVENT
DTSTART;TZID=Europe/London:20260627T093000
DTEND;TZID=Europe/London:20260627T163000
DTSTAMP:20260424T152625
CREATED:20251018T103753Z
LAST-MODIFIED:20251018T103910Z
UID:10057265-1782552600-1782577800@jesmondlibrary.org
SUMMARY:LIBRARY OPEN SATURDAYS
DESCRIPTION:
URL:https://jesmondlibrary.org/event/library-open-saturdays-6/2026-06-27/
LOCATION:Main Room
ORGANIZER;CN="Jesmond Library":MAILTO:events@jesmondlibrary.org
END:VEVENT
BEGIN:VEVENT
DTSTART;TZID=Europe/London:20260704T093000
DTEND;TZID=Europe/London:20260704T163000
DTSTAMP:20260424T152625
CREATED:20251018T103753Z
LAST-MODIFIED:20251018T103910Z
UID:10057266-1783157400-1783182600@jesmondlibrary.org
SUMMARY:LIBRARY OPEN SATURDAYS
DESCRIPTION:
URL:https://jesmondlibrary.org/event/library-open-saturdays-6/2026-07-04/
LOCATION:Main Room
ORGANIZER;CN="Jesmond Library":MAILTO:events@jesmondlibrary.org
END:VEVENT
BEGIN:VEVENT
DTSTART;TZID=Europe/London:20260711T093000
DTEND;TZID=Europe/London:20260711T163000
DTSTAMP:20260424T152625
CREATED:20251018T103753Z
LAST-MODIFIED:20251018T103910Z
UID:10057267-1783762200-1783787400@jesmondlibrary.org
SUMMARY:LIBRARY OPEN SATURDAYS
DESCRIPTION:
URL:https://jesmondlibrary.org/event/library-open-saturdays-6/2026-07-11/
LOCATION:Main Room
ORGANIZER;CN="Jesmond Library":MAILTO:events@jesmondlibrary.org
END:VEVENT
BEGIN:VEVENT
DTSTART;TZID=Europe/London:20260718T093000
DTEND;TZID=Europe/London:20260718T163000
DTSTAMP:20260424T152625
CREATED:20251018T103753Z
LAST-MODIFIED:20251018T103910Z
UID:10057268-1784367000-1784392200@jesmondlibrary.org
SUMMARY:LIBRARY OPEN SATURDAYS
DESCRIPTION:
URL:https://jesmondlibrary.org/event/library-open-saturdays-6/2026-07-18/
LOCATION:Main Room
ORGANIZER;CN="Jesmond Library":MAILTO:events@jesmondlibrary.org
END:VEVENT
BEGIN:VEVENT
DTSTART;TZID=Europe/London:20260725T093000
DTEND;TZID=Europe/London:20260725T163000
DTSTAMP:20260424T152625
CREATED:20251018T103753Z
LAST-MODIFIED:20251018T103910Z
UID:10057269-1784971800-1784997000@jesmondlibrary.org
SUMMARY:LIBRARY OPEN SATURDAYS
DESCRIPTION:
URL:https://jesmondlibrary.org/event/library-open-saturdays-6/2026-07-25/
LOCATION:Main Room
ORGANIZER;CN="Jesmond Library":MAILTO:events@jesmondlibrary.org
END:VEVENT
BEGIN:VEVENT
DTSTART;TZID=Europe/London:20260801T093000
DTEND;TZID=Europe/London:20260801T163000
DTSTAMP:20260424T152625
CREATED:20251018T103753Z
LAST-MODIFIED:20251018T103910Z
UID:10057270-1785576600-1785601800@jesmondlibrary.org
SUMMARY:LIBRARY OPEN SATURDAYS
DESCRIPTION:
URL:https://jesmondlibrary.org/event/library-open-saturdays-6/2026-08-01/
LOCATION:Main Room
ORGANIZER;CN="Jesmond Library":MAILTO:events@jesmondlibrary.org
END:VEVENT
BEGIN:VEVENT
DTSTART;TZID=Europe/London:20260808T093000
DTEND;TZID=Europe/London:20260808T163000
DTSTAMP:20260424T152626
CREATED:20251018T103753Z
LAST-MODIFIED:20251018T103910Z
UID:10057271-1786181400-1786206600@jesmondlibrary.org
SUMMARY:LIBRARY OPEN SATURDAYS
DESCRIPTION:
URL:https://jesmondlibrary.org/event/library-open-saturdays-6/2026-08-08/
LOCATION:Main Room
ORGANIZER;CN="Jesmond Library":MAILTO:events@jesmondlibrary.org
END:VEVENT
BEGIN:VEVENT
DTSTART;TZID=Europe/London:20260815T093000
DTEND;TZID=Europe/London:20260815T163000
DTSTAMP:20260424T152626
CREATED:20251018T103753Z
LAST-MODIFIED:20251018T103910Z
UID:10057272-1786786200-1786811400@jesmondlibrary.org
SUMMARY:LIBRARY OPEN SATURDAYS
DESCRIPTION:
URL:https://jesmondlibrary.org/event/library-open-saturdays-6/2026-08-15/
LOCATION:Main Room
ORGANIZER;CN="Jesmond Library":MAILTO:events@jesmondlibrary.org
END:VEVENT
BEGIN:VEVENT
DTSTART;TZID=Europe/London:20260822T093000
DTEND;TZID=Europe/London:20260822T163000
DTSTAMP:20260424T152626
CREATED:20251018T103753Z
LAST-MODIFIED:20251018T103910Z
UID:10057273-1787391000-1787416200@jesmondlibrary.org
SUMMARY:LIBRARY OPEN SATURDAYS
DESCRIPTION:
URL:https://jesmondlibrary.org/event/library-open-saturdays-6/2026-08-22/
LOCATION:Main Room
ORGANIZER;CN="Jesmond Library":MAILTO:events@jesmondlibrary.org
END:VEVENT
BEGIN:VEVENT
DTSTART;TZID=Europe/London:20260829T093000
DTEND;TZID=Europe/London:20260829T163000
DTSTAMP:20260424T152626
CREATED:20251018T103753Z
LAST-MODIFIED:20251018T103910Z
UID:10057274-1787995800-1788021000@jesmondlibrary.org
SUMMARY:LIBRARY OPEN SATURDAYS
DESCRIPTION:
URL:https://jesmondlibrary.org/event/library-open-saturdays-6/2026-08-29/
LOCATION:Main Room
ORGANIZER;CN="Jesmond Library":MAILTO:events@jesmondlibrary.org
END:VEVENT
BEGIN:VEVENT
DTSTART;TZID=Europe/London:20260905T093000
DTEND;TZID=Europe/London:20260905T163000
DTSTAMP:20260424T152626
CREATED:20251018T103753Z
LAST-MODIFIED:20251018T103910Z
UID:10057275-1788600600-1788625800@jesmondlibrary.org
SUMMARY:LIBRARY OPEN SATURDAYS
DESCRIPTION:
URL:https://jesmondlibrary.org/event/library-open-saturdays-6/2026-09-05/
LOCATION:Main Room
ORGANIZER;CN="Jesmond Library":MAILTO:events@jesmondlibrary.org
END:VEVENT
BEGIN:VEVENT
DTSTART;TZID=Europe/London:20260912T093000
DTEND;TZID=Europe/London:20260912T163000
DTSTAMP:20260424T152626
CREATED:20251018T103753Z
LAST-MODIFIED:20251018T103910Z
UID:10057276-1789205400-1789230600@jesmondlibrary.org
SUMMARY:LIBRARY OPEN SATURDAYS
DESCRIPTION:
URL:https://jesmondlibrary.org/event/library-open-saturdays-6/2026-09-12/
LOCATION:Main Room
ORGANIZER;CN="Jesmond Library":MAILTO:events@jesmondlibrary.org
END:VEVENT
BEGIN:VEVENT
DTSTART;TZID=Europe/London:20260919T093000
DTEND;TZID=Europe/London:20260919T163000
DTSTAMP:20260424T152626
CREATED:20251018T103753Z
LAST-MODIFIED:20251018T103910Z
UID:10057277-1789810200-1789835400@jesmondlibrary.org
SUMMARY:LIBRARY OPEN SATURDAYS
DESCRIPTION:
URL:https://jesmondlibrary.org/event/library-open-saturdays-6/2026-09-19/
LOCATION:Main Room
ORGANIZER;CN="Jesmond Library":MAILTO:events@jesmondlibrary.org
END:VEVENT
BEGIN:VEVENT
DTSTART;TZID=Europe/London:20260926T093000
DTEND;TZID=Europe/London:20260926T163000
DTSTAMP:20260424T152626
CREATED:20251018T103753Z
LAST-MODIFIED:20251018T103910Z
UID:10057278-1790415000-1790440200@jesmondlibrary.org
SUMMARY:LIBRARY OPEN SATURDAYS
DESCRIPTION:
URL:https://jesmondlibrary.org/event/library-open-saturdays-6/2026-09-26/
LOCATION:Main Room
ORGANIZER;CN="Jesmond Library":MAILTO:events@jesmondlibrary.org
END:VEVENT
BEGIN:VEVENT
DTSTART;TZID=Europe/London:20261003T093000
DTEND;TZID=Europe/London:20261003T163000
DTSTAMP:20260424T152626
CREATED:20251018T103753Z
LAST-MODIFIED:20251018T103910Z
UID:10057279-1791019800-1791045000@jesmondlibrary.org
SUMMARY:LIBRARY OPEN SATURDAYS
DESCRIPTION:
URL:https://jesmondlibrary.org/event/library-open-saturdays-6/2026-10-03/
LOCATION:Main Room
ORGANIZER;CN="Jesmond Library":MAILTO:events@jesmondlibrary.org
END:VEVENT
BEGIN:VEVENT
DTSTART;TZID=Europe/London:20261010T093000
DTEND;TZID=Europe/London:20261010T163000
DTSTAMP:20260424T152626
CREATED:20251018T103753Z
LAST-MODIFIED:20251018T103910Z
UID:10057280-1791624600-1791649800@jesmondlibrary.org
SUMMARY:LIBRARY OPEN SATURDAYS
DESCRIPTION:
URL:https://jesmondlibrary.org/event/library-open-saturdays-6/2026-10-10/
LOCATION:Main Room
ORGANIZER;CN="Jesmond Library":MAILTO:events@jesmondlibrary.org
END:VEVENT
BEGIN:VEVENT
DTSTART;TZID=Europe/London:20261017T093000
DTEND;TZID=Europe/London:20261017T163000
DTSTAMP:20260424T152626
CREATED:20251018T103753Z
LAST-MODIFIED:20251018T103910Z
UID:10057281-1792229400-1792254600@jesmondlibrary.org
SUMMARY:LIBRARY OPEN SATURDAYS
DESCRIPTION:
URL:https://jesmondlibrary.org/event/library-open-saturdays-6/2026-10-17/
LOCATION:Main Room
ORGANIZER;CN="Jesmond Library":MAILTO:events@jesmondlibrary.org
END:VEVENT
BEGIN:VEVENT
DTSTART;TZID=Europe/London:20261024T093000
DTEND;TZID=Europe/London:20261024T163000
DTSTAMP:20260424T152626
CREATED:20251018T103753Z
LAST-MODIFIED:20251018T103910Z
UID:10057282-1792834200-1792859400@jesmondlibrary.org
SUMMARY:LIBRARY OPEN SATURDAYS
DESCRIPTION:
URL:https://jesmondlibrary.org/event/library-open-saturdays-6/2026-10-24/
LOCATION:Main Room
ORGANIZER;CN="Jesmond Library":MAILTO:events@jesmondlibrary.org
END:VEVENT
BEGIN:VEVENT
DTSTART;TZID=Europe/London:20261031T093000
DTEND;TZID=Europe/London:20261031T163000
DTSTAMP:20260424T152626
CREATED:20251018T103753Z
LAST-MODIFIED:20251018T103910Z
UID:10057283-1793439000-1793464200@jesmondlibrary.org
SUMMARY:LIBRARY OPEN SATURDAYS
DESCRIPTION:
URL:https://jesmondlibrary.org/event/library-open-saturdays-6/2026-10-31/
LOCATION:Main Room
ORGANIZER;CN="Jesmond Library":MAILTO:events@jesmondlibrary.org
END:VEVENT
BEGIN:VEVENT
DTSTART;TZID=Europe/London:20261107T093000
DTEND;TZID=Europe/London:20261107T163000
DTSTAMP:20260424T152626
CREATED:20251018T103753Z
LAST-MODIFIED:20251018T103910Z
UID:10057284-1794043800-1794069000@jesmondlibrary.org
SUMMARY:LIBRARY OPEN SATURDAYS
DESCRIPTION:
URL:https://jesmondlibrary.org/event/library-open-saturdays-6/2026-11-07/
LOCATION:Main Room
ORGANIZER;CN="Jesmond Library":MAILTO:events@jesmondlibrary.org
END:VEVENT
BEGIN:VEVENT
DTSTART;TZID=Europe/London:20261114T093000
DTEND;TZID=Europe/London:20261114T163000
DTSTAMP:20260424T152626
CREATED:20251018T103753Z
LAST-MODIFIED:20251018T103910Z
UID:10057285-1794648600-1794673800@jesmondlibrary.org
SUMMARY:LIBRARY OPEN SATURDAYS
DESCRIPTION:
URL:https://jesmondlibrary.org/event/library-open-saturdays-6/2026-11-14/
LOCATION:Main Room
ORGANIZER;CN="Jesmond Library":MAILTO:events@jesmondlibrary.org
END:VEVENT
END:VCALENDAR