BEGIN:VCALENDAR
VERSION:2.0
PRODID:-//Jesmond Library - ECPv6.15.17.1//NONSGML v1.0//EN
CALSCALE:GREGORIAN
METHOD:PUBLISH
X-ORIGINAL-URL:https://jesmondlibrary.org
X-WR-CALDESC:Events for Jesmond Library
REFRESH-INTERVAL;VALUE=DURATION:PT1H
X-Robots-Tag:noindex
X-PUBLISHED-TTL:PT1H
BEGIN:VTIMEZONE
TZID:Europe/London
BEGIN:DAYLIGHT
TZOFFSETFROM:+0000
TZOFFSETTO:+0100
TZNAME:BST
DTSTART:20250330T010000
END:DAYLIGHT
BEGIN:STANDARD
TZOFFSETFROM:+0100
TZOFFSETTO:+0000
TZNAME:GMT
DTSTART:20251026T010000
END:STANDARD
BEGIN:DAYLIGHT
TZOFFSETFROM:+0000
TZOFFSETTO:+0100
TZNAME:BST
DTSTART:20260329T010000
END:DAYLIGHT
BEGIN:STANDARD
TZOFFSETFROM:+0100
TZOFFSETTO:+0000
TZNAME:GMT
DTSTART:20261025T010000
END:STANDARD
BEGIN:DAYLIGHT
TZOFFSETFROM:+0000
TZOFFSETTO:+0100
TZNAME:BST
DTSTART:20270328T010000
END:DAYLIGHT
BEGIN:STANDARD
TZOFFSETFROM:+0100
TZOFFSETTO:+0000
TZNAME:GMT
DTSTART:20271031T010000
END:STANDARD
END:VTIMEZONE
BEGIN:VEVENT
DTSTART;TZID=Europe/London:20261127T093000
DTEND;TZID=Europe/London:20261127T123000
DTSTAMP:20260420T211021
CREATED:20251111T102411Z
LAST-MODIFIED:20251111T102532Z
UID:10058177-1795771800-1795782600@jesmondlibrary.org
SUMMARY:Beginners English Language Conversation Class
DESCRIPTION:
URL:https://jesmondlibrary.org/event/beginners-english-language-conversation-class/2026-11-27/
LOCATION:Sid Chaplin room
ATTACH;FMTTYPE=image/jpeg:https://jesmondlibrary.org/wp-content/uploads/2024/12/ENGLISH_LANGUAGE_beginners1.jpg
ORGANIZER;CN="Jesmond Library":MAILTO:events@jesmondlibrary.org
END:VEVENT
BEGIN:VEVENT
DTSTART;TZID=Europe/London:20261127T093100
DTEND;TZID=Europe/London:20261127T123000
DTSTAMP:20260420T211022
CREATED:20251111T102235Z
LAST-MODIFIED:20251111T102801Z
UID:10058227-1795771860-1795782600@jesmondlibrary.org
SUMMARY:Improvers English Language Conversation class
DESCRIPTION:
URL:https://jesmondlibrary.org/event/improvers-english-language-conversation-class/2026-11-27/
LOCATION:Catherine Cookson Room
ATTACH;FMTTYPE=image/jpeg:https://jesmondlibrary.org/wp-content/uploads/2024/10/ENGLISH_LANGUAGE_Improvers1.jpg
ORGANIZER;CN="Jesmond Library":MAILTO:events@jesmondlibrary.org
END:VEVENT
BEGIN:VEVENT
DTSTART;TZID=Europe/London:20261128T093000
DTEND;TZID=Europe/London:20261128T163000
DTSTAMP:20260420T211022
CREATED:20251018T103753Z
LAST-MODIFIED:20251018T103910Z
UID:10057287-1795858200-1795883400@jesmondlibrary.org
SUMMARY:LIBRARY OPEN SATURDAYS
DESCRIPTION:
URL:https://jesmondlibrary.org/event/library-open-saturdays-6/2026-11-28/
LOCATION:Main Room
ORGANIZER;CN="Jesmond Library":MAILTO:events@jesmondlibrary.org
END:VEVENT
BEGIN:VEVENT
DTSTART;TZID=Europe/London:20261129T133000
DTEND;TZID=Europe/London:20261129T143000
DTSTAMP:20260420T211022
CREATED:20251119T100924Z
LAST-MODIFIED:20251119T101246Z
UID:10058507-1795959000-1795962600@jesmondlibrary.org
SUMMARY:Mindful Therapies
DESCRIPTION:
URL:https://jesmondlibrary.org/event/mindful-therapies-3/2026-11-29/
LOCATION:Catherine Cookson Room\, Jesmond Library\, Newcastle upon Tyne\, NE2 2DL\, United Kingdom
ATTACH;FMTTYPE=image/jpeg:https://jesmondlibrary.org/wp-content/uploads/2022/05/Mindfulness.jpg
GEO:54.9932456;-1.606461
X-APPLE-STRUCTURED-LOCATION;VALUE=URI;X-ADDRESS=Catherine Cookson Room Jesmond Library Newcastle upon Tyne NE2 2DL United Kingdom;X-APPLE-RADIUS=500;X-TITLE=Jesmond Library:geo:-1.606461,54.9932456
END:VEVENT
BEGIN:VEVENT
DTSTART;TZID=Europe/London:20261129T143000
DTEND;TZID=Europe/London:20261129T163000
DTSTAMP:20260420T211022
CREATED:20251121T101059Z
LAST-MODIFIED:20251121T101059Z
UID:10058565-1795962600-1795969800@jesmondlibrary.org
SUMMARY:West Jesmond Chess Club
DESCRIPTION:
URL:https://jesmondlibrary.org/event/west-jesmond-chess-club-11/2026-11-29/
LOCATION:Main Room
ATTACH;FMTTYPE=image/png:https://jesmondlibrary.org/wp-content/uploads/2023/04/West-Jesmond-Chess-Club-flyer-V2-September-2023.png
END:VEVENT
BEGIN:VEVENT
DTSTART;TZID=Europe/London:20261130T110000
DTEND;TZID=Europe/London:20261130T123000
DTSTAMP:20260420T211022
CREATED:20260211T133835Z
LAST-MODIFIED:20260211T133835Z
UID:10058860-1796036400-1796041800@jesmondlibrary.org
SUMMARY:Motherfolk Writing Circle
DESCRIPTION:
URL:https://jesmondlibrary.org/event/motherfolk-writing-circle-6/2026-11-30/
LOCATION:Main Room
ATTACH;FMTTYPE=image/png:https://jesmondlibrary.org/wp-content/uploads/2025/07/Motherfolk-June-25.png
END:VEVENT
BEGIN:VEVENT
DTSTART;TZID=Europe/London:20261130T140000
DTEND;TZID=Europe/London:20261130T160000
DTSTAMP:20260420T211022
CREATED:20260401T091528Z
LAST-MODIFIED:20260401T091528Z
UID:10058960-1796047200-1796054400@jesmondlibrary.org
SUMMARY:Everyturn craft group TBC
DESCRIPTION:
URL:https://jesmondlibrary.org/event/everyturn-craft-group-tbc/2026-11-30/
LOCATION:Main Room
END:VEVENT
BEGIN:VEVENT
DTSTART;TZID=Europe/London:20261130T190000
DTEND;TZID=Europe/London:20261130T210000
DTSTAMP:20260420T211022
CREATED:20251111T094915Z
LAST-MODIFIED:20251111T094915Z
UID:10057641-1796065200-1796072400@jesmondlibrary.org
SUMMARY:Play Reading
DESCRIPTION:
URL:https://jesmondlibrary.org/event/play-reading-6/2026-11-30/
LOCATION:Main room – Coffee Area
ATTACH;FMTTYPE=image/jpeg:https://jesmondlibrary.org/wp-content/uploads/2022/11/PLAY-READING.jpg
ORGANIZER;CN="Jesmond Library":MAILTO:events@jesmondlibrary.org
END:VEVENT
BEGIN:VEVENT
DTSTART;TZID=Europe/London:20261201T093000
DTEND;TZID=Europe/London:20261201T163000
DTSTAMP:20260420T211022
CREATED:20251121T101724Z
LAST-MODIFIED:20251121T101724Z
UID:10058617-1796117400-1796142600@jesmondlibrary.org
SUMMARY:LIBRARY OPEN TUESDAYS
DESCRIPTION:
URL:https://jesmondlibrary.org/event/library-open-tuesdays-11/2026-12-01/
LOCATION:Main Room
ORGANIZER;CN="Jesmond Library":MAILTO:events@jesmondlibrary.org
END:VEVENT
BEGIN:VEVENT
DTSTART;TZID=Europe/London:20261201T100000
DTEND;TZID=Europe/London:20261201T110000
DTSTAMP:20260420T211022
CREATED:20251111T095458Z
LAST-MODIFIED:20251111T095458Z
UID:10057692-1796119200-1796122800@jesmondlibrary.org
SUMMARY:Intermediate German conversation
DESCRIPTION:
URL:https://jesmondlibrary.org/event/intermediate-german-conversation-5/2026-12-01/
LOCATION:Sid Chaplin room
ATTACH;FMTTYPE=image/jpeg:https://jesmondlibrary.org/wp-content/uploads/2025/11/Int-German-places-in-Thursdays-group.jpg
ORGANIZER;CN="Jesmond Library":MAILTO:events@jesmondlibrary.org
END:VEVENT
BEGIN:VEVENT
DTSTART;TZID=Europe/London:20261201T110000
DTEND;TZID=Europe/London:20261201T120000
DTSTAMP:20260420T211022
CREATED:20251111T095755Z
LAST-MODIFIED:20251111T095755Z
UID:10057744-1796122800-1796126400@jesmondlibrary.org
SUMMARY:Beginners' Spanish conversation
DESCRIPTION:
URL:https://jesmondlibrary.org/event/beginners-spanish-conversation-2/2026-12-01/
LOCATION:Sid Chaplin room
ATTACH;FMTTYPE=image/jpeg:https://jesmondlibrary.org/wp-content/uploads/2025/11/Spanish-Beginners-Tuesdays.jpg
ORGANIZER;CN="Jesmond Library":MAILTO:events@jesmondlibrary.org
END:VEVENT
BEGIN:VEVENT
DTSTART;TZID=Europe/London:20261201T130000
DTEND;TZID=Europe/London:20261201T140000
DTSTAMP:20260420T211022
CREATED:20251111T100225Z
LAST-MODIFIED:20251111T100805Z
UID:10057848-1796130000-1796133600@jesmondlibrary.org
SUMMARY:French Intermediate Conversation 1
DESCRIPTION:
URL:https://jesmondlibrary.org/event/french-intermediate-conversation-1/2026-12-01/
LOCATION:Catherine Cookson Room
ATTACH;FMTTYPE=image/jpeg:https://jesmondlibrary.org/wp-content/uploads/2023/11/FRENCH.jpg
ORGANIZER;CN="Jesmond Library":MAILTO:events@jesmondlibrary.org
END:VEVENT
BEGIN:VEVENT
DTSTART;TZID=Europe/London:20261201T130000
DTEND;TZID=Europe/London:20261201T140000
DTSTAMP:20260420T211022
CREATED:20251111T100633Z
LAST-MODIFIED:20251111T100633Z
UID:10057900-1796130000-1796133600@jesmondlibrary.org
SUMMARY:French Intermediate conversation 2
DESCRIPTION:
URL:https://jesmondlibrary.org/event/french-intermediate-conversation-2/2026-12-01/
LOCATION:Sid Chaplin room
ATTACH;FMTTYPE=image/jpeg:https://jesmondlibrary.org/wp-content/uploads/2023/11/FRENCH.jpg
ORGANIZER;CN="Jesmond Library":MAILTO:events@jesmondlibrary.org
END:VEVENT
BEGIN:VEVENT
DTSTART;TZID=Europe/London:20261201T140000
DTEND;TZID=Europe/London:20261201T153000
DTSTAMP:20260420T211022
CREATED:20250827T085201Z
LAST-MODIFIED:20250827T085334Z
UID:10057040-1796133600-1796139000@jesmondlibrary.org
SUMMARY:IT Support
DESCRIPTION:
URL:https://jesmondlibrary.org/event/it-support-12/2026-12-01/
LOCATION:Main Room
ATTACH;FMTTYPE=image/jpeg:https://jesmondlibrary.org/wp-content/uploads/2025/04/IT-SUPPORT-1.jpg
ORGANIZER;CN="Jesmond Library":MAILTO:events@jesmondlibrary.org
END:VEVENT
BEGIN:VEVENT
DTSTART;TZID=Europe/London:20261201T140000
DTEND;TZID=Europe/London:20261201T153000
DTSTAMP:20260420T211022
CREATED:20251111T100952Z
LAST-MODIFIED:20251219T093359Z
UID:10057916-1796133600-1796139000@jesmondlibrary.org
SUMMARY:Poetry Sharing
DESCRIPTION:
URL:https://jesmondlibrary.org/event/poetry-reading/2026-12-01/
LOCATION:Sid Chaplin room
ATTACH;FMTTYPE=image/jpeg:https://jesmondlibrary.org/wp-content/uploads/2024/10/Poetry-Sharing.jpg
ORGANIZER;CN="Jesmond Library":MAILTO:events@jesmondlibrary.org
END:VEVENT
BEGIN:VEVENT
DTSTART;TZID=Europe/London:20261201T141500
DTEND;TZID=Europe/London:20261201T154500
DTSTAMP:20260420T211022
CREATED:20251111T101159Z
LAST-MODIFIED:20251208T094507Z
UID:10057964-1796134500-1796139900@jesmondlibrary.org
SUMMARY:Craft 'n' Chat
DESCRIPTION:
URL:https://jesmondlibrary.org/event/craft-n-chat-2/2026-12-01/
LOCATION:Catherine Cookson Room
ATTACH;FMTTYPE=image/jpeg:https://jesmondlibrary.org/wp-content/uploads/2023/02/CRAFT-N-CHAT-1.jpg
ORGANIZER;CN="Jesmond Library":MAILTO:events@jesmondlibrary.org
END:VEVENT
BEGIN:VEVENT
DTSTART;TZID=Europe/London:20261201T170000
DTEND;TZID=Europe/London:20261201T190000
DTSTAMP:20260420T211022
CREATED:20251106T093526Z
LAST-MODIFIED:20260202T165729Z
UID:10057522-1796144400-1796151600@jesmondlibrary.org
SUMMARY:Philosophy Group
DESCRIPTION:
URL:https://jesmondlibrary.org/event/philosophy-group-8/2026-12-01/
LOCATION:Main Room
ATTACH;FMTTYPE=image/jpeg:https://jesmondlibrary.org/wp-content/uploads/2025/08/Jesmond-Philosophy-Group-1-scaled.jpg
ORGANIZER;CN="Michael Bavidge":MAILTO:michael.bavidge@newcastle.ac.uk
END:VEVENT
BEGIN:VEVENT
DTSTART;TZID=Europe/London:20261202T103000
DTEND;TZID=Europe/London:20261202T130000
DTSTAMP:20260420T211022
CREATED:20251111T101419Z
LAST-MODIFIED:20251121T094111Z
UID:10057980-1796207400-1796216400@jesmondlibrary.org
SUMMARY:Wellbeing for Life
DESCRIPTION:
URL:https://jesmondlibrary.org/event/well-being-for-life/2026-12-02/
LOCATION:Main Room & Catherine Cookson Room
ORGANIZER;CN="Jesmond Library":MAILTO:events@jesmondlibrary.org
END:VEVENT
BEGIN:VEVENT
DTSTART;TZID=Europe/London:20261202T190000
DTEND;TZID=Europe/London:20261202T210000
DTSTAMP:20260420T211022
CREATED:20251106T092648Z
LAST-MODIFIED:20251106T092648Z
UID:10057471-1796238000-1796245200@jesmondlibrary.org
SUMMARY:Serene Reflections
DESCRIPTION:
URL:https://jesmondlibrary.org/event/serene-reflections-3/2026-12-02/
LOCATION:Sid Chaplin room
ATTACH;FMTTYPE=image/jpeg:https://jesmondlibrary.org/wp-content/uploads/2025/11/Serene-Reflections-Meditations-1.jpg
END:VEVENT
BEGIN:VEVENT
DTSTART;TZID=Europe/London:20261203T093000
DTEND;TZID=Europe/London:20261203T180000
DTSTAMP:20260420T211022
CREATED:20251121T102015Z
LAST-MODIFIED:20251121T102015Z
UID:10058669-1796290200-1796320800@jesmondlibrary.org
SUMMARY:LIBRARY OPEN THURSDAYS
DESCRIPTION:
URL:https://jesmondlibrary.org/event/library-open-thursdays/2026-12-03/
LOCATION:Main Room
ORGANIZER;CN="Jesmond Library":MAILTO:events@jesmondlibrary.org
END:VEVENT
BEGIN:VEVENT
DTSTART;TZID=Europe/London:20261203T104500
DTEND;TZID=Europe/London:20261203T114500
DTSTAMP:20260420T211022
CREATED:20251027T110506Z
LAST-MODIFIED:20260212T093209Z
UID:10057351-1796294700-1796298300@jesmondlibrary.org
SUMMARY:Advanced German
DESCRIPTION:
URL:https://jesmondlibrary.org/event/advanced-german-4/2026-12-03/
LOCATION:Sid Chaplin room
ATTACH;FMTTYPE=image/jpeg:https://jesmondlibrary.org/wp-content/uploads/2025/10/German-Advanced.jpg
ORGANIZER;CN="Jesmond Library":MAILTO:events@jesmondlibrary.org
END:VEVENT
BEGIN:VEVENT
DTSTART;TZID=Europe/London:20261203T121500
DTEND;TZID=Europe/London:20261203T131500
DTSTAMP:20260420T211022
CREATED:20250509T150234Z
LAST-MODIFIED:20250509T151420Z
UID:10056723-1796300100-1796303700@jesmondlibrary.org
SUMMARY:Intermediate German conversation 2
DESCRIPTION:
URL:https://jesmondlibrary.org/event/intermediate-german-conversation-2-4/2026-12-03/
LOCATION:Catherine Cookson Room\, Jesmond Library\, Newcastle upon Tyne\, NE2 2DL\, United Kingdom
ATTACH;FMTTYPE=image/jpeg:https://jesmondlibrary.org/wp-content/uploads/2025/04/GERMAN_INT1.jpg
ORGANIZER;CN="Jesmond Library":MAILTO:events@jesmondlibrary.org
GEO:54.9932456;-1.606461
X-APPLE-STRUCTURED-LOCATION;VALUE=URI;X-ADDRESS=Catherine Cookson Room Jesmond Library Newcastle upon Tyne NE2 2DL United Kingdom;X-APPLE-RADIUS=500;X-TITLE=Jesmond Library:geo:-1.606461,54.9932456
END:VEVENT
BEGIN:VEVENT
DTSTART;TZID=Europe/London:20261203T180000
DTEND;TZID=Europe/London:20261203T190000
DTSTAMP:20260420T211022
CREATED:20260310T201047Z
LAST-MODIFIED:20260310T201134Z
UID:10058894-1796320800-1796324400@jesmondlibrary.org
SUMMARY:Thursday Talk - Stan Laurel on Tyneside
DESCRIPTION:Michael Gatherar talks about the Tyneside roots of legendary entertainer Stan Laurel.
URL:https://jesmondlibrary.org/event/thursday-talk-jack-and-bobby-charlton/
LOCATION:Main Room
ORGANIZER;CN="Jesmond Library":MAILTO:events@jesmondlibrary.org
END:VEVENT
BEGIN:VEVENT
DTSTART;TZID=Europe/London:20261203T180000
DTEND;TZID=Europe/London:20261203T193000
DTSTAMP:20260420T211022
CREATED:20251111T101917Z
LAST-MODIFIED:20251208T095144Z
UID:10058028-1796320800-1796326200@jesmondlibrary.org
SUMMARY:Spanish Conversation
DESCRIPTION:
URL:https://jesmondlibrary.org/event/spanish-conversation-4/2026-12-03/
LOCATION:Sid Chaplin room
ATTACH;FMTTYPE=image/jpeg:https://jesmondlibrary.org/wp-content/uploads/2025/11/SPANISH1.jpg
ORGANIZER;CN="Jesmond Library":MAILTO:events@jesmondlibrary.org
END:VEVENT
BEGIN:VEVENT
DTSTART;TZID=Europe/London:20261204T093000
DTEND;TZID=Europe/London:20261204T123000
DTSTAMP:20260420T211022
CREATED:20251018T103504Z
LAST-MODIFIED:20251018T104116Z
UID:10057237-1796376600-1796387400@jesmondlibrary.org
SUMMARY:LIBRARY OPEN FRIDAYS
DESCRIPTION:
URL:https://jesmondlibrary.org/event/library-open-fridays-2/2026-12-04/
LOCATION:Main Room
ORGANIZER;CN="Jesmond Library":MAILTO:events@jesmondlibrary.org
END:VEVENT
BEGIN:VEVENT
DTSTART;TZID=Europe/London:20261204T093000
DTEND;TZID=Europe/London:20261204T123000
DTSTAMP:20260420T211022
CREATED:20251111T102411Z
LAST-MODIFIED:20251111T102532Z
UID:10058178-1796376600-1796387400@jesmondlibrary.org
SUMMARY:Beginners English Language Conversation Class
DESCRIPTION:
URL:https://jesmondlibrary.org/event/beginners-english-language-conversation-class/2026-12-04/
LOCATION:Sid Chaplin room
ATTACH;FMTTYPE=image/jpeg:https://jesmondlibrary.org/wp-content/uploads/2024/12/ENGLISH_LANGUAGE_beginners1.jpg
ORGANIZER;CN="Jesmond Library":MAILTO:events@jesmondlibrary.org
END:VEVENT
BEGIN:VEVENT
DTSTART;TZID=Europe/London:20261204T093100
DTEND;TZID=Europe/London:20261204T123000
DTSTAMP:20260420T211022
CREATED:20251111T102235Z
LAST-MODIFIED:20251111T102801Z
UID:10058228-1796376660-1796387400@jesmondlibrary.org
SUMMARY:Improvers English Language Conversation class
DESCRIPTION:
URL:https://jesmondlibrary.org/event/improvers-english-language-conversation-class/2026-12-04/
LOCATION:Catherine Cookson Room
ATTACH;FMTTYPE=image/jpeg:https://jesmondlibrary.org/wp-content/uploads/2024/10/ENGLISH_LANGUAGE_Improvers1.jpg
ORGANIZER;CN="Jesmond Library":MAILTO:events@jesmondlibrary.org
END:VEVENT
BEGIN:VEVENT
DTSTART;TZID=Europe/London:20261205T093000
DTEND;TZID=Europe/London:20261205T163000
DTSTAMP:20260420T211022
CREATED:20251018T103753Z
LAST-MODIFIED:20251018T103910Z
UID:10057288-1796463000-1796488200@jesmondlibrary.org
SUMMARY:LIBRARY OPEN SATURDAYS
DESCRIPTION:
URL:https://jesmondlibrary.org/event/library-open-saturdays-6/2026-12-05/
LOCATION:Main Room
ORGANIZER;CN="Jesmond Library":MAILTO:events@jesmondlibrary.org
END:VEVENT
BEGIN:VEVENT
DTSTART;TZID=Europe/London:20261205T100000
DTEND;TZID=Europe/London:20261205T110000
DTSTAMP:20260420T211022
CREATED:20251111T103318Z
LAST-MODIFIED:20251111T103318Z
UID:10058242-1796464800-1796468400@jesmondlibrary.org
SUMMARY:Liberal Democrat Surgery
DESCRIPTION:
URL:https://jesmondlibrary.org/event/liberal-democrat-surgery/2026-12-05/
LOCATION:Main Room
END:VEVENT
BEGIN:VEVENT
DTSTART;TZID=Europe/London:20261206T133000
DTEND;TZID=Europe/London:20261206T143000
DTSTAMP:20260420T211022
CREATED:20251119T100924Z
LAST-MODIFIED:20251119T101246Z
UID:10058508-1796563800-1796567400@jesmondlibrary.org
SUMMARY:Mindful Therapies
DESCRIPTION:
URL:https://jesmondlibrary.org/event/mindful-therapies-3/2026-12-06/
LOCATION:Catherine Cookson Room\, Jesmond Library\, Newcastle upon Tyne\, NE2 2DL\, United Kingdom
ATTACH;FMTTYPE=image/jpeg:https://jesmondlibrary.org/wp-content/uploads/2022/05/Mindfulness.jpg
GEO:54.9932456;-1.606461
X-APPLE-STRUCTURED-LOCATION;VALUE=URI;X-ADDRESS=Catherine Cookson Room Jesmond Library Newcastle upon Tyne NE2 2DL United Kingdom;X-APPLE-RADIUS=500;X-TITLE=Jesmond Library:geo:-1.606461,54.9932456
END:VEVENT
END:VCALENDAR