BEGIN:VCALENDAR
VERSION:2.0
PRODID:-//Jesmond Library - ECPv6.15.17.1//NONSGML v1.0//EN
CALSCALE:GREGORIAN
METHOD:PUBLISH
X-WR-CALNAME:Jesmond Library
X-ORIGINAL-URL:https://jesmondlibrary.org
X-WR-CALDESC:Events for Jesmond Library
REFRESH-INTERVAL;VALUE=DURATION:PT1H
X-Robots-Tag:noindex
X-PUBLISHED-TTL:PT1H
BEGIN:VTIMEZONE
TZID:Europe/London
BEGIN:DAYLIGHT
TZOFFSETFROM:+0000
TZOFFSETTO:+0100
TZNAME:BST
DTSTART:20250330T010000
END:DAYLIGHT
BEGIN:STANDARD
TZOFFSETFROM:+0100
TZOFFSETTO:+0000
TZNAME:GMT
DTSTART:20251026T010000
END:STANDARD
BEGIN:DAYLIGHT
TZOFFSETFROM:+0000
TZOFFSETTO:+0100
TZNAME:BST
DTSTART:20260329T010000
END:DAYLIGHT
BEGIN:STANDARD
TZOFFSETFROM:+0100
TZOFFSETTO:+0000
TZNAME:GMT
DTSTART:20261025T010000
END:STANDARD
BEGIN:DAYLIGHT
TZOFFSETFROM:+0000
TZOFFSETTO:+0100
TZNAME:BST
DTSTART:20270328T010000
END:DAYLIGHT
BEGIN:STANDARD
TZOFFSETFROM:+0100
TZOFFSETTO:+0000
TZNAME:GMT
DTSTART:20271031T010000
END:STANDARD
END:VTIMEZONE
BEGIN:VEVENT
DTSTART;TZID=Europe/London:20260516T093000
DTEND;TZID=Europe/London:20260516T163000
DTSTAMP:20260420T005346
CREATED:20251018T103753Z
LAST-MODIFIED:20251018T103910Z
UID:10057259-1778923800-1778949000@jesmondlibrary.org
SUMMARY:LIBRARY OPEN SATURDAYS
DESCRIPTION:
URL:https://jesmondlibrary.org/event/library-open-saturdays-6/2026-05-16/
LOCATION:Main Room
ORGANIZER;CN="Jesmond Library":MAILTO:events@jesmondlibrary.org
END:VEVENT
BEGIN:VEVENT
DTSTART;TZID=Europe/London:20260516T100000
DTEND;TZID=Europe/London:20260516T120000
DTSTAMP:20260420T005347
CREATED:20251023T102234Z
LAST-MODIFIED:20251023T102234Z
UID:10057294-1778925600-1778932800@jesmondlibrary.org
SUMMARY:Private Creative Writing group
DESCRIPTION:
URL:https://jesmondlibrary.org/event/private-creative-writing-group-2/2026-05-16/
LOCATION:Catherine Cookson Room
END:VEVENT
BEGIN:VEVENT
DTSTART;TZID=Europe/London:20260516T110000
DTEND;TZID=Europe/London:20260516T120000
DTSTAMP:20260420T005347
CREATED:20250901T092226Z
LAST-MODIFIED:20250904T102538Z
UID:10057066-1778929200-1778932800@jesmondlibrary.org
SUMMARY:Italian Language Course for Children
DESCRIPTION:
URL:https://jesmondlibrary.org/event/italian-language-course-for-children-5/2026-05-16/
LOCATION:Sid Chaplin room
END:VEVENT
BEGIN:VEVENT
DTSTART;TZID=Europe/London:20260516T133000
DTEND;TZID=Europe/London:20260516T173000
DTSTAMP:20260420T005347
CREATED:20250901T092820Z
LAST-MODIFIED:20250901T093723Z
UID:10057100-1778938200-1778952600@jesmondlibrary.org
SUMMARY:Italian Language Course for Children
DESCRIPTION:
URL:https://jesmondlibrary.org/event/italian-language-course-for-children-6/2026-05-16/
LOCATION:Sid Chaplin room
END:VEVENT
BEGIN:VEVENT
DTSTART;TZID=Europe/London:20260517T093000
DTEND;TZID=Europe/London:20260517T123000
DTSTAMP:20260420T005347
CREATED:20260409T140219Z
LAST-MODIFIED:20260409T140219Z
UID:10058992-1779010200-1779021000@jesmondlibrary.org
SUMMARY:Centre Evangelique meeting
DESCRIPTION:
URL:https://jesmondlibrary.org/event/centre-evangelique-meeting-5/2026-05-17/
LOCATION:Main Room
END:VEVENT
BEGIN:VEVENT
DTSTART;TZID=Europe/London:20260517T133000
DTEND;TZID=Europe/London:20260517T143000
DTSTAMP:20260420T005347
CREATED:20251119T100924Z
LAST-MODIFIED:20251119T101246Z
UID:10058479-1779024600-1779028200@jesmondlibrary.org
SUMMARY:Mindful Therapies
DESCRIPTION:
URL:https://jesmondlibrary.org/event/mindful-therapies-3/2026-05-17/
LOCATION:Catherine Cookson Room\, Jesmond Library\, Newcastle upon Tyne\, NE2 2DL\, United Kingdom
ATTACH;FMTTYPE=image/jpeg:https://jesmondlibrary.org/wp-content/uploads/2022/05/Mindfulness.jpg
GEO:54.9932456;-1.606461
X-APPLE-STRUCTURED-LOCATION;VALUE=URI;X-ADDRESS=Catherine Cookson Room Jesmond Library Newcastle upon Tyne NE2 2DL United Kingdom;X-APPLE-RADIUS=500;X-TITLE=Jesmond Library:geo:-1.606461,54.9932456
END:VEVENT
BEGIN:VEVENT
DTSTART;TZID=Europe/London:20260517T143000
DTEND;TZID=Europe/London:20260517T163000
DTSTAMP:20260420T005347
CREATED:20251121T101059Z
LAST-MODIFIED:20251121T101059Z
UID:10058537-1779028200-1779035400@jesmondlibrary.org
SUMMARY:West Jesmond Chess Club
DESCRIPTION:
URL:https://jesmondlibrary.org/event/west-jesmond-chess-club-11/2026-05-17/
LOCATION:Main Room
ATTACH;FMTTYPE=image/png:https://jesmondlibrary.org/wp-content/uploads/2023/04/West-Jesmond-Chess-Club-flyer-V2-September-2023.png
END:VEVENT
BEGIN:VEVENT
DTSTART;TZID=Europe/London:20260518T110000
DTEND;TZID=Europe/London:20260518T123000
DTSTAMP:20260420T005347
CREATED:20260211T133539Z
LAST-MODIFIED:20260211T133539Z
UID:10058841-1779102000-1779107400@jesmondlibrary.org
SUMMARY:Motherfolk Writing Circle
DESCRIPTION:
URL:https://jesmondlibrary.org/event/motherfolk-writing-circle-5/2026-05-18/
LOCATION:Main Room
ATTACH;FMTTYPE=image/png:https://jesmondlibrary.org/wp-content/uploads/2025/07/Motherfolk-June-25.png
END:VEVENT
BEGIN:VEVENT
DTSTART;TZID=Europe/London:20260518T140000
DTEND;TZID=Europe/London:20260518T160000
DTSTAMP:20260420T005347
CREATED:20260401T091528Z
LAST-MODIFIED:20260401T091528Z
UID:10058932-1779112800-1779120000@jesmondlibrary.org
SUMMARY:Everyturn craft group TBC
DESCRIPTION:
URL:https://jesmondlibrary.org/event/everyturn-craft-group-tbc/2026-05-18/
LOCATION:Main Room
END:VEVENT
BEGIN:VEVENT
DTSTART;TZID=Europe/London:20260518T190000
DTEND;TZID=Europe/London:20260518T210000
DTSTAMP:20260420T005347
CREATED:20251111T094915Z
LAST-MODIFIED:20251111T094915Z
UID:10057613-1779130800-1779138000@jesmondlibrary.org
SUMMARY:Play Reading
DESCRIPTION:
URL:https://jesmondlibrary.org/event/play-reading-6/2026-05-18/
LOCATION:Main room – Coffee Area
ATTACH;FMTTYPE=image/jpeg:https://jesmondlibrary.org/wp-content/uploads/2022/11/PLAY-READING.jpg
ORGANIZER;CN="Jesmond Library":MAILTO:events@jesmondlibrary.org
END:VEVENT
BEGIN:VEVENT
DTSTART;TZID=Europe/London:20260519T093000
DTEND;TZID=Europe/London:20260519T163000
DTSTAMP:20260420T005347
CREATED:20251121T101724Z
LAST-MODIFIED:20251121T101724Z
UID:10058589-1779183000-1779208200@jesmondlibrary.org
SUMMARY:LIBRARY OPEN TUESDAYS
DESCRIPTION:
URL:https://jesmondlibrary.org/event/library-open-tuesdays-11/2026-05-19/
LOCATION:Main Room
ORGANIZER;CN="Jesmond Library":MAILTO:events@jesmondlibrary.org
END:VEVENT
BEGIN:VEVENT
DTSTART;TZID=Europe/London:20260519T100000
DTEND;TZID=Europe/London:20260519T110000
DTSTAMP:20260420T005347
CREATED:20251111T095458Z
LAST-MODIFIED:20251111T095458Z
UID:10057664-1779184800-1779188400@jesmondlibrary.org
SUMMARY:Intermediate German conversation
DESCRIPTION:
URL:https://jesmondlibrary.org/event/intermediate-german-conversation-5/2026-05-19/
LOCATION:Sid Chaplin room
ATTACH;FMTTYPE=image/jpeg:https://jesmondlibrary.org/wp-content/uploads/2025/11/Int-German-places-in-Thursdays-group.jpg
ORGANIZER;CN="Jesmond Library":MAILTO:events@jesmondlibrary.org
END:VEVENT
BEGIN:VEVENT
DTSTART;TZID=Europe/London:20260519T100000
DTEND;TZID=Europe/London:20260519T120000
DTSTAMP:20260420T005347
CREATED:20250408T103903Z
LAST-MODIFIED:20251203T095157Z
UID:10056538-1779184800-1779192000@jesmondlibrary.org
SUMMARY:*group full* Current Affairs Discussion Group
DESCRIPTION:
URL:https://jesmondlibrary.org/event/current-affairs-discussion-group-7/2026-05-19/
LOCATION:Catherine Cookson Room
ATTACH;FMTTYPE=image/jpeg:https://jesmondlibrary.org/wp-content/uploads/2025/04/Part_3.jpeg
ORGANIZER;CN="Jesmond Library":MAILTO:events@jesmondlibrary.org
END:VEVENT
BEGIN:VEVENT
DTSTART;TZID=Europe/London:20260519T110000
DTEND;TZID=Europe/London:20260519T120000
DTSTAMP:20260420T005347
CREATED:20251111T095755Z
LAST-MODIFIED:20251111T095755Z
UID:10057716-1779188400-1779192000@jesmondlibrary.org
SUMMARY:Beginners' Spanish conversation
DESCRIPTION:
URL:https://jesmondlibrary.org/event/beginners-spanish-conversation-2/2026-05-19/
LOCATION:Sid Chaplin room
ATTACH;FMTTYPE=image/jpeg:https://jesmondlibrary.org/wp-content/uploads/2025/11/Spanish-Beginners-Tuesdays.jpg
ORGANIZER;CN="Jesmond Library":MAILTO:events@jesmondlibrary.org
END:VEVENT
BEGIN:VEVENT
DTSTART;TZID=Europe/London:20260519T130000
DTEND;TZID=Europe/London:20260519T140000
DTSTAMP:20260420T005347
CREATED:20251111T100225Z
LAST-MODIFIED:20251111T100805Z
UID:10057820-1779195600-1779199200@jesmondlibrary.org
SUMMARY:French Intermediate Conversation 1
DESCRIPTION:
URL:https://jesmondlibrary.org/event/french-intermediate-conversation-1/2026-05-19/
LOCATION:Catherine Cookson Room
ATTACH;FMTTYPE=image/jpeg:https://jesmondlibrary.org/wp-content/uploads/2023/11/FRENCH.jpg
ORGANIZER;CN="Jesmond Library":MAILTO:events@jesmondlibrary.org
END:VEVENT
BEGIN:VEVENT
DTSTART;TZID=Europe/London:20260519T130000
DTEND;TZID=Europe/London:20260519T140000
DTSTAMP:20260420T005347
CREATED:20251111T100633Z
LAST-MODIFIED:20251111T100633Z
UID:10057872-1779195600-1779199200@jesmondlibrary.org
SUMMARY:French Intermediate conversation 2
DESCRIPTION:
URL:https://jesmondlibrary.org/event/french-intermediate-conversation-2/2026-05-19/
LOCATION:Sid Chaplin room
ATTACH;FMTTYPE=image/jpeg:https://jesmondlibrary.org/wp-content/uploads/2023/11/FRENCH.jpg
ORGANIZER;CN="Jesmond Library":MAILTO:events@jesmondlibrary.org
END:VEVENT
BEGIN:VEVENT
DTSTART;TZID=Europe/London:20260519T141500
DTEND;TZID=Europe/London:20260519T154500
DTSTAMP:20260420T005347
CREATED:20251111T101159Z
LAST-MODIFIED:20251208T094507Z
UID:10057936-1779200100-1779205500@jesmondlibrary.org
SUMMARY:Craft 'n' Chat
DESCRIPTION:
URL:https://jesmondlibrary.org/event/craft-n-chat-2/2026-05-19/
LOCATION:Catherine Cookson Room
ATTACH;FMTTYPE=image/jpeg:https://jesmondlibrary.org/wp-content/uploads/2023/02/CRAFT-N-CHAT-1.jpg
ORGANIZER;CN="Jesmond Library":MAILTO:events@jesmondlibrary.org
END:VEVENT
BEGIN:VEVENT
DTSTART;TZID=Europe/London:20260519T174500
DTEND;TZID=Europe/London:20260519T193000
DTSTAMP:20260420T005347
CREATED:20260320T160118Z
LAST-MODIFIED:20260320T160327Z
UID:10058918-1779212700-1779219000@jesmondlibrary.org
SUMMARY:Holiday Spanish
DESCRIPTION:
URL:https://jesmondlibrary.org/event/holiday-spanish/2026-05-19/
LOCATION:Sid Chaplin room
ATTACH;FMTTYPE=image/jpeg:https://jesmondlibrary.org/wp-content/uploads/2026/03/Jesmond-Holiday-Courses.jpg
END:VEVENT
BEGIN:VEVENT
DTSTART;TZID=Europe/London:20260519T181500
DTEND;TZID=Europe/London:20260519T201500
DTSTAMP:20260420T005347
CREATED:20260129T140758Z
LAST-MODIFIED:20260211T134956Z
UID:10058814-1779214500-1779221700@jesmondlibrary.org
SUMMARY:Majority Private Book Club
DESCRIPTION:
URL:https://jesmondlibrary.org/event/majority-book-club-2/2026-05-19/
LOCATION:Main Room
END:VEVENT
BEGIN:VEVENT
DTSTART;TZID=Europe/London:20260520T083000
DTEND;TZID=Europe/London:20260520T093000
DTSTAMP:20260420T005347
CREATED:20260127T100109Z
LAST-MODIFIED:20260127T100109Z
UID:10058809-1779265800-1779269400@jesmondlibrary.org
SUMMARY:West Jesmond School Festival of Music - room prep
DESCRIPTION:
URL:https://jesmondlibrary.org/event/west-jesmond-school-festival-of-music-room-prep/
LOCATION:Main Room
ORGANIZER;CN="Jesmond Library":MAILTO:events@jesmondlibrary.org
END:VEVENT
BEGIN:VEVENT
DTSTART;TZID=Europe/London:20260520T093000
DTEND;TZID=Europe/London:20260520T114500
DTSTAMP:20260420T005347
CREATED:20260127T100011Z
LAST-MODIFIED:20260313T095756Z
UID:10058808-1779269400-1779277500@jesmondlibrary.org
SUMMARY:West Jesmond School Festival of Music
DESCRIPTION:
URL:https://jesmondlibrary.org/event/west-jesmond-school-festival-of-music-2/
LOCATION:Main Room
ATTACH;FMTTYPE=image/jpeg:https://jesmondlibrary.org/wp-content/uploads/2026/01/WJ-Music.jpg
ORGANIZER;CN="Jesmond Library":MAILTO:events@jesmondlibrary.org
END:VEVENT
BEGIN:VEVENT
DTSTART;TZID=Europe/London:20260520T114500
DTEND;TZID=Europe/London:20260520T124500
DTSTAMP:20260420T005347
CREATED:20260127T100211Z
LAST-MODIFIED:20260127T100211Z
UID:10058810-1779277500-1779281100@jesmondlibrary.org
SUMMARY:West Jesmond School Festival of Music - room re-set
DESCRIPTION:
URL:https://jesmondlibrary.org/event/west-jesmond-school-festival-of-music-room-re-set/
LOCATION:Main Room
ORGANIZER;CN="Jesmond Library":MAILTO:events@jesmondlibrary.org
END:VEVENT
BEGIN:VEVENT
DTSTART;TZID=Europe/London:20260520T184500
DTEND;TZID=Europe/London:20260520T203000
DTSTAMP:20260420T005347
CREATED:20260313T100524Z
LAST-MODIFIED:20260313T100524Z
UID:10058515-1779302700-1779309000@jesmondlibrary.org
SUMMARY:Labour Party meeting
DESCRIPTION:
URL:https://jesmondlibrary.org/event/labour-party-meeting-4-2/
LOCATION:Main Room
END:VEVENT
BEGIN:VEVENT
DTSTART;TZID=Europe/London:20260520T190000
DTEND;TZID=Europe/London:20260520T210000
DTSTAMP:20260420T005347
CREATED:20251106T092648Z
LAST-MODIFIED:20251106T092648Z
UID:10057443-1779303600-1779310800@jesmondlibrary.org
SUMMARY:Serene Reflections
DESCRIPTION:
URL:https://jesmondlibrary.org/event/serene-reflections-3/2026-05-20/
LOCATION:Sid Chaplin room
ATTACH;FMTTYPE=image/jpeg:https://jesmondlibrary.org/wp-content/uploads/2025/11/Serene-Reflections-Meditations-1.jpg
END:VEVENT
BEGIN:VEVENT
DTSTART;TZID=Europe/London:20260521T093000
DTEND;TZID=Europe/London:20260521T180000
DTSTAMP:20260420T005347
CREATED:20251121T102015Z
LAST-MODIFIED:20251121T102015Z
UID:10058641-1779355800-1779386400@jesmondlibrary.org
SUMMARY:LIBRARY OPEN THURSDAYS
DESCRIPTION:
URL:https://jesmondlibrary.org/event/library-open-thursdays/2026-05-21/
LOCATION:Main Room
ORGANIZER;CN="Jesmond Library":MAILTO:events@jesmondlibrary.org
END:VEVENT
BEGIN:VEVENT
DTSTART;TZID=Europe/London:20260521T100000
DTEND;TZID=Europe/London:20260521T103000
DTSTAMP:20260420T005347
CREATED:20260409T125931Z
LAST-MODIFIED:20260409T141911Z
UID:10058969-1779357600-1779359400@jesmondlibrary.org
SUMMARY:Story & Rhyme Time
DESCRIPTION:
URL:https://jesmondlibrary.org/event/story-rhyme-time/2026-05-21/
LOCATION:Main Room
ATTACH;FMTTYPE=image/jpeg:https://jesmondlibrary.org/wp-content/uploads/2026/04/STORYTIME.jpg
ORGANIZER;CN="Jesmond Library":MAILTO:events@jesmondlibrary.org
END:VEVENT
BEGIN:VEVENT
DTSTART;TZID=Europe/London:20260521T100000
DTEND;TZID=Europe/London:20260521T120000
DTSTAMP:20260420T005347
CREATED:20260409T134001Z
LAST-MODIFIED:20260409T134001Z
UID:10058982-1779357600-1779364800@jesmondlibrary.org
SUMMARY:Private French Conversation group
DESCRIPTION:
URL:https://jesmondlibrary.org/event/private-french-conversation-group-2/2026-05-21/
LOCATION:Catherine Cookson Room\, Jesmond Library\, Newcastle upon Tyne\, NE2 2DL\, United Kingdom
GEO:54.9932456;-1.606461
X-APPLE-STRUCTURED-LOCATION;VALUE=URI;X-ADDRESS=Catherine Cookson Room Jesmond Library Newcastle upon Tyne NE2 2DL United Kingdom;X-APPLE-RADIUS=500;X-TITLE=Jesmond Library:geo:-1.606461,54.9932456
END:VEVENT
BEGIN:VEVENT
DTSTART;TZID=Europe/London:20260521T104500
DTEND;TZID=Europe/London:20260521T114500
DTSTAMP:20260420T005347
CREATED:20251027T110506Z
LAST-MODIFIED:20260212T093209Z
UID:10057323-1779360300-1779363900@jesmondlibrary.org
SUMMARY:Advanced German
DESCRIPTION:
URL:https://jesmondlibrary.org/event/advanced-german-4/2026-05-21/
LOCATION:Sid Chaplin room
ATTACH;FMTTYPE=image/jpeg:https://jesmondlibrary.org/wp-content/uploads/2025/10/German-Advanced.jpg
ORGANIZER;CN="Jesmond Library":MAILTO:events@jesmondlibrary.org
END:VEVENT
BEGIN:VEVENT
DTSTART;TZID=Europe/London:20260521T121500
DTEND;TZID=Europe/London:20260521T131500
DTSTAMP:20260420T005347
CREATED:20250509T150234Z
LAST-MODIFIED:20250509T151420Z
UID:10056695-1779365700-1779369300@jesmondlibrary.org
SUMMARY:Intermediate German conversation 2
DESCRIPTION:
URL:https://jesmondlibrary.org/event/intermediate-german-conversation-2-4/2026-05-21/
LOCATION:Catherine Cookson Room\, Jesmond Library\, Newcastle upon Tyne\, NE2 2DL\, United Kingdom
ATTACH;FMTTYPE=image/jpeg:https://jesmondlibrary.org/wp-content/uploads/2025/04/GERMAN_INT1.jpg
ORGANIZER;CN="Jesmond Library":MAILTO:events@jesmondlibrary.org
GEO:54.9932456;-1.606461
X-APPLE-STRUCTURED-LOCATION;VALUE=URI;X-ADDRESS=Catherine Cookson Room Jesmond Library Newcastle upon Tyne NE2 2DL United Kingdom;X-APPLE-RADIUS=500;X-TITLE=Jesmond Library:geo:-1.606461,54.9932456
END:VEVENT
BEGIN:VEVENT
DTSTART;TZID=Europe/London:20260521T163000
DTEND;TZID=Europe/London:20260521T173000
DTSTAMP:20260420T005347
CREATED:20260323T101325Z
LAST-MODIFIED:20260323T101621Z
UID:10058925-1779381000-1779384600@jesmondlibrary.org
SUMMARY:The Art Locale – Group art sessions for 8-16 year olds
DESCRIPTION:
URL:https://jesmondlibrary.org/event/the-art-locale-group-art-sessions-for-8-16-year-olds-5/2026-05-21/
LOCATION:Catherine Cookson Room
ATTACH;FMTTYPE=image/png:https://jesmondlibrary.org/wp-content/uploads/2026/03/April_May_Art_Sessions.png
END:VEVENT
END:VCALENDAR