BEGIN:VCALENDAR
VERSION:2.0
PRODID:-//Jesmond Library - ECPv6.15.17.1//NONSGML v1.0//EN
CALSCALE:GREGORIAN
METHOD:PUBLISH
X-WR-CALNAME:Jesmond Library
X-ORIGINAL-URL:https://jesmondlibrary.org
X-WR-CALDESC:Events for Jesmond Library
REFRESH-INTERVAL;VALUE=DURATION:PT1H
X-Robots-Tag:noindex
X-PUBLISHED-TTL:PT1H
BEGIN:VTIMEZONE
TZID:Europe/London
BEGIN:DAYLIGHT
TZOFFSETFROM:+0000
TZOFFSETTO:+0100
TZNAME:BST
DTSTART:20250330T010000
END:DAYLIGHT
BEGIN:STANDARD
TZOFFSETFROM:+0100
TZOFFSETTO:+0000
TZNAME:GMT
DTSTART:20251026T010000
END:STANDARD
BEGIN:DAYLIGHT
TZOFFSETFROM:+0000
TZOFFSETTO:+0100
TZNAME:BST
DTSTART:20260329T010000
END:DAYLIGHT
BEGIN:STANDARD
TZOFFSETFROM:+0100
TZOFFSETTO:+0000
TZNAME:GMT
DTSTART:20261025T010000
END:STANDARD
BEGIN:DAYLIGHT
TZOFFSETFROM:+0000
TZOFFSETTO:+0100
TZNAME:BST
DTSTART:20270328T010000
END:DAYLIGHT
BEGIN:STANDARD
TZOFFSETFROM:+0100
TZOFFSETTO:+0000
TZNAME:GMT
DTSTART:20271031T010000
END:STANDARD
END:VTIMEZONE
BEGIN:VEVENT
DTSTART;TZID=Europe/London:20260418T140000
DTEND;TZID=Europe/London:20260418T160000
DTSTAMP:20260424T230443
CREATED:20260401T084133Z
LAST-MODIFIED:20260401T084133Z
UID:10058930-1776520800-1776528000@jesmondlibrary.org
SUMMARY:Private meeting - North East Hongkongers Club
DESCRIPTION:
URL:https://jesmondlibrary.org/event/private-meeting-north-east-hongkongers-club/
LOCATION:Catherine Cookson Room
END:VEVENT
BEGIN:VEVENT
DTSTART;TZID=Europe/London:20260419T093000
DTEND;TZID=Europe/London:20260419T123000
DTSTAMP:20260424T230443
CREATED:20260409T140219Z
LAST-MODIFIED:20260409T140219Z
UID:10058988-1776591000-1776601800@jesmondlibrary.org
SUMMARY:Centre Evangelique meeting
DESCRIPTION:
URL:https://jesmondlibrary.org/event/centre-evangelique-meeting-5/2026-04-19/
LOCATION:Main Room
END:VEVENT
BEGIN:VEVENT
DTSTART;TZID=Europe/London:20260419T133000
DTEND;TZID=Europe/London:20260419T143000
DTSTAMP:20260424T230443
CREATED:20251119T100924Z
LAST-MODIFIED:20251119T101246Z
UID:10058475-1776605400-1776609000@jesmondlibrary.org
SUMMARY:Mindful Therapies
DESCRIPTION:
URL:https://jesmondlibrary.org/event/mindful-therapies-3/2026-04-19/
LOCATION:Catherine Cookson Room\, Jesmond Library\, Newcastle upon Tyne\, NE2 2DL\, United Kingdom
ATTACH;FMTTYPE=image/jpeg:https://jesmondlibrary.org/wp-content/uploads/2022/05/Mindfulness.jpg
GEO:54.9932456;-1.606461
X-APPLE-STRUCTURED-LOCATION;VALUE=URI;X-ADDRESS=Catherine Cookson Room Jesmond Library Newcastle upon Tyne NE2 2DL United Kingdom;X-APPLE-RADIUS=500;X-TITLE=Jesmond Library:geo:-1.606461,54.9932456
END:VEVENT
BEGIN:VEVENT
DTSTART;TZID=Europe/London:20260419T143000
DTEND;TZID=Europe/London:20260419T163000
DTSTAMP:20260424T230443
CREATED:20251121T101059Z
LAST-MODIFIED:20251121T101059Z
UID:10058533-1776609000-1776616200@jesmondlibrary.org
SUMMARY:West Jesmond Chess Club
DESCRIPTION:
URL:https://jesmondlibrary.org/event/west-jesmond-chess-club-11/2026-04-19/
LOCATION:Main Room
ATTACH;FMTTYPE=image/png:https://jesmondlibrary.org/wp-content/uploads/2023/04/West-Jesmond-Chess-Club-flyer-V2-September-2023.png
END:VEVENT
BEGIN:VEVENT
DTSTART;TZID=Europe/London:20260420T110000
DTEND;TZID=Europe/London:20260420T123000
DTSTAMP:20260424T230443
CREATED:20260211T133539Z
LAST-MODIFIED:20260211T133539Z
UID:10058837-1776682800-1776688200@jesmondlibrary.org
SUMMARY:Motherfolk Writing Circle
DESCRIPTION:
URL:https://jesmondlibrary.org/event/motherfolk-writing-circle-5/2026-04-20/
LOCATION:Main Room
ATTACH;FMTTYPE=image/png:https://jesmondlibrary.org/wp-content/uploads/2025/07/Motherfolk-June-25.png
END:VEVENT
BEGIN:VEVENT
DTSTART;TZID=Europe/London:20260421T100000
DTEND;TZID=Europe/London:20260421T120000
DTSTAMP:20260424T230443
CREATED:20250408T103903Z
LAST-MODIFIED:20251203T095157Z
UID:10056534-1776765600-1776772800@jesmondlibrary.org
SUMMARY:*group full* Current Affairs Discussion Group
DESCRIPTION:
URL:https://jesmondlibrary.org/event/current-affairs-discussion-group-7/2026-04-21/
LOCATION:Catherine Cookson Room
ATTACH;FMTTYPE=image/jpeg:https://jesmondlibrary.org/wp-content/uploads/2025/04/Part_3.jpeg
ORGANIZER;CN="Jesmond Library":MAILTO:events@jesmondlibrary.org
END:VEVENT
BEGIN:VEVENT
DTSTART;TZID=Europe/London:20260421T141500
DTEND;TZID=Europe/London:20260421T154500
DTSTAMP:20260424T230443
CREATED:20251111T101159Z
LAST-MODIFIED:20251208T094507Z
UID:10057932-1776780900-1776786300@jesmondlibrary.org
SUMMARY:Craft 'n' Chat
DESCRIPTION:
URL:https://jesmondlibrary.org/event/craft-n-chat-2/2026-04-21/
LOCATION:Catherine Cookson Room
ATTACH;FMTTYPE=image/jpeg:https://jesmondlibrary.org/wp-content/uploads/2023/02/CRAFT-N-CHAT-1.jpg
ORGANIZER;CN="Jesmond Library":MAILTO:events@jesmondlibrary.org
END:VEVENT
BEGIN:VEVENT
DTSTART;TZID=Europe/London:20260421T181500
DTEND;TZID=Europe/London:20260421T201500
DTSTAMP:20260424T230443
CREATED:20260129T140758Z
LAST-MODIFIED:20260211T134956Z
UID:10058813-1776795300-1776802500@jesmondlibrary.org
SUMMARY:Majority Private Book Club
DESCRIPTION:
URL:https://jesmondlibrary.org/event/majority-book-club-2/2026-04-21/
LOCATION:Main Room
END:VEVENT
BEGIN:VEVENT
DTSTART;TZID=Europe/London:20260422T190000
DTEND;TZID=Europe/London:20260422T200000
DTSTAMP:20260424T230443
CREATED:20260210T095440Z
LAST-MODIFIED:20260220T135722Z
UID:10058830-1776884400-1776888000@jesmondlibrary.org
SUMMARY:Author Event: Trevor Wood\, crime writer
DESCRIPTION:
URL:https://jesmondlibrary.org/event/author-event-trevor-wood-crime-writer/
LOCATION:Main Room
ATTACH;FMTTYPE=image/jpeg:https://jesmondlibrary.org/wp-content/uploads/2026/02/Writer_showcase_trevor_wood_poster_jpeg1.jpg
ORGANIZER;CN="Jesmond Library":MAILTO:events@jesmondlibrary.org
END:VEVENT
BEGIN:VEVENT
DTSTART;TZID=Europe/London:20260423T100000
DTEND;TZID=Europe/London:20260423T120000
DTSTAMP:20260424T230443
CREATED:20260409T134001Z
LAST-MODIFIED:20260424T100301Z
UID:10059007-1776938400-1776945600@jesmondlibrary.org
SUMMARY:Private French Conversation group
DESCRIPTION:
URL:https://jesmondlibrary.org/event/private-french-conversation-group-2/2026-04-23/
LOCATION:Catherine Cookson Room\, Jesmond Library\, Newcastle upon Tyne\, NE2 2DL\, United Kingdom
GEO:54.9932456;-1.606461
X-APPLE-STRUCTURED-LOCATION;VALUE=URI;X-ADDRESS=Catherine Cookson Room Jesmond Library Newcastle upon Tyne NE2 2DL United Kingdom;X-APPLE-RADIUS=500;X-TITLE=Jesmond Library:geo:-1.606461,54.9932456
END:VEVENT
BEGIN:VEVENT
DTSTART;TZID=Europe/London:20260423T140000
DTEND;TZID=Europe/London:20260423T160000
DTSTAMP:20260424T230443
CREATED:20260330T144032Z
LAST-MODIFIED:20260330T144032Z
UID:10058929-1776952800-1776960000@jesmondlibrary.org
SUMMARY:Jesmond Potato Pie private book group
DESCRIPTION:
URL:https://jesmondlibrary.org/event/jesmond-potato-pie-private-book-group/
LOCATION:Catherine Cookson Room
ORGANIZER;CN="Jesmond Library":MAILTO:events@jesmondlibrary.org
END:VEVENT
BEGIN:VEVENT
DTSTART;TZID=Europe/London:20260423T163000
DTEND;TZID=Europe/London:20260423T163000
DTSTAMP:20260424T230443
CREATED:20260323T101325Z
LAST-MODIFIED:20260323T101621Z
UID:10058920-1776961800-1776961800@jesmondlibrary.org
SUMMARY:The Art Locale – Group art sessions for 8-16 year olds
DESCRIPTION:
URL:https://jesmondlibrary.org/event/the-art-locale-group-art-sessions-for-8-16-year-olds-5/2026-04-23/
LOCATION:Catherine Cookson Room
ATTACH;FMTTYPE=image/png:https://jesmondlibrary.org/wp-content/uploads/2026/03/April_May_Art_Sessions.png
END:VEVENT
BEGIN:VEVENT
DTSTART;TZID=Europe/London:20260423T180000
DTEND;TZID=Europe/London:20260423T190000
DTSTAMP:20260424T230443
CREATED:20251120T170344Z
LAST-MODIFIED:20251123T184407Z
UID:10058513-1776967200-1776970800@jesmondlibrary.org
SUMMARY:Thursday Talk - Tyneside Family Companies
DESCRIPTION:David Faulkner looks at the origin and development of three key local family companies – Ringtons\, Barbour and Fenwick – and what they mean to the North East.
URL:https://jesmondlibrary.org/event/thursday-talk-tyneside-family-companies/
LOCATION:Main Room
ATTACH;FMTTYPE=image/jpeg:https://jesmondlibrary.org/wp-content/uploads/2025/11/David-Faulkner.jpg
ORGANIZER;CN="Jesmond Library":MAILTO:events@jesmondlibrary.org
END:VEVENT
BEGIN:VEVENT
DTSTART;TZID=Europe/London:20260424T100000
DTEND;TZID=Europe/London:20260424T110000
DTSTAMP:20260424T230443
CREATED:20260402T092427Z
LAST-MODIFIED:20260409T132923Z
UID:10058966-1777024800-1777028400@jesmondlibrary.org
SUMMARY:EPiC Drop-In
DESCRIPTION:
URL:https://jesmondlibrary.org/event/epic-drop-in-6/
LOCATION:Main Room
ATTACH;FMTTYPE=image/png:https://jesmondlibrary.org/wp-content/uploads/2026/04/image-1.png
END:VEVENT
BEGIN:VEVENT
DTSTART;TZID=Europe/London:20260425T110000
DTEND;TZID=Europe/London:20260425T120000
DTSTAMP:20260424T230443
CREATED:20250901T092226Z
LAST-MODIFIED:20250904T102538Z
UID:10057063-1777114800-1777118400@jesmondlibrary.org
SUMMARY:Italian Language Course for Children
DESCRIPTION:
URL:https://jesmondlibrary.org/event/italian-language-course-for-children-5/2026-04-25/
LOCATION:Sid Chaplin room
END:VEVENT
BEGIN:VEVENT
DTSTART;TZID=Europe/London:20260425T133000
DTEND;TZID=Europe/London:20260425T173000
DTSTAMP:20260424T230443
CREATED:20250901T092820Z
LAST-MODIFIED:20250901T093723Z
UID:10057097-1777123800-1777138200@jesmondlibrary.org
SUMMARY:Italian Language Course for Children
DESCRIPTION:
URL:https://jesmondlibrary.org/event/italian-language-course-for-children-6/2026-04-25/
LOCATION:Sid Chaplin room
END:VEVENT
BEGIN:VEVENT
DTSTART;TZID=Europe/London:20260429T110000
DTEND;TZID=Europe/London:20260429T120000
DTSTAMP:20260424T230443
CREATED:20260131T111934Z
LAST-MODIFIED:20260131T111934Z
UID:10058826-1777460400-1777464000@jesmondlibrary.org
SUMMARY:NPS art ex. install
DESCRIPTION:
URL:https://jesmondlibrary.org/event/nps-art-ex-install/
LOCATION:Main Room
ORGANIZER;CN="Jesmond Library":MAILTO:events@jesmondlibrary.org
END:VEVENT
BEGIN:VEVENT
DTSTART;TZID=Europe/London:20260429T153000
DTEND;TZID=Europe/London:20260429T170000
DTSTAMP:20260424T230443
CREATED:20260131T112030Z
LAST-MODIFIED:20260326T102353Z
UID:10058827-1777476600-1777482000@jesmondlibrary.org
SUMMARY:NPS Art Exhibition Private View
DESCRIPTION:
URL:https://jesmondlibrary.org/event/nps-art-exhibition-private-view/
ATTACH;FMTTYPE=image/jpeg:https://jesmondlibrary.org/wp-content/uploads/2026/01/Rob-Walton-1-2.jpg
ORGANIZER;CN="Jesmond Library":MAILTO:events@jesmondlibrary.org
END:VEVENT
BEGIN:VEVENT
DTSTART;TZID=Europe/London:20260430T180000
DTEND;TZID=Europe/London:20260430T190000
DTSTAMP:20260424T230443
CREATED:20260319T192331Z
LAST-MODIFIED:20260320T150419Z
UID:10058908-1777572000-1777575600@jesmondlibrary.org
SUMMARY:Thursday Talk - Bob Dylan and "that thin wild mercury sound"
DESCRIPTION:Bob Dylan’s 1966 double album “Blonde on Blonde” was released almost exactly 60 years ago\, and is still regarded as a key milestone in popular music.  To celebrate this anniversary\, Mike Fraser explores Dylan’s artistic development from his arrival in New York in 1961 up to the album’s release.
URL:https://jesmondlibrary.org/event/thursday-talk-bob-dylan-and-that-thin-wild-mercury-sound/
LOCATION:Main Room
ATTACH;FMTTYPE=image/jpeg:https://jesmondlibrary.org/wp-content/uploads/2026/03/MIKE-FRAZER.jpg
ORGANIZER;CN="Jesmond Library":MAILTO:events@jesmondlibrary.org
END:VEVENT
BEGIN:VEVENT
DTSTART;TZID=Europe/London:20260502T100000
DTEND;TZID=Europe/London:20260502T110000
DTSTAMP:20260424T230443
CREATED:20251111T103318Z
LAST-MODIFIED:20251111T103318Z
UID:10058235-1777716000-1777719600@jesmondlibrary.org
SUMMARY:Liberal Democrat Surgery
DESCRIPTION:
URL:https://jesmondlibrary.org/event/liberal-democrat-surgery/2026-05-02/
LOCATION:Main Room
END:VEVENT
BEGIN:VEVENT
DTSTART;VALUE=DATE:20260504
DTEND;VALUE=DATE:20260505
DTSTAMP:20260424T230443
CREATED:20251029T175554Z
LAST-MODIFIED:20251029T175554Z
UID:10057367-1777852800-1777939199@jesmondlibrary.org
SUMMARY:BANK HOLIDAY
DESCRIPTION:
URL:https://jesmondlibrary.org/event/bank-holiday/
ORGANIZER;CN="Jesmond Library":MAILTO:events@jesmondlibrary.org
END:VEVENT
BEGIN:VEVENT
DTSTART;TZID=Europe/London:20260505T140000
DTEND;TZID=Europe/London:20260505T153000
DTSTAMP:20260424T230443
CREATED:20250827T085201Z
LAST-MODIFIED:20250827T085334Z
UID:10057033-1777989600-1777995000@jesmondlibrary.org
SUMMARY:IT Support
DESCRIPTION:
URL:https://jesmondlibrary.org/event/it-support-12/2026-05-05/
LOCATION:Main Room
ATTACH;FMTTYPE=image/jpeg:https://jesmondlibrary.org/wp-content/uploads/2025/04/IT-SUPPORT-1.jpg
ORGANIZER;CN="Jesmond Library":MAILTO:events@jesmondlibrary.org
END:VEVENT
BEGIN:VEVENT
DTSTART;TZID=Europe/London:20260505T140000
DTEND;TZID=Europe/London:20260505T153000
DTSTAMP:20260424T230443
CREATED:20251111T100952Z
LAST-MODIFIED:20251219T093359Z
UID:10057909-1777989600-1777995000@jesmondlibrary.org
SUMMARY:Poetry Sharing
DESCRIPTION:
URL:https://jesmondlibrary.org/event/poetry-reading/2026-05-05/
LOCATION:Sid Chaplin room
ATTACH;FMTTYPE=image/jpeg:https://jesmondlibrary.org/wp-content/uploads/2024/10/Poetry-Sharing.jpg
ORGANIZER;CN="Jesmond Library":MAILTO:events@jesmondlibrary.org
END:VEVENT
BEGIN:VEVENT
DTSTART;TZID=Europe/London:20260505T170000
DTEND;TZID=Europe/London:20260505T190000
DTSTAMP:20260424T230443
CREATED:20251106T093526Z
LAST-MODIFIED:20260202T165729Z
UID:10057492-1778000400-1778007600@jesmondlibrary.org
SUMMARY:Philosophy Group
DESCRIPTION:
URL:https://jesmondlibrary.org/event/philosophy-group-8/2026-05-05/
LOCATION:Main Room
ATTACH;FMTTYPE=image/jpeg:https://jesmondlibrary.org/wp-content/uploads/2025/08/Jesmond-Philosophy-Group-1-scaled.jpg
ORGANIZER;CN="Michael Bavidge":MAILTO:michael.bavidge@newcastle.ac.uk
END:VEVENT
BEGIN:VEVENT
DTSTART;TZID=Europe/London:20260506T103000
DTEND;TZID=Europe/London:20260506T130000
DTSTAMP:20260424T230443
CREATED:20260409T130620Z
LAST-MODIFIED:20260409T130621Z
UID:10057973-1778063400-1778072400@jesmondlibrary.org
SUMMARY:Wellbeing for Life: Out & About with EC Rider
DESCRIPTION:
URL:https://jesmondlibrary.org/event/well-being-for-life-2/
LOCATION:Main Room & Catherine Cookson Room
ATTACH;FMTTYPE=image/jpeg:https://jesmondlibrary.org/wp-content/uploads/2025/11/May.jpg
ORGANIZER;CN="Jesmond Library":MAILTO:events@jesmondlibrary.org
END:VEVENT
BEGIN:VEVENT
DTSTART;TZID=Europe/London:20260507T100000
DTEND;TZID=Europe/London:20260507T103000
DTSTAMP:20260424T230443
CREATED:20260409T125931Z
LAST-MODIFIED:20260409T141911Z
UID:10058967-1778148000-1778149800@jesmondlibrary.org
SUMMARY:Story & Rhyme Time
DESCRIPTION:
URL:https://jesmondlibrary.org/event/story-rhyme-time/2026-05-07/
LOCATION:Main Room
ATTACH;FMTTYPE=image/jpeg:https://jesmondlibrary.org/wp-content/uploads/2026/04/STORYTIME.jpg
ORGANIZER;CN="Jesmond Library":MAILTO:events@jesmondlibrary.org
END:VEVENT
BEGIN:VEVENT
DTSTART;TZID=Europe/London:20260507T180000
DTEND;TZID=Europe/London:20260507T190000
DTSTAMP:20260424T230443
CREATED:20260303T174634Z
LAST-MODIFIED:20260423T113134Z
UID:10058878-1778176800-1778180400@jesmondlibrary.org
SUMMARY:Thursday Talk - Financial Planning Hot Topics
DESCRIPTION:Laura Berry\, Independent Financial Advisor at leading local firm Lycetts\, explores a number of topics which are currently live issues for her clients\, including pension planning and options for people who are worried about either care home costs or future Inheritance Tax charges.
URL:https://jesmondlibrary.org/event/thursday-talk-the-1826-northumberland-election/
LOCATION:Main Room
ATTACH;FMTTYPE=image/jpeg:https://jesmondlibrary.org/wp-content/uploads/2026/03/LAURA-BERRY.jpg
ORGANIZER;CN="Jesmond Library":MAILTO:events@jesmondlibrary.org
END:VEVENT
BEGIN:VEVENT
DTSTART;TZID=Europe/London:20260508T130000
DTEND;TZID=Europe/London:20260508T140000
DTSTAMP:20260424T230443
CREATED:20260121T100635Z
LAST-MODIFIED:20260424T094238Z
UID:10058806-1778245200-1778248800@jesmondlibrary.org
SUMMARY:Music in the Library: Guitar duo Giles Strong and Richard Herdman
DESCRIPTION:
URL:https://jesmondlibrary.org/event/music-in-the-library-guitar-duo-giles-strong-and-richard-herdman/
LOCATION:Main Room
ATTACH;FMTTYPE=image/jpeg:https://jesmondlibrary.org/wp-content/uploads/2026/01/Music-in-the-Library-2.jpg
ORGANIZER;CN="Jesmond Library":MAILTO:events@jesmondlibrary.org
END:VEVENT
BEGIN:VEVENT
DTSTART;TZID=Europe/London:20260509T110000
DTEND;TZID=Europe/London:20260509T130000
DTSTAMP:20260424T230443
CREATED:20250918T100830Z
LAST-MODIFIED:20251114T111402Z
UID:10057141-1778324400-1778331600@jesmondlibrary.org
SUMMARY:Keep Jesmond Clean Litterpick
DESCRIPTION:
URL:https://jesmondlibrary.org/event/keep-jesmond-clean-litterpick-2/2026-05-09/
LOCATION:Catherine Cookson Room
ATTACH;FMTTYPE=image/jpeg:https://jesmondlibrary.org/wp-content/uploads/2024/07/KJC-generic-JPEG.jpg
END:VEVENT
BEGIN:VEVENT
DTSTART;TZID=Europe/London:20260511T140000
DTEND;TZID=Europe/London:20260511T160000
DTSTAMP:20260424T230443
CREATED:20260401T091528Z
LAST-MODIFIED:20260401T091528Z
UID:10058931-1778508000-1778515200@jesmondlibrary.org
SUMMARY:Everyturn craft group TBC
DESCRIPTION:
URL:https://jesmondlibrary.org/event/everyturn-craft-group-tbc/2026-05-11/
LOCATION:Main Room
END:VEVENT
END:VCALENDAR