BEGIN:VCALENDAR
VERSION:2.0
PRODID:-//Jesmond Library - ECPv6.15.17.1//NONSGML v1.0//EN
CALSCALE:GREGORIAN
METHOD:PUBLISH
X-WR-CALNAME:Jesmond Library
X-ORIGINAL-URL:https://jesmondlibrary.org
X-WR-CALDESC:Events for Jesmond Library
REFRESH-INTERVAL;VALUE=DURATION:PT1H
X-Robots-Tag:noindex
X-PUBLISHED-TTL:PT1H
BEGIN:VTIMEZONE
TZID:Europe/London
BEGIN:DAYLIGHT
TZOFFSETFROM:+0000
TZOFFSETTO:+0100
TZNAME:BST
DTSTART:20250330T010000
END:DAYLIGHT
BEGIN:STANDARD
TZOFFSETFROM:+0100
TZOFFSETTO:+0000
TZNAME:GMT
DTSTART:20251026T010000
END:STANDARD
BEGIN:DAYLIGHT
TZOFFSETFROM:+0000
TZOFFSETTO:+0100
TZNAME:BST
DTSTART:20260329T010000
END:DAYLIGHT
BEGIN:STANDARD
TZOFFSETFROM:+0100
TZOFFSETTO:+0000
TZNAME:GMT
DTSTART:20261025T010000
END:STANDARD
BEGIN:DAYLIGHT
TZOFFSETFROM:+0000
TZOFFSETTO:+0100
TZNAME:BST
DTSTART:20270328T010000
END:DAYLIGHT
BEGIN:STANDARD
TZOFFSETFROM:+0100
TZOFFSETTO:+0000
TZNAME:GMT
DTSTART:20271031T010000
END:STANDARD
END:VTIMEZONE
BEGIN:VEVENT
DTSTART;TZID=Europe/London:20260710T093000
DTEND;TZID=Europe/London:20260710T123000
DTSTAMP:20260421T190903
CREATED:20251111T102411Z
LAST-MODIFIED:20251111T102532Z
UID:10058157-1783675800-1783686600@jesmondlibrary.org
SUMMARY:Beginners English Language Conversation Class
DESCRIPTION:
URL:https://jesmondlibrary.org/event/beginners-english-language-conversation-class/2026-07-10/
LOCATION:Sid Chaplin room
ATTACH;FMTTYPE=image/jpeg:https://jesmondlibrary.org/wp-content/uploads/2024/12/ENGLISH_LANGUAGE_beginners1.jpg
ORGANIZER;CN="Jesmond Library":MAILTO:events@jesmondlibrary.org
END:VEVENT
BEGIN:VEVENT
DTSTART;TZID=Europe/London:20260710T093000
DTEND;TZID=Europe/London:20260710T123000
DTSTAMP:20260421T190903
CREATED:20251018T103504Z
LAST-MODIFIED:20251018T104116Z
UID:10057216-1783675800-1783686600@jesmondlibrary.org
SUMMARY:LIBRARY OPEN FRIDAYS
DESCRIPTION:
URL:https://jesmondlibrary.org/event/library-open-fridays-2/2026-07-10/
LOCATION:Main Room
ORGANIZER;CN="Jesmond Library":MAILTO:events@jesmondlibrary.org
END:VEVENT
BEGIN:VEVENT
DTSTART;TZID=Europe/London:20260709T180000
DTEND;TZID=Europe/London:20260709T220000
DTSTAMP:20260421T190903
CREATED:20260402T091813Z
LAST-MODIFIED:20260402T091813Z
UID:10058965-1783620000-1783634400@jesmondlibrary.org
SUMMARY:CIC meeting TBC
DESCRIPTION:
URL:https://jesmondlibrary.org/event/cic-meeting-tbc-2/
LOCATION:Main Room
ORGANIZER;CN="Jesmond Library":MAILTO:events@jesmondlibrary.org
END:VEVENT
BEGIN:VEVENT
DTSTART;TZID=Europe/London:20260709T180000
DTEND;TZID=Europe/London:20260709T193000
DTSTAMP:20260421T190903
CREATED:20251111T101917Z
LAST-MODIFIED:20251208T095144Z
UID:10058007-1783620000-1783625400@jesmondlibrary.org
SUMMARY:Spanish Conversation
DESCRIPTION:
URL:https://jesmondlibrary.org/event/spanish-conversation-4/2026-07-09/
LOCATION:Sid Chaplin room
ATTACH;FMTTYPE=image/jpeg:https://jesmondlibrary.org/wp-content/uploads/2025/11/SPANISH1.jpg
ORGANIZER;CN="Jesmond Library":MAILTO:events@jesmondlibrary.org
END:VEVENT
BEGIN:VEVENT
DTSTART;TZID=Europe/London:20260709T180000
DTEND;TZID=Europe/London:20260709T190000
DTSTAMP:20260421T190903
CREATED:20260213T104945Z
LAST-MODIFIED:20260311T103251Z
UID:10058865-1783620000-1783623600@jesmondlibrary.org
SUMMARY:Thursday Talk - The Ouseburn Way
DESCRIPTION:Anne Reece will talk about the Reece Foundation’s exciting plans for the regeneration of Jesmond Dene and the Ouseburn valley.
URL:https://jesmondlibrary.org/event/thursday-talk-the-ouseburn-way/
LOCATION:Main Room
ORGANIZER;CN="Jesmond Library":MAILTO:events@jesmondlibrary.org
END:VEVENT
BEGIN:VEVENT
DTSTART;TZID=Europe/London:20260709T121500
DTEND;TZID=Europe/London:20260709T131500
DTSTAMP:20260421T190903
CREATED:20250509T150234Z
LAST-MODIFIED:20250509T151420Z
UID:10056702-1783599300-1783602900@jesmondlibrary.org
SUMMARY:Intermediate German conversation 2
DESCRIPTION:
URL:https://jesmondlibrary.org/event/intermediate-german-conversation-2-4/2026-07-09/
LOCATION:Catherine Cookson Room\, Jesmond Library\, Newcastle upon Tyne\, NE2 2DL\, United Kingdom
ATTACH;FMTTYPE=image/jpeg:https://jesmondlibrary.org/wp-content/uploads/2025/04/GERMAN_INT1.jpg
ORGANIZER;CN="Jesmond Library":MAILTO:events@jesmondlibrary.org
GEO:54.9932456;-1.606461
X-APPLE-STRUCTURED-LOCATION;VALUE=URI;X-ADDRESS=Catherine Cookson Room Jesmond Library Newcastle upon Tyne NE2 2DL United Kingdom;X-APPLE-RADIUS=500;X-TITLE=Jesmond Library:geo:-1.606461,54.9932456
END:VEVENT
BEGIN:VEVENT
DTSTART;TZID=Europe/London:20260709T104500
DTEND;TZID=Europe/London:20260709T114500
DTSTAMP:20260421T190903
CREATED:20251027T110506Z
LAST-MODIFIED:20260212T093209Z
UID:10057330-1783593900-1783597500@jesmondlibrary.org
SUMMARY:Advanced German
DESCRIPTION:
URL:https://jesmondlibrary.org/event/advanced-german-4/2026-07-09/
LOCATION:Sid Chaplin room
ATTACH;FMTTYPE=image/jpeg:https://jesmondlibrary.org/wp-content/uploads/2025/10/German-Advanced.jpg
ORGANIZER;CN="Jesmond Library":MAILTO:events@jesmondlibrary.org
END:VEVENT
BEGIN:VEVENT
DTSTART;TZID=Europe/London:20260709T093000
DTEND;TZID=Europe/London:20260709T180000
DTSTAMP:20260421T190903
CREATED:20251121T102015Z
LAST-MODIFIED:20251121T102015Z
UID:10058648-1783589400-1783620000@jesmondlibrary.org
SUMMARY:LIBRARY OPEN THURSDAYS
DESCRIPTION:
URL:https://jesmondlibrary.org/event/library-open-thursdays/2026-07-09/
LOCATION:Main Room
ORGANIZER;CN="Jesmond Library":MAILTO:events@jesmondlibrary.org
END:VEVENT
BEGIN:VEVENT
DTSTART;TZID=Europe/London:20260708T190000
DTEND;TZID=Europe/London:20260708T210000
DTSTAMP:20260421T190903
CREATED:20251106T092648Z
LAST-MODIFIED:20251106T092648Z
UID:10057450-1783537200-1783544400@jesmondlibrary.org
SUMMARY:Serene Reflections
DESCRIPTION:
URL:https://jesmondlibrary.org/event/serene-reflections-3/2026-07-08/
LOCATION:Sid Chaplin room
ATTACH;FMTTYPE=image/jpeg:https://jesmondlibrary.org/wp-content/uploads/2025/11/Serene-Reflections-Meditations-1.jpg
END:VEVENT
BEGIN:VEVENT
DTSTART;TZID=Europe/London:20260708T190000
DTEND;TZID=Europe/London:20260708T200000
DTSTAMP:20260421T190903
CREATED:20260115T175453Z
LAST-MODIFIED:20260115T175453Z
UID:10058794-1783537200-1783540800@jesmondlibrary.org
SUMMARY:Book group - Alan Sillitoe Saturday Night and Sunday Morning
DESCRIPTION:
URL:https://jesmondlibrary.org/event/book-group-alan-sillitoe-saturday-night-and-sunday-morning/
LOCATION:Main Room
ATTACH;FMTTYPE=image/jpeg:https://jesmondlibrary.org/wp-content/uploads/2026/01/Saturday_Night_and_Sunday_Morning.jpg
ORGANIZER;CN="Jesmond Library":MAILTO:events@jesmondlibrary.org
END:VEVENT
BEGIN:VEVENT
DTSTART;TZID=Europe/London:20260708T190000
DTEND;TZID=Europe/London:20260708T200000
DTSTAMP:20260421T190903
CREATED:20251113T145955Z
LAST-MODIFIED:20251113T150023Z
UID:10058317-1783537200-1783540800@jesmondlibrary.org
SUMMARY:Book Group TBC
DESCRIPTION:
URL:https://jesmondlibrary.org/event/book-group/2026-07-08/
ORGANIZER;CN="Jesmond Library":MAILTO:events@jesmondlibrary.org
END:VEVENT
BEGIN:VEVENT
DTSTART;TZID=Europe/London:20260708T180000
DTEND;TZID=Europe/London:20260708T220000
DTSTAMP:20260421T190903
CREATED:20260402T091734Z
LAST-MODIFIED:20260402T091734Z
UID:10058964-1783533600-1783548000@jesmondlibrary.org
SUMMARY:CIC meeting TBC
DESCRIPTION:
URL:https://jesmondlibrary.org/event/cic-meeting-tbc/
LOCATION:Main Room
ORGANIZER;CN="Jesmond Library":MAILTO:events@jesmondlibrary.org
END:VEVENT
BEGIN:VEVENT
DTSTART;TZID=Europe/London:20260707T170000
DTEND;TZID=Europe/London:20260707T190000
DTSTAMP:20260421T190903
CREATED:20251106T093526Z
LAST-MODIFIED:20260202T165729Z
UID:10057501-1783443600-1783450800@jesmondlibrary.org
SUMMARY:Philosophy Group
DESCRIPTION:
URL:https://jesmondlibrary.org/event/philosophy-group-8/2026-07-07/
LOCATION:Main Room
ATTACH;FMTTYPE=image/jpeg:https://jesmondlibrary.org/wp-content/uploads/2025/08/Jesmond-Philosophy-Group-1-scaled.jpg
ORGANIZER;CN="Michael Bavidge":MAILTO:michael.bavidge@newcastle.ac.uk
END:VEVENT
BEGIN:VEVENT
DTSTART;TZID=Europe/London:20260707T141500
DTEND;TZID=Europe/London:20260707T154500
DTSTAMP:20260421T190903
CREATED:20251111T101159Z
LAST-MODIFIED:20251208T094507Z
UID:10057943-1783433700-1783439100@jesmondlibrary.org
SUMMARY:Craft 'n' Chat
DESCRIPTION:
URL:https://jesmondlibrary.org/event/craft-n-chat-2/2026-07-07/
LOCATION:Catherine Cookson Room
ATTACH;FMTTYPE=image/jpeg:https://jesmondlibrary.org/wp-content/uploads/2023/02/CRAFT-N-CHAT-1.jpg
ORGANIZER;CN="Jesmond Library":MAILTO:events@jesmondlibrary.org
END:VEVENT
BEGIN:VEVENT
DTSTART;TZID=Europe/London:20260707T140000
DTEND;TZID=Europe/London:20260707T153000
DTSTAMP:20260421T190903
CREATED:20251111T100952Z
LAST-MODIFIED:20251219T093359Z
UID:10057911-1783432800-1783438200@jesmondlibrary.org
SUMMARY:Poetry Sharing
DESCRIPTION:
URL:https://jesmondlibrary.org/event/poetry-reading/2026-07-07/
LOCATION:Sid Chaplin room
ATTACH;FMTTYPE=image/jpeg:https://jesmondlibrary.org/wp-content/uploads/2024/10/Poetry-Sharing.jpg
ORGANIZER;CN="Jesmond Library":MAILTO:events@jesmondlibrary.org
END:VEVENT
BEGIN:VEVENT
DTSTART;TZID=Europe/London:20260707T140000
DTEND;TZID=Europe/London:20260707T153000
DTSTAMP:20260421T190903
CREATED:20250827T085201Z
LAST-MODIFIED:20250827T085334Z
UID:10057035-1783432800-1783438200@jesmondlibrary.org
SUMMARY:IT Support
DESCRIPTION:
URL:https://jesmondlibrary.org/event/it-support-12/2026-07-07/
LOCATION:Main Room
ATTACH;FMTTYPE=image/jpeg:https://jesmondlibrary.org/wp-content/uploads/2025/04/IT-SUPPORT-1.jpg
ORGANIZER;CN="Jesmond Library":MAILTO:events@jesmondlibrary.org
END:VEVENT
BEGIN:VEVENT
DTSTART;TZID=Europe/London:20260707T130000
DTEND;TZID=Europe/London:20260707T140000
DTSTAMP:20260421T190903
CREATED:20251111T100633Z
LAST-MODIFIED:20251111T100633Z
UID:10057879-1783429200-1783432800@jesmondlibrary.org
SUMMARY:French Intermediate conversation 2
DESCRIPTION:
URL:https://jesmondlibrary.org/event/french-intermediate-conversation-2/2026-07-07/
LOCATION:Sid Chaplin room
ATTACH;FMTTYPE=image/jpeg:https://jesmondlibrary.org/wp-content/uploads/2023/11/FRENCH.jpg
ORGANIZER;CN="Jesmond Library":MAILTO:events@jesmondlibrary.org
END:VEVENT
BEGIN:VEVENT
DTSTART;TZID=Europe/London:20260707T130000
DTEND;TZID=Europe/London:20260707T140000
DTSTAMP:20260421T190903
CREATED:20251111T100225Z
LAST-MODIFIED:20251111T100805Z
UID:10057827-1783429200-1783432800@jesmondlibrary.org
SUMMARY:French Intermediate Conversation 1
DESCRIPTION:
URL:https://jesmondlibrary.org/event/french-intermediate-conversation-1/2026-07-07/
LOCATION:Catherine Cookson Room
ATTACH;FMTTYPE=image/jpeg:https://jesmondlibrary.org/wp-content/uploads/2023/11/FRENCH.jpg
ORGANIZER;CN="Jesmond Library":MAILTO:events@jesmondlibrary.org
END:VEVENT
BEGIN:VEVENT
DTSTART;TZID=Europe/London:20260707T110000
DTEND;TZID=Europe/London:20260707T120000
DTSTAMP:20260421T190903
CREATED:20251111T095755Z
LAST-MODIFIED:20251111T095755Z
UID:10057723-1783422000-1783425600@jesmondlibrary.org
SUMMARY:Beginners' Spanish conversation
DESCRIPTION:
URL:https://jesmondlibrary.org/event/beginners-spanish-conversation-2/2026-07-07/
LOCATION:Sid Chaplin room
ATTACH;FMTTYPE=image/jpeg:https://jesmondlibrary.org/wp-content/uploads/2025/11/Spanish-Beginners-Tuesdays.jpg
ORGANIZER;CN="Jesmond Library":MAILTO:events@jesmondlibrary.org
END:VEVENT
BEGIN:VEVENT
DTSTART;TZID=Europe/London:20260707T100000
DTEND;TZID=Europe/London:20260707T110000
DTSTAMP:20260421T190903
CREATED:20251111T095458Z
LAST-MODIFIED:20251111T095458Z
UID:10057671-1783418400-1783422000@jesmondlibrary.org
SUMMARY:Intermediate German conversation
DESCRIPTION:
URL:https://jesmondlibrary.org/event/intermediate-german-conversation-5/2026-07-07/
LOCATION:Sid Chaplin room
ATTACH;FMTTYPE=image/jpeg:https://jesmondlibrary.org/wp-content/uploads/2025/11/Int-German-places-in-Thursdays-group.jpg
ORGANIZER;CN="Jesmond Library":MAILTO:events@jesmondlibrary.org
END:VEVENT
BEGIN:VEVENT
DTSTART;TZID=Europe/London:20260707T093000
DTEND;TZID=Europe/London:20260707T163000
DTSTAMP:20260421T190903
CREATED:20251121T101724Z
LAST-MODIFIED:20251121T101724Z
UID:10058596-1783416600-1783441800@jesmondlibrary.org
SUMMARY:LIBRARY OPEN TUESDAYS
DESCRIPTION:
URL:https://jesmondlibrary.org/event/library-open-tuesdays-11/2026-07-07/
LOCATION:Main Room
ORGANIZER;CN="Jesmond Library":MAILTO:events@jesmondlibrary.org
END:VEVENT
BEGIN:VEVENT
DTSTART;TZID=Europe/London:20260706T190000
DTEND;TZID=Europe/London:20260706T210000
DTSTAMP:20260421T190903
CREATED:20251111T094915Z
LAST-MODIFIED:20251111T094915Z
UID:10057620-1783364400-1783371600@jesmondlibrary.org
SUMMARY:Play Reading
DESCRIPTION:
URL:https://jesmondlibrary.org/event/play-reading-6/2026-07-06/
LOCATION:Main room – Coffee Area
ATTACH;FMTTYPE=image/jpeg:https://jesmondlibrary.org/wp-content/uploads/2022/11/PLAY-READING.jpg
ORGANIZER;CN="Jesmond Library":MAILTO:events@jesmondlibrary.org
END:VEVENT
BEGIN:VEVENT
DTSTART;TZID=Europe/London:20260706T140000
DTEND;TZID=Europe/London:20260706T160000
DTSTAMP:20260421T190903
CREATED:20260401T091528Z
LAST-MODIFIED:20260401T091528Z
UID:10058939-1783346400-1783353600@jesmondlibrary.org
SUMMARY:Everyturn craft group TBC
DESCRIPTION:
URL:https://jesmondlibrary.org/event/everyturn-craft-group-tbc/2026-07-06/
LOCATION:Main Room
END:VEVENT
BEGIN:VEVENT
DTSTART;TZID=Europe/London:20260706T110000
DTEND;TZID=Europe/London:20260706T123000
DTSTAMP:20260421T190903
CREATED:20260211T133539Z
LAST-MODIFIED:20260211T133539Z
UID:10058847-1783335600-1783341000@jesmondlibrary.org
SUMMARY:Motherfolk Writing Circle
DESCRIPTION:
URL:https://jesmondlibrary.org/event/motherfolk-writing-circle-5/2026-07-06/
LOCATION:Main Room
ATTACH;FMTTYPE=image/png:https://jesmondlibrary.org/wp-content/uploads/2025/07/Motherfolk-June-25.png
END:VEVENT
BEGIN:VEVENT
DTSTART;TZID=Europe/London:20260705T143000
DTEND;TZID=Europe/London:20260705T163000
DTSTAMP:20260421T190903
CREATED:20251121T101059Z
LAST-MODIFIED:20251121T101059Z
UID:10058544-1783261800-1783269000@jesmondlibrary.org
SUMMARY:West Jesmond Chess Club
DESCRIPTION:
URL:https://jesmondlibrary.org/event/west-jesmond-chess-club-11/2026-07-05/
LOCATION:Main Room
ATTACH;FMTTYPE=image/png:https://jesmondlibrary.org/wp-content/uploads/2023/04/West-Jesmond-Chess-Club-flyer-V2-September-2023.png
END:VEVENT
BEGIN:VEVENT
DTSTART;TZID=Europe/London:20260705T133000
DTEND;TZID=Europe/London:20260705T143000
DTSTAMP:20260421T190903
CREATED:20251119T100924Z
LAST-MODIFIED:20251119T101246Z
UID:10058486-1783258200-1783261800@jesmondlibrary.org
SUMMARY:Mindful Therapies
DESCRIPTION:
URL:https://jesmondlibrary.org/event/mindful-therapies-3/2026-07-05/
LOCATION:Catherine Cookson Room\, Jesmond Library\, Newcastle upon Tyne\, NE2 2DL\, United Kingdom
ATTACH;FMTTYPE=image/jpeg:https://jesmondlibrary.org/wp-content/uploads/2022/05/Mindfulness.jpg
GEO:54.9932456;-1.606461
X-APPLE-STRUCTURED-LOCATION;VALUE=URI;X-ADDRESS=Catherine Cookson Room Jesmond Library Newcastle upon Tyne NE2 2DL United Kingdom;X-APPLE-RADIUS=500;X-TITLE=Jesmond Library:geo:-1.606461,54.9932456
END:VEVENT
BEGIN:VEVENT
DTSTART;TZID=Europe/London:20260705T093000
DTEND;TZID=Europe/London:20260705T123000
DTSTAMP:20260421T190904
CREATED:20260409T140219Z
LAST-MODIFIED:20260409T140219Z
UID:10058999-1783243800-1783254600@jesmondlibrary.org
SUMMARY:Centre Evangelique meeting
DESCRIPTION:
URL:https://jesmondlibrary.org/event/centre-evangelique-meeting-5/2026-07-05/
LOCATION:Main Room
END:VEVENT
BEGIN:VEVENT
DTSTART;TZID=Europe/London:20260704T133000
DTEND;TZID=Europe/London:20260704T173000
DTSTAMP:20260421T190904
CREATED:20250901T092820Z
LAST-MODIFIED:20250901T093723Z
UID:10057106-1783171800-1783186200@jesmondlibrary.org
SUMMARY:Italian Language Course for Children
DESCRIPTION:
URL:https://jesmondlibrary.org/event/italian-language-course-for-children-6/2026-07-04/
LOCATION:Sid Chaplin room
END:VEVENT
BEGIN:VEVENT
DTSTART;TZID=Europe/London:20260704T110000
DTEND;TZID=Europe/London:20260704T120000
DTSTAMP:20260421T190904
CREATED:20250901T092226Z
LAST-MODIFIED:20250904T102538Z
UID:10057072-1783162800-1783166400@jesmondlibrary.org
SUMMARY:Italian Language Course for Children
DESCRIPTION:
URL:https://jesmondlibrary.org/event/italian-language-course-for-children-5/2026-07-04/
LOCATION:Sid Chaplin room
END:VEVENT
BEGIN:VEVENT
DTSTART;TZID=Europe/London:20260704T100000
DTEND;TZID=Europe/London:20260704T110000
DTSTAMP:20260421T190904
CREATED:20251111T103318Z
LAST-MODIFIED:20251111T103318Z
UID:10058237-1783159200-1783162800@jesmondlibrary.org
SUMMARY:Liberal Democrat Surgery
DESCRIPTION:
URL:https://jesmondlibrary.org/event/liberal-democrat-surgery/2026-07-04/
LOCATION:Main Room
END:VEVENT
END:VCALENDAR