BEGIN:VCALENDAR
VERSION:2.0
PRODID:-//Jesmond Library - ECPv6.15.17.1//NONSGML v1.0//EN
CALSCALE:GREGORIAN
METHOD:PUBLISH
X-ORIGINAL-URL:https://jesmondlibrary.org
X-WR-CALDESC:Events for Jesmond Library
REFRESH-INTERVAL;VALUE=DURATION:PT1H
X-Robots-Tag:noindex
X-PUBLISHED-TTL:PT1H
BEGIN:VTIMEZONE
TZID:Europe/London
BEGIN:DAYLIGHT
TZOFFSETFROM:+0000
TZOFFSETTO:+0100
TZNAME:BST
DTSTART:20230326T010000
END:DAYLIGHT
BEGIN:STANDARD
TZOFFSETFROM:+0100
TZOFFSETTO:+0000
TZNAME:GMT
DTSTART:20231029T010000
END:STANDARD
BEGIN:DAYLIGHT
TZOFFSETFROM:+0000
TZOFFSETTO:+0100
TZNAME:BST
DTSTART:20240331T010000
END:DAYLIGHT
BEGIN:STANDARD
TZOFFSETFROM:+0100
TZOFFSETTO:+0000
TZNAME:GMT
DTSTART:20241027T010000
END:STANDARD
BEGIN:DAYLIGHT
TZOFFSETFROM:+0000
TZOFFSETTO:+0100
TZNAME:BST
DTSTART:20250330T010000
END:DAYLIGHT
BEGIN:STANDARD
TZOFFSETFROM:+0100
TZOFFSETTO:+0000
TZNAME:GMT
DTSTART:20251026T010000
END:STANDARD
END:VTIMEZONE
BEGIN:VEVENT
DTSTART;TZID=Europe/London:20240806T093000
DTEND;TZID=Europe/London:20240806T163000
DTSTAMP:20260419T201927
CREATED:20231205T112520Z
LAST-MODIFIED:20240126T103620Z
UID:10052935-1722936600-1722961800@jesmondlibrary.org
SUMMARY:LIBRARY OPEN TUESDAYS
DESCRIPTION:
URL:https://jesmondlibrary.org/event/library-open-2024/2024-08-06/
LOCATION:Main Room
ORGANIZER;CN="Jesmond Library":MAILTO:events@jesmondlibrary.org
END:VEVENT
BEGIN:VEVENT
DTSTART;TZID=Europe/London:20240806T100000
DTEND;TZID=Europe/London:20240806T110000
DTSTAMP:20260419T201927
CREATED:20231118T115553Z
LAST-MODIFIED:20231229T113823Z
UID:10050335-1722938400-1722942000@jesmondlibrary.org
SUMMARY:Intermediate German conversation
DESCRIPTION:
URL:https://jesmondlibrary.org/event/intermediate-german-conversation/2024-08-06/
LOCATION:Sid Chaplin room
ATTACH;FMTTYPE=image/jpeg:https://jesmondlibrary.org/wp-content/uploads/2023/11/GERMAN-INT.jpg
ORGANIZER;CN="Jesmond Library":MAILTO:events@jesmondlibrary.org
END:VEVENT
BEGIN:VEVENT
DTSTART;TZID=Europe/London:20240806T110000
DTEND;TZID=Europe/London:20240806T120000
DTSTAMP:20260419T201927
CREATED:20231118T115723Z
LAST-MODIFIED:20231229T114210Z
UID:10050396-1722942000-1722945600@jesmondlibrary.org
SUMMARY:Spanish conversation - Beginners
DESCRIPTION:
URL:https://jesmondlibrary.org/event/spanish-conversation-10/2024-08-06/
LOCATION:Sid Chaplin room
ATTACH;FMTTYPE=image/jpeg:https://jesmondlibrary.org/wp-content/uploads/2023/11/SPANISH.jpg
ORGANIZER;CN="Jesmond Library":MAILTO:events@jesmondlibrary.org
END:VEVENT
BEGIN:VEVENT
DTSTART;TZID=Europe/London:20240806T130000
DTEND;TZID=Europe/London:20240806T140000
DTSTAMP:20260419T201927
CREATED:20231118T120005Z
LAST-MODIFIED:20240913T123700Z
UID:10053833-1722949200-1722952800@jesmondlibrary.org
SUMMARY:French conversation - Intermediate
DESCRIPTION:
URL:https://jesmondlibrary.org/event/french-conversation-2024-01-16/2024-08-06/
LOCATION:Catherine Cookson Room\, Jesmond Library\, Newcastle upon Tyne\, NE2 2DL\, United Kingdom
ATTACH;FMTTYPE=image/jpeg:https://jesmondlibrary.org/wp-content/uploads/2023/11/image_64834411.jpg
ORGANIZER;CN="Jesmond Library":MAILTO:events@jesmondlibrary.org
GEO:54.9932456;-1.606461
X-APPLE-STRUCTURED-LOCATION;VALUE=URI;X-ADDRESS=Catherine Cookson Room Jesmond Library Newcastle upon Tyne NE2 2DL United Kingdom;X-APPLE-RADIUS=500;X-TITLE=Jesmond Library:geo:-1.606461,54.9932456
END:VEVENT
BEGIN:VEVENT
DTSTART;TZID=Europe/London:20240806T140000
DTEND;TZID=Europe/London:20240806T153000
DTSTAMP:20260419T201927
CREATED:20231118T121034Z
LAST-MODIFIED:20240710T090914Z
UID:10050196-1722952800-1722958200@jesmondlibrary.org
SUMMARY:Poetry Sharing
DESCRIPTION:
URL:https://jesmondlibrary.org/event/poetry-sharing-2/2024-08-06/
LOCATION:Sid Chaplin room
ATTACH;FMTTYPE=image/jpeg:https://jesmondlibrary.org/wp-content/uploads/2023/11/POETRY_SHARING1.jpg
ORGANIZER;CN="Jesmond Library":MAILTO:events@jesmondlibrary.org
END:VEVENT
BEGIN:VEVENT
DTSTART;TZID=Europe/London:20240807T103000
DTEND;TZID=Europe/London:20240807T130000
DTSTAMP:20260419T201927
CREATED:20240429T111057Z
LAST-MODIFIED:20240627T090231Z
UID:10053216-1723026600-1723035600@jesmondlibrary.org
SUMMARY:Wellbeing for Life - Summer Celebration: Memorable Holidays
DESCRIPTION:
URL:https://jesmondlibrary.org/event/wellbeing-for-life-11/
LOCATION:Main Room & Catherine Cookson Room
ATTACH;FMTTYPE=image/jpeg:https://jesmondlibrary.org/wp-content/uploads/2024/04/Wellbeing-Aug-24.jpg
ORGANIZER;CN="Jesmond Library":MAILTO:events@jesmondlibrary.org
END:VEVENT
BEGIN:VEVENT
DTSTART;TZID=Europe/London:20240807T190000
DTEND;TZID=Europe/London:20240807T210000
DTSTAMP:20260419T201927
CREATED:20231118T114739Z
LAST-MODIFIED:20231229T120003Z
UID:10050169-1723057200-1723064400@jesmondlibrary.org
SUMMARY:Serene Reflections
DESCRIPTION:
URL:https://jesmondlibrary.org/event/serene-reflections/2024-08-07/
LOCATION:Sid Chaplin room
END:VEVENT
BEGIN:VEVENT
DTSTART;TZID=Europe/London:20240808T093000
DTEND;TZID=Europe/London:20240808T180000
DTSTAMP:20260419T201927
CREATED:20231205T112652Z
LAST-MODIFIED:20240103T135518Z
UID:10052992-1723109400-1723140000@jesmondlibrary.org
SUMMARY:LIBRARY OPEN THURSDAYS
DESCRIPTION:
URL:https://jesmondlibrary.org/event/library-open-thursdays-2024/2024-08-08/
LOCATION:Main Room
ORGANIZER;CN="Jesmond Library":MAILTO:events@jesmondlibrary.org
END:VEVENT
BEGIN:VEVENT
DTSTART;TZID=Europe/London:20240808T104500
DTEND;TZID=Europe/London:20240808T114500
DTSTAMP:20260419T201927
CREATED:20231118T114334Z
LAST-MODIFIED:20231229T120427Z
UID:10052821-1723113900-1723117500@jesmondlibrary.org
SUMMARY:Advanced German conversation group
DESCRIPTION:
URL:https://jesmondlibrary.org/event/advanced-german/2024-08-08/
LOCATION:Catherine Cookson Room\, Jesmond Library\, Newcastle upon Tyne\, NE2 2DL\, United Kingdom
ORGANIZER;CN="Jesmond Library":MAILTO:events@jesmondlibrary.org
GEO:54.9932456;-1.606461
X-APPLE-STRUCTURED-LOCATION;VALUE=URI;X-ADDRESS=Catherine Cookson Room Jesmond Library Newcastle upon Tyne NE2 2DL United Kingdom;X-APPLE-RADIUS=500;X-TITLE=Jesmond Library:geo:-1.606461,54.9932456
END:VEVENT
BEGIN:VEVENT
DTSTART;TZID=Europe/London:20240808T141500
DTEND;TZID=Europe/London:20240808T150000
DTSTAMP:20260419T201927
CREATED:20240426T122345Z
LAST-MODIFIED:20240803T103538Z
UID:10054006-1723126500-1723129200@jesmondlibrary.org
SUMMARY:Phonics Fun! Ready for Reception\, 3-4 year olds
DESCRIPTION:
URL:https://jesmondlibrary.org/event/phonic-fun/2024-08-08/
LOCATION:Sid Chaplin room
ATTACH;FMTTYPE=image/jpeg:https://jesmondlibrary.org/wp-content/uploads/2024/04/Phonics_fun_31.jpg
END:VEVENT
BEGIN:VEVENT
DTSTART;TZID=Europe/London:20240808T150000
DTEND;TZID=Europe/London:20240808T160000
DTSTAMP:20260419T201927
CREATED:20240426T122742Z
LAST-MODIFIED:20240504T140419Z
UID:10054065-1723129200-1723132800@jesmondlibrary.org
SUMMARY:Phonics Fun! Reception Keep Up\, 4-5 year olds
DESCRIPTION:
URL:https://jesmondlibrary.org/event/phonic-fun-reception-keep-up-4-5-year-olds/2024-08-08/
LOCATION:Sid Chaplin room
ATTACH;FMTTYPE=image/jpeg:https://jesmondlibrary.org/wp-content/uploads/2024/04/Phonics_fun_31.jpg
END:VEVENT
BEGIN:VEVENT
DTSTART;TZID=Europe/London:20240808T160000
DTEND;TZID=Europe/London:20240808T170000
DTSTAMP:20260419T201927
CREATED:20240430T110136Z
LAST-MODIFIED:20240703T090348Z
UID:10054166-1723132800-1723136400@jesmondlibrary.org
SUMMARY:Phonics Fun! Year One
DESCRIPTION:
URL:https://jesmondlibrary.org/event/phonic-fun-year-one/2024-08-08/
LOCATION:Sid Chaplin room
ATTACH;FMTTYPE=image/jpeg:https://jesmondlibrary.org/wp-content/uploads/2024/04/Phonics_fun_31.jpg
END:VEVENT
BEGIN:VEVENT
DTSTART;TZID=Europe/London:20240808T180000
DTEND;TZID=Europe/London:20240808T193000
DTSTAMP:20260419T201927
CREATED:20231118T115102Z
LAST-MODIFIED:20231229T120934Z
UID:10050232-1723140000-1723145400@jesmondlibrary.org
SUMMARY:Spanish Conversation
DESCRIPTION:
URL:https://jesmondlibrary.org/event/spanish-conversation-9/2024-08-08/
LOCATION:Sid Chaplin room
ATTACH;FMTTYPE=image/jpeg:https://jesmondlibrary.org/wp-content/uploads/2022/05/SPANISH.jpg
ORGANIZER;CN="Jesmond Library":MAILTO:events@jesmondlibrary.org
END:VEVENT
BEGIN:VEVENT
DTSTART;TZID=Europe/London:20240809T093000
DTEND;TZID=Europe/London:20240809T123000
DTSTAMP:20260419T201927
CREATED:20231205T112827Z
LAST-MODIFIED:20240211T172652Z
UID:10053043-1723195800-1723206600@jesmondlibrary.org
SUMMARY:LIBRARY OPEN FRIDAYS
DESCRIPTION:Library Open 2024
URL:https://jesmondlibrary.org/event/library-open-fridays-2024/2024-08-09/
LOCATION:Main Room
ORGANIZER;CN="Jesmond Library":MAILTO:events@jesmondlibrary.org
END:VEVENT
BEGIN:VEVENT
DTSTART;TZID=Europe/London:20240809T093000
DTEND;TZID=Europe/London:20240809T123000
DTSTAMP:20260419T201927
CREATED:20231229T121359Z
LAST-MODIFIED:20240130T145220Z
UID:10053346-1723195800-1723206600@jesmondlibrary.org
SUMMARY:English Language Conversation Class
DESCRIPTION:
URL:https://jesmondlibrary.org/event/friends-friday-4-2024-02-02/2024-08-09/
LOCATION:Catherine Cookson Room\, Jesmond Library\, Newcastle upon Tyne\, NE2 2DL\, United Kingdom
ATTACH;FMTTYPE=image/jpeg:https://jesmondlibrary.org/wp-content/uploads/2023/12/ENGLISH-LANGUAGE.jpg
ORGANIZER;CN="Jesmond Library":MAILTO:events@jesmondlibrary.org
GEO:54.9932456;-1.606461
X-APPLE-STRUCTURED-LOCATION;VALUE=URI;X-ADDRESS=Catherine Cookson Room Jesmond Library Newcastle upon Tyne NE2 2DL United Kingdom;X-APPLE-RADIUS=500;X-TITLE=Jesmond Library:geo:-1.606461,54.9932456
END:VEVENT
BEGIN:VEVENT
DTSTART;TZID=Europe/London:20240810T093000
DTEND;TZID=Europe/London:20240810T163000
DTSTAMP:20260419T201927
CREATED:20231205T112847Z
LAST-MODIFIED:20240103T135812Z
UID:10053095-1723282200-1723307400@jesmondlibrary.org
SUMMARY:LIBRARY OPEN SATURDAYS
DESCRIPTION:
URL:https://jesmondlibrary.org/event/library-open-saturdays-2024/2024-08-10/
LOCATION:Main Room
ORGANIZER;CN="Jesmond Library":MAILTO:events@jesmondlibrary.org
END:VEVENT
BEGIN:VEVENT
DTSTART;TZID=Europe/London:20240811T133000
DTEND;TZID=Europe/London:20240811T143000
DTSTAMP:20260419T201927
CREATED:20231118T143606Z
LAST-MODIFIED:20231229T121614Z
UID:10052871-1723383000-1723386600@jesmondlibrary.org
SUMMARY:Mindful Therapies Meditation
DESCRIPTION:
URL:https://jesmondlibrary.org/event/mindful-therapies-meditation-4/2024-08-11/
LOCATION:Catherine Cookson Room\, Jesmond Library\, Newcastle upon Tyne\, NE2 2DL\, United Kingdom
GEO:54.9932456;-1.606461
X-APPLE-STRUCTURED-LOCATION;VALUE=URI;X-ADDRESS=Catherine Cookson Room Jesmond Library Newcastle upon Tyne NE2 2DL United Kingdom;X-APPLE-RADIUS=500;X-TITLE=Jesmond Library:geo:-1.606461,54.9932456
END:VEVENT
BEGIN:VEVENT
DTSTART;TZID=Europe/London:20240813T093000
DTEND;TZID=Europe/London:20240813T163000
DTSTAMP:20260419T201927
CREATED:20231205T112520Z
LAST-MODIFIED:20240126T103620Z
UID:10052936-1723541400-1723566600@jesmondlibrary.org
SUMMARY:LIBRARY OPEN TUESDAYS
DESCRIPTION:
URL:https://jesmondlibrary.org/event/library-open-2024/2024-08-13/
LOCATION:Main Room
ORGANIZER;CN="Jesmond Library":MAILTO:events@jesmondlibrary.org
END:VEVENT
BEGIN:VEVENT
DTSTART;TZID=Europe/London:20240813T100000
DTEND;TZID=Europe/London:20240813T110000
DTSTAMP:20260419T201927
CREATED:20231118T115553Z
LAST-MODIFIED:20231229T113823Z
UID:10050336-1723543200-1723546800@jesmondlibrary.org
SUMMARY:Intermediate German conversation
DESCRIPTION:
URL:https://jesmondlibrary.org/event/intermediate-german-conversation/2024-08-13/
LOCATION:Sid Chaplin room
ATTACH;FMTTYPE=image/jpeg:https://jesmondlibrary.org/wp-content/uploads/2023/11/GERMAN-INT.jpg
ORGANIZER;CN="Jesmond Library":MAILTO:events@jesmondlibrary.org
END:VEVENT
BEGIN:VEVENT
DTSTART;TZID=Europe/London:20240813T103000
DTEND;TZID=Europe/London:20240813T120000
DTSTAMP:20260419T201927
CREATED:20240619T151940Z
LAST-MODIFIED:20240801T102202Z
UID:10054557-1723545000-1723550400@jesmondlibrary.org
SUMMARY:Summer Crafts
DESCRIPTION:
URL:https://jesmondlibrary.org/event/fun-summer-crafts/
LOCATION:Catherine Cookson Room\, Jesmond Library\, Newcastle upon Tyne\, NE2 2DL\, United Kingdom
ATTACH;FMTTYPE=image/jpeg:https://jesmondlibrary.org/wp-content/uploads/2024/06/SUMMER-CRAFTS.jpeg
ORGANIZER;CN="Jesmond Library":MAILTO:events@jesmondlibrary.org
GEO:54.9932456;-1.606461
X-APPLE-STRUCTURED-LOCATION;VALUE=URI;X-ADDRESS=Catherine Cookson Room Jesmond Library Newcastle upon Tyne NE2 2DL United Kingdom;X-APPLE-RADIUS=500;X-TITLE=Jesmond Library:geo:-1.606461,54.9932456
END:VEVENT
BEGIN:VEVENT
DTSTART;TZID=Europe/London:20240813T110000
DTEND;TZID=Europe/London:20240813T120000
DTSTAMP:20260419T201927
CREATED:20231118T115723Z
LAST-MODIFIED:20231229T114210Z
UID:10050397-1723546800-1723550400@jesmondlibrary.org
SUMMARY:Spanish conversation - Beginners
DESCRIPTION:
URL:https://jesmondlibrary.org/event/spanish-conversation-10/2024-08-13/
LOCATION:Sid Chaplin room
ATTACH;FMTTYPE=image/jpeg:https://jesmondlibrary.org/wp-content/uploads/2023/11/SPANISH.jpg
ORGANIZER;CN="Jesmond Library":MAILTO:events@jesmondlibrary.org
END:VEVENT
BEGIN:VEVENT
DTSTART;TZID=Europe/London:20240813T120000
DTEND;TZID=Europe/London:20240813T130000
DTSTAMP:20260419T201927
CREATED:20240801T100827Z
LAST-MODIFIED:20240903T100927Z
UID:10050116-1723550400-1723554000@jesmondlibrary.org
SUMMARY:Italian conversation with Antonella
DESCRIPTION:
URL:https://jesmondlibrary.org/event/italian-conversation-6-2024-01-16-2/2024-08-13/
LOCATION:Catherine Cookson Room\, Jesmond Library\, Newcastle upon Tyne\, NE2 2DL\, United Kingdom
ATTACH;FMTTYPE=image/jpeg:https://jesmondlibrary.org/wp-content/uploads/2023/11/ITALIAN-Conversation.jpg
ORGANIZER;CN="Jesmond Library":MAILTO:events@jesmondlibrary.org
GEO:54.9932456;-1.606461
X-APPLE-STRUCTURED-LOCATION;VALUE=URI;X-ADDRESS=Catherine Cookson Room Jesmond Library Newcastle upon Tyne NE2 2DL United Kingdom;X-APPLE-RADIUS=500;X-TITLE=Jesmond Library:geo:-1.606461,54.9932456
END:VEVENT
BEGIN:VEVENT
DTSTART;TZID=Europe/London:20240813T130000
DTEND;TZID=Europe/London:20240813T140000
DTSTAMP:20260419T201927
CREATED:20231118T120005Z
LAST-MODIFIED:20240913T123700Z
UID:10053834-1723554000-1723557600@jesmondlibrary.org
SUMMARY:French conversation - Intermediate
DESCRIPTION:
URL:https://jesmondlibrary.org/event/french-conversation-2024-01-16/2024-08-13/
LOCATION:Catherine Cookson Room\, Jesmond Library\, Newcastle upon Tyne\, NE2 2DL\, United Kingdom
ATTACH;FMTTYPE=image/jpeg:https://jesmondlibrary.org/wp-content/uploads/2023/11/image_64834411.jpg
ORGANIZER;CN="Jesmond Library":MAILTO:events@jesmondlibrary.org
GEO:54.9932456;-1.606461
X-APPLE-STRUCTURED-LOCATION;VALUE=URI;X-ADDRESS=Catherine Cookson Room Jesmond Library Newcastle upon Tyne NE2 2DL United Kingdom;X-APPLE-RADIUS=500;X-TITLE=Jesmond Library:geo:-1.606461,54.9932456
END:VEVENT
BEGIN:VEVENT
DTSTART;TZID=Europe/London:20240813T183000
DTEND;TZID=Europe/London:20240813T193000
DTSTAMP:20260419T201927
CREATED:20240809T080855Z
LAST-MODIFIED:20240809T080855Z
UID:10054729-1723573800-1723577400@jesmondlibrary.org
SUMMARY:North Jesmond Labour Party meeting
DESCRIPTION:
URL:https://jesmondlibrary.org/event/north-jesmond-labour-party-meeting-2/
END:VEVENT
BEGIN:VEVENT
DTSTART;TZID=Europe/London:20240814T190000
DTEND;TZID=Europe/London:20240814T200000
DTSTAMP:20260419T201927
CREATED:20240112T094723Z
LAST-MODIFIED:20240315T141450Z
UID:10053191-1723662000-1723665600@jesmondlibrary.org
SUMMARY:Book group - Bonnie Garmus - Lessons in Chemistry
DESCRIPTION:
URL:https://jesmondlibrary.org/event/book-group-bonnie-garmus-lessons-in-chemistry/
LOCATION:Main Room
ATTACH;FMTTYPE=image/webp:https://jesmondlibrary.org/wp-content/uploads/2024/01/garmus.webp
ORGANIZER;CN="Jesmond Library":MAILTO:events@jesmondlibrary.org
END:VEVENT
BEGIN:VEVENT
DTSTART;TZID=Europe/London:20240814T190000
DTEND;TZID=Europe/London:20240814T210000
DTSTAMP:20260419T201927
CREATED:20231118T114739Z
LAST-MODIFIED:20231229T120003Z
UID:10050170-1723662000-1723669200@jesmondlibrary.org
SUMMARY:Serene Reflections
DESCRIPTION:
URL:https://jesmondlibrary.org/event/serene-reflections/2024-08-14/
LOCATION:Sid Chaplin room
END:VEVENT
BEGIN:VEVENT
DTSTART;TZID=Europe/London:20240815T093000
DTEND;TZID=Europe/London:20240815T180000
DTSTAMP:20260419T201927
CREATED:20231205T112652Z
LAST-MODIFIED:20240103T135518Z
UID:10052993-1723714200-1723744800@jesmondlibrary.org
SUMMARY:LIBRARY OPEN THURSDAYS
DESCRIPTION:
URL:https://jesmondlibrary.org/event/library-open-thursdays-2024/2024-08-15/
LOCATION:Main Room
ORGANIZER;CN="Jesmond Library":MAILTO:events@jesmondlibrary.org
END:VEVENT
BEGIN:VEVENT
DTSTART;TZID=Europe/London:20240815T104500
DTEND;TZID=Europe/London:20240815T114500
DTSTAMP:20260419T201927
CREATED:20231118T114334Z
LAST-MODIFIED:20231229T120427Z
UID:10052822-1723718700-1723722300@jesmondlibrary.org
SUMMARY:Advanced German conversation group
DESCRIPTION:
URL:https://jesmondlibrary.org/event/advanced-german/2024-08-15/
LOCATION:Catherine Cookson Room\, Jesmond Library\, Newcastle upon Tyne\, NE2 2DL\, United Kingdom
ORGANIZER;CN="Jesmond Library":MAILTO:events@jesmondlibrary.org
GEO:54.9932456;-1.606461
X-APPLE-STRUCTURED-LOCATION;VALUE=URI;X-ADDRESS=Catherine Cookson Room Jesmond Library Newcastle upon Tyne NE2 2DL United Kingdom;X-APPLE-RADIUS=500;X-TITLE=Jesmond Library:geo:-1.606461,54.9932456
END:VEVENT
BEGIN:VEVENT
DTSTART;TZID=Europe/London:20240815T143000
DTEND;TZID=Europe/London:20240815T153000
DTSTAMP:20260419T201927
CREATED:20240710T090526Z
LAST-MODIFIED:20240710T090526Z
UID:10054630-1723732200-1723735800@jesmondlibrary.org
SUMMARY:Keyfort private meeting
DESCRIPTION:
URL:https://jesmondlibrary.org/event/keyfort-private-meeting/2024-08-15/
LOCATION:Catherine Cookson Room
END:VEVENT
BEGIN:VEVENT
DTSTART;TZID=Europe/London:20240815T180000
DTEND;TZID=Europe/London:20240815T193000
DTSTAMP:20260419T201927
CREATED:20231118T115102Z
LAST-MODIFIED:20231229T120934Z
UID:10050233-1723744800-1723750200@jesmondlibrary.org
SUMMARY:Spanish Conversation
DESCRIPTION:
URL:https://jesmondlibrary.org/event/spanish-conversation-9/2024-08-15/
LOCATION:Sid Chaplin room
ATTACH;FMTTYPE=image/jpeg:https://jesmondlibrary.org/wp-content/uploads/2022/05/SPANISH.jpg
ORGANIZER;CN="Jesmond Library":MAILTO:events@jesmondlibrary.org
END:VEVENT
END:VCALENDAR