BEGIN:VCALENDAR
VERSION:2.0
PRODID:-//Jesmond Library - ECPv6.15.17.1//NONSGML v1.0//EN
CALSCALE:GREGORIAN
METHOD:PUBLISH
X-ORIGINAL-URL:https://jesmondlibrary.org
X-WR-CALDESC:Events for Jesmond Library
REFRESH-INTERVAL;VALUE=DURATION:PT1H
X-Robots-Tag:noindex
X-PUBLISHED-TTL:PT1H
BEGIN:VTIMEZONE
TZID:Europe/London
BEGIN:DAYLIGHT
TZOFFSETFROM:+0000
TZOFFSETTO:+0100
TZNAME:BST
DTSTART:20250330T010000
END:DAYLIGHT
BEGIN:STANDARD
TZOFFSETFROM:+0100
TZOFFSETTO:+0000
TZNAME:GMT
DTSTART:20251026T010000
END:STANDARD
BEGIN:DAYLIGHT
TZOFFSETFROM:+0000
TZOFFSETTO:+0100
TZNAME:BST
DTSTART:20260329T010000
END:DAYLIGHT
BEGIN:STANDARD
TZOFFSETFROM:+0100
TZOFFSETTO:+0000
TZNAME:GMT
DTSTART:20261025T010000
END:STANDARD
BEGIN:DAYLIGHT
TZOFFSETFROM:+0000
TZOFFSETTO:+0100
TZNAME:BST
DTSTART:20270328T010000
END:DAYLIGHT
BEGIN:STANDARD
TZOFFSETFROM:+0100
TZOFFSETTO:+0000
TZNAME:GMT
DTSTART:20271031T010000
END:STANDARD
END:VTIMEZONE
BEGIN:VEVENT
DTSTART;TZID=Europe/London:20260817T140000
DTEND;TZID=Europe/London:20260817T160000
DTSTAMP:20260421T100538
CREATED:20260401T091528Z
LAST-MODIFIED:20260401T091528Z
UID:10058945-1786975200-1786982400@jesmondlibrary.org
SUMMARY:Everyturn craft group TBC
DESCRIPTION:
URL:https://jesmondlibrary.org/event/everyturn-craft-group-tbc/2026-08-17/
LOCATION:Main Room
END:VEVENT
BEGIN:VEVENT
DTSTART;TZID=Europe/London:20260817T190000
DTEND;TZID=Europe/London:20260817T210000
DTSTAMP:20260421T100538
CREATED:20251111T094915Z
LAST-MODIFIED:20251111T094915Z
UID:10057626-1786993200-1787000400@jesmondlibrary.org
SUMMARY:Play Reading
DESCRIPTION:
URL:https://jesmondlibrary.org/event/play-reading-6/2026-08-17/
LOCATION:Main room – Coffee Area
ATTACH;FMTTYPE=image/jpeg:https://jesmondlibrary.org/wp-content/uploads/2022/11/PLAY-READING.jpg
ORGANIZER;CN="Jesmond Library":MAILTO:events@jesmondlibrary.org
END:VEVENT
END:VCALENDAR