BEGIN:VCALENDAR
VERSION:2.0
PRODID:-//Jesmond Library - ECPv6.15.17.1//NONSGML v1.0//EN
CALSCALE:GREGORIAN
METHOD:PUBLISH
X-ORIGINAL-URL:https://jesmondlibrary.org
X-WR-CALDESC:Events for Jesmond Library
REFRESH-INTERVAL;VALUE=DURATION:PT1H
X-Robots-Tag:noindex
X-PUBLISHED-TTL:PT1H
BEGIN:VTIMEZONE
TZID:Europe/London
BEGIN:DAYLIGHT
TZOFFSETFROM:+0000
TZOFFSETTO:+0100
TZNAME:BST
DTSTART:20250330T010000
END:DAYLIGHT
BEGIN:STANDARD
TZOFFSETFROM:+0100
TZOFFSETTO:+0000
TZNAME:GMT
DTSTART:20251026T010000
END:STANDARD
BEGIN:DAYLIGHT
TZOFFSETFROM:+0000
TZOFFSETTO:+0100
TZNAME:BST
DTSTART:20260329T010000
END:DAYLIGHT
BEGIN:STANDARD
TZOFFSETFROM:+0100
TZOFFSETTO:+0000
TZNAME:GMT
DTSTART:20261025T010000
END:STANDARD
BEGIN:DAYLIGHT
TZOFFSETFROM:+0000
TZOFFSETTO:+0100
TZNAME:BST
DTSTART:20270328T010000
END:DAYLIGHT
BEGIN:STANDARD
TZOFFSETFROM:+0100
TZOFFSETTO:+0000
TZNAME:GMT
DTSTART:20271031T010000
END:STANDARD
END:VTIMEZONE
BEGIN:VEVENT
DTSTART;TZID=Europe/London:20260711T093000
DTEND;TZID=Europe/London:20260711T163000
DTSTAMP:20260419T163737
CREATED:20251018T103753Z
LAST-MODIFIED:20251018T103910Z
UID:10057267-1783762200-1783787400@jesmondlibrary.org
SUMMARY:LIBRARY OPEN SATURDAYS
DESCRIPTION:
URL:https://jesmondlibrary.org/event/library-open-saturdays-6/2026-07-11/
LOCATION:Main Room
ORGANIZER;CN="Jesmond Library":MAILTO:events@jesmondlibrary.org
END:VEVENT
BEGIN:VEVENT
DTSTART;TZID=Europe/London:20260711T110000
DTEND;TZID=Europe/London:20260711T130000
DTSTAMP:20260419T163737
CREATED:20250918T100830Z
LAST-MODIFIED:20251114T111402Z
UID:10058335-1783767600-1783774800@jesmondlibrary.org
SUMMARY:Keep Jesmond Clean Litterpick
DESCRIPTION:
URL:https://jesmondlibrary.org/event/keep-jesmond-clean-litterpick-2/2026-07-11/
LOCATION:Catherine Cookson Room
ATTACH;FMTTYPE=image/jpeg:https://jesmondlibrary.org/wp-content/uploads/2024/07/KJC-generic-JPEG.jpg
END:VEVENT
END:VCALENDAR