BEGIN:VCALENDAR
VERSION:2.0
PRODID:-//Jesmond Library - ECPv6.15.17.1//NONSGML v1.0//EN
CALSCALE:GREGORIAN
METHOD:PUBLISH
X-ORIGINAL-URL:https://jesmondlibrary.org
X-WR-CALDESC:Events for Jesmond Library
REFRESH-INTERVAL;VALUE=DURATION:PT1H
X-Robots-Tag:noindex
X-PUBLISHED-TTL:PT1H
BEGIN:VTIMEZONE
TZID:Europe/London
BEGIN:DAYLIGHT
TZOFFSETFROM:+0000
TZOFFSETTO:+0100
TZNAME:BST
DTSTART:20250330T010000
END:DAYLIGHT
BEGIN:STANDARD
TZOFFSETFROM:+0100
TZOFFSETTO:+0000
TZNAME:GMT
DTSTART:20251026T010000
END:STANDARD
BEGIN:DAYLIGHT
TZOFFSETFROM:+0000
TZOFFSETTO:+0100
TZNAME:BST
DTSTART:20260329T010000
END:DAYLIGHT
BEGIN:STANDARD
TZOFFSETFROM:+0100
TZOFFSETTO:+0000
TZNAME:GMT
DTSTART:20261025T010000
END:STANDARD
BEGIN:DAYLIGHT
TZOFFSETFROM:+0000
TZOFFSETTO:+0100
TZNAME:BST
DTSTART:20270328T010000
END:DAYLIGHT
BEGIN:STANDARD
TZOFFSETFROM:+0100
TZOFFSETTO:+0000
TZNAME:GMT
DTSTART:20271031T010000
END:STANDARD
END:VTIMEZONE
BEGIN:VEVENT
DTSTART;TZID=Europe/London:20260630T093000
DTEND;TZID=Europe/London:20260630T163000
DTSTAMP:20260419T180147
CREATED:20251121T101724Z
LAST-MODIFIED:20251121T101724Z
UID:10058595-1782811800-1782837000@jesmondlibrary.org
SUMMARY:LIBRARY OPEN TUESDAYS
DESCRIPTION:
URL:https://jesmondlibrary.org/event/library-open-tuesdays-11/2026-06-30/
LOCATION:Main Room
ORGANIZER;CN="Jesmond Library":MAILTO:events@jesmondlibrary.org
END:VEVENT
BEGIN:VEVENT
DTSTART;TZID=Europe/London:20260630T100000
DTEND;TZID=Europe/London:20260630T110000
DTSTAMP:20260419T180147
CREATED:20251111T095458Z
LAST-MODIFIED:20251111T095458Z
UID:10057670-1782813600-1782817200@jesmondlibrary.org
SUMMARY:Intermediate German conversation
DESCRIPTION:
URL:https://jesmondlibrary.org/event/intermediate-german-conversation-5/2026-06-30/
LOCATION:Sid Chaplin room
ATTACH;FMTTYPE=image/jpeg:https://jesmondlibrary.org/wp-content/uploads/2025/11/Int-German-places-in-Thursdays-group.jpg
ORGANIZER;CN="Jesmond Library":MAILTO:events@jesmondlibrary.org
END:VEVENT
BEGIN:VEVENT
DTSTART;TZID=Europe/London:20260630T110000
DTEND;TZID=Europe/London:20260630T120000
DTSTAMP:20260419T180147
CREATED:20251111T095755Z
LAST-MODIFIED:20251111T095755Z
UID:10057722-1782817200-1782820800@jesmondlibrary.org
SUMMARY:Beginners' Spanish conversation
DESCRIPTION:
URL:https://jesmondlibrary.org/event/beginners-spanish-conversation-2/2026-06-30/
LOCATION:Sid Chaplin room
ATTACH;FMTTYPE=image/jpeg:https://jesmondlibrary.org/wp-content/uploads/2025/11/Spanish-Beginners-Tuesdays.jpg
ORGANIZER;CN="Jesmond Library":MAILTO:events@jesmondlibrary.org
END:VEVENT
BEGIN:VEVENT
DTSTART;TZID=Europe/London:20260630T120000
DTEND;TZID=Europe/London:20260630T130000
DTSTAMP:20260419T180147
CREATED:20260401T085059Z
LAST-MODIFIED:20260401T085059Z
UID:10057774-1782820800-1782824400@jesmondlibrary.org
SUMMARY:Italian conversation with Antonella
DESCRIPTION:
URL:https://jesmondlibrary.org/event/italian-conversation-with-antonella-13-2/2026-06-30/
LOCATION:Catherine Cookson Room\, Jesmond Library\, Newcastle upon Tyne\, NE2 2DL\, United Kingdom
ATTACH;FMTTYPE=image/jpeg:https://jesmondlibrary.org/wp-content/uploads/2025/11/ITALIAN-Conversation.jpg
ORGANIZER;CN="Jesmond Library":MAILTO:events@jesmondlibrary.org
GEO:54.9932456;-1.606461
X-APPLE-STRUCTURED-LOCATION;VALUE=URI;X-ADDRESS=Catherine Cookson Room Jesmond Library Newcastle upon Tyne NE2 2DL United Kingdom;X-APPLE-RADIUS=500;X-TITLE=Jesmond Library:geo:-1.606461,54.9932456
END:VEVENT
BEGIN:VEVENT
DTSTART;TZID=Europe/London:20260630T130000
DTEND;TZID=Europe/London:20260630T140000
DTSTAMP:20260419T180147
CREATED:20251111T100225Z
LAST-MODIFIED:20251111T100805Z
UID:10057826-1782824400-1782828000@jesmondlibrary.org
SUMMARY:French Intermediate Conversation 1
DESCRIPTION:
URL:https://jesmondlibrary.org/event/french-intermediate-conversation-1/2026-06-30/
LOCATION:Catherine Cookson Room
ATTACH;FMTTYPE=image/jpeg:https://jesmondlibrary.org/wp-content/uploads/2023/11/FRENCH.jpg
ORGANIZER;CN="Jesmond Library":MAILTO:events@jesmondlibrary.org
END:VEVENT
BEGIN:VEVENT
DTSTART;TZID=Europe/London:20260630T130000
DTEND;TZID=Europe/London:20260630T140000
DTSTAMP:20260419T180147
CREATED:20251111T100633Z
LAST-MODIFIED:20251111T100633Z
UID:10057878-1782824400-1782828000@jesmondlibrary.org
SUMMARY:French Intermediate conversation 2
DESCRIPTION:
URL:https://jesmondlibrary.org/event/french-intermediate-conversation-2/2026-06-30/
LOCATION:Sid Chaplin room
ATTACH;FMTTYPE=image/jpeg:https://jesmondlibrary.org/wp-content/uploads/2023/11/FRENCH.jpg
ORGANIZER;CN="Jesmond Library":MAILTO:events@jesmondlibrary.org
END:VEVENT
BEGIN:VEVENT
DTSTART;TZID=Europe/London:20260630T141500
DTEND;TZID=Europe/London:20260630T154500
DTSTAMP:20260419T180147
CREATED:20251111T101159Z
LAST-MODIFIED:20251208T094507Z
UID:10057942-1782828900-1782834300@jesmondlibrary.org
SUMMARY:Craft 'n' Chat
DESCRIPTION:
URL:https://jesmondlibrary.org/event/craft-n-chat-2/2026-06-30/
LOCATION:Catherine Cookson Room
ATTACH;FMTTYPE=image/jpeg:https://jesmondlibrary.org/wp-content/uploads/2023/02/CRAFT-N-CHAT-1.jpg
ORGANIZER;CN="Jesmond Library":MAILTO:events@jesmondlibrary.org
END:VEVENT
END:VCALENDAR