BEGIN:VCALENDAR
VERSION:2.0
PRODID:-//Jesmond Library - ECPv6.15.17.1//NONSGML v1.0//EN
CALSCALE:GREGORIAN
METHOD:PUBLISH
X-ORIGINAL-URL:https://jesmondlibrary.org
X-WR-CALDESC:Events for Jesmond Library
REFRESH-INTERVAL;VALUE=DURATION:PT1H
X-Robots-Tag:noindex
X-PUBLISHED-TTL:PT1H
BEGIN:VTIMEZONE
TZID:Europe/London
BEGIN:DAYLIGHT
TZOFFSETFROM:+0000
TZOFFSETTO:+0100
TZNAME:BST
DTSTART:20250330T010000
END:DAYLIGHT
BEGIN:STANDARD
TZOFFSETFROM:+0100
TZOFFSETTO:+0000
TZNAME:GMT
DTSTART:20251026T010000
END:STANDARD
BEGIN:DAYLIGHT
TZOFFSETFROM:+0000
TZOFFSETTO:+0100
TZNAME:BST
DTSTART:20260329T010000
END:DAYLIGHT
BEGIN:STANDARD
TZOFFSETFROM:+0100
TZOFFSETTO:+0000
TZNAME:GMT
DTSTART:20261025T010000
END:STANDARD
BEGIN:DAYLIGHT
TZOFFSETFROM:+0000
TZOFFSETTO:+0100
TZNAME:BST
DTSTART:20270328T010000
END:DAYLIGHT
BEGIN:STANDARD
TZOFFSETFROM:+0100
TZOFFSETTO:+0000
TZNAME:GMT
DTSTART:20271031T010000
END:STANDARD
END:VTIMEZONE
BEGIN:VEVENT
DTSTART;TZID=Europe/London:20260626T093000
DTEND;TZID=Europe/London:20260626T123000
DTSTAMP:20260421T094629
CREATED:20251018T103504Z
LAST-MODIFIED:20251018T104116Z
UID:10057214-1782466200-1782477000@jesmondlibrary.org
SUMMARY:LIBRARY OPEN FRIDAYS
DESCRIPTION:
URL:https://jesmondlibrary.org/event/library-open-fridays-2/2026-06-26/
LOCATION:Main Room
ORGANIZER;CN="Jesmond Library":MAILTO:events@jesmondlibrary.org
END:VEVENT
BEGIN:VEVENT
DTSTART;TZID=Europe/London:20260626T093000
DTEND;TZID=Europe/London:20260626T123000
DTSTAMP:20260421T094629
CREATED:20251111T102411Z
LAST-MODIFIED:20251111T102532Z
UID:10058155-1782466200-1782477000@jesmondlibrary.org
SUMMARY:Beginners English Language Conversation Class
DESCRIPTION:
URL:https://jesmondlibrary.org/event/beginners-english-language-conversation-class/2026-06-26/
LOCATION:Sid Chaplin room
ATTACH;FMTTYPE=image/jpeg:https://jesmondlibrary.org/wp-content/uploads/2024/12/ENGLISH_LANGUAGE_beginners1.jpg
ORGANIZER;CN="Jesmond Library":MAILTO:events@jesmondlibrary.org
END:VEVENT
BEGIN:VEVENT
DTSTART;TZID=Europe/London:20260626T093100
DTEND;TZID=Europe/London:20260626T123000
DTSTAMP:20260421T094629
CREATED:20251111T102235Z
LAST-MODIFIED:20251111T102801Z
UID:10058205-1782466260-1782477000@jesmondlibrary.org
SUMMARY:Improvers English Language Conversation class
DESCRIPTION:
URL:https://jesmondlibrary.org/event/improvers-english-language-conversation-class/2026-06-26/
LOCATION:Catherine Cookson Room
ATTACH;FMTTYPE=image/jpeg:https://jesmondlibrary.org/wp-content/uploads/2024/10/ENGLISH_LANGUAGE_Improvers1.jpg
ORGANIZER;CN="Jesmond Library":MAILTO:events@jesmondlibrary.org
END:VEVENT
BEGIN:VEVENT
DTSTART;TZID=Europe/London:20260626T130000
DTEND;TZID=Europe/London:20260627T130000
DTSTAMP:20260421T094629
CREATED:20260127T095135Z
LAST-MODIFIED:20260127T095135Z
UID:10058807-1782478800-1782565200@jesmondlibrary.org
SUMMARY:24-hour Readathon
DESCRIPTION:
URL:https://jesmondlibrary.org/event/24-hour-readathon/
LOCATION:Main Room
ORGANIZER;CN="Jesmond Library":MAILTO:events@jesmondlibrary.org
END:VEVENT
END:VCALENDAR