BEGIN:VCALENDAR
VERSION:2.0
PRODID:-//Jesmond Library - ECPv6.15.17.1//NONSGML v1.0//EN
CALSCALE:GREGORIAN
METHOD:PUBLISH
X-ORIGINAL-URL:https://jesmondlibrary.org
X-WR-CALDESC:Events for Jesmond Library
REFRESH-INTERVAL;VALUE=DURATION:PT1H
X-Robots-Tag:noindex
X-PUBLISHED-TTL:PT1H
BEGIN:VTIMEZONE
TZID:Europe/London
BEGIN:DAYLIGHT
TZOFFSETFROM:+0000
TZOFFSETTO:+0100
TZNAME:BST
DTSTART:20250330T010000
END:DAYLIGHT
BEGIN:STANDARD
TZOFFSETFROM:+0100
TZOFFSETTO:+0000
TZNAME:GMT
DTSTART:20251026T010000
END:STANDARD
BEGIN:DAYLIGHT
TZOFFSETFROM:+0000
TZOFFSETTO:+0100
TZNAME:BST
DTSTART:20260329T010000
END:DAYLIGHT
BEGIN:STANDARD
TZOFFSETFROM:+0100
TZOFFSETTO:+0000
TZNAME:GMT
DTSTART:20261025T010000
END:STANDARD
BEGIN:DAYLIGHT
TZOFFSETFROM:+0000
TZOFFSETTO:+0100
TZNAME:BST
DTSTART:20270328T010000
END:DAYLIGHT
BEGIN:STANDARD
TZOFFSETFROM:+0100
TZOFFSETTO:+0000
TZNAME:GMT
DTSTART:20271031T010000
END:STANDARD
END:VTIMEZONE
BEGIN:VEVENT
DTSTART;TZID=Europe/London:20260618T093000
DTEND;TZID=Europe/London:20260618T180000
DTSTAMP:20260419T180142
CREATED:20251121T102015Z
LAST-MODIFIED:20251121T102015Z
UID:10058645-1781775000-1781805600@jesmondlibrary.org
SUMMARY:LIBRARY OPEN THURSDAYS
DESCRIPTION:
URL:https://jesmondlibrary.org/event/library-open-thursdays/2026-06-18/
LOCATION:Main Room
ORGANIZER;CN="Jesmond Library":MAILTO:events@jesmondlibrary.org
END:VEVENT
BEGIN:VEVENT
DTSTART;TZID=Europe/London:20260618T100000
DTEND;TZID=Europe/London:20260618T103000
DTSTAMP:20260419T180142
CREATED:20260409T125931Z
LAST-MODIFIED:20260409T141911Z
UID:10058972-1781776800-1781778600@jesmondlibrary.org
SUMMARY:Story & Rhyme Time
DESCRIPTION:
URL:https://jesmondlibrary.org/event/story-rhyme-time/2026-06-18/
LOCATION:Main Room
ATTACH;FMTTYPE=image/jpeg:https://jesmondlibrary.org/wp-content/uploads/2026/04/STORYTIME.jpg
ORGANIZER;CN="Jesmond Library":MAILTO:events@jesmondlibrary.org
END:VEVENT
BEGIN:VEVENT
DTSTART;TZID=Europe/London:20260618T100000
DTEND;TZID=Europe/London:20260618T120000
DTSTAMP:20260419T180142
CREATED:20260409T134001Z
LAST-MODIFIED:20260409T134001Z
UID:10058984-1781776800-1781784000@jesmondlibrary.org
SUMMARY:Private French Conversation group
DESCRIPTION:
URL:https://jesmondlibrary.org/event/private-french-conversation-group-2/2026-06-18/
LOCATION:Catherine Cookson Room\, Jesmond Library\, Newcastle upon Tyne\, NE2 2DL\, United Kingdom
GEO:54.9932456;-1.606461
X-APPLE-STRUCTURED-LOCATION;VALUE=URI;X-ADDRESS=Catherine Cookson Room Jesmond Library Newcastle upon Tyne NE2 2DL United Kingdom;X-APPLE-RADIUS=500;X-TITLE=Jesmond Library:geo:-1.606461,54.9932456
END:VEVENT
BEGIN:VEVENT
DTSTART;TZID=Europe/London:20260618T104500
DTEND;TZID=Europe/London:20260618T114500
DTSTAMP:20260419T180142
CREATED:20251027T110506Z
LAST-MODIFIED:20260212T093209Z
UID:10057327-1781779500-1781783100@jesmondlibrary.org
SUMMARY:Advanced German
DESCRIPTION:
URL:https://jesmondlibrary.org/event/advanced-german-4/2026-06-18/
LOCATION:Sid Chaplin room
ATTACH;FMTTYPE=image/jpeg:https://jesmondlibrary.org/wp-content/uploads/2025/10/German-Advanced.jpg
ORGANIZER;CN="Jesmond Library":MAILTO:events@jesmondlibrary.org
END:VEVENT
BEGIN:VEVENT
DTSTART;TZID=Europe/London:20260618T121500
DTEND;TZID=Europe/London:20260618T131500
DTSTAMP:20260419T180142
CREATED:20250509T150234Z
LAST-MODIFIED:20250509T151420Z
UID:10056699-1781784900-1781788500@jesmondlibrary.org
SUMMARY:Intermediate German conversation 2
DESCRIPTION:
URL:https://jesmondlibrary.org/event/intermediate-german-conversation-2-4/2026-06-18/
LOCATION:Catherine Cookson Room\, Jesmond Library\, Newcastle upon Tyne\, NE2 2DL\, United Kingdom
ATTACH;FMTTYPE=image/jpeg:https://jesmondlibrary.org/wp-content/uploads/2025/04/GERMAN_INT1.jpg
ORGANIZER;CN="Jesmond Library":MAILTO:events@jesmondlibrary.org
GEO:54.9932456;-1.606461
X-APPLE-STRUCTURED-LOCATION;VALUE=URI;X-ADDRESS=Catherine Cookson Room Jesmond Library Newcastle upon Tyne NE2 2DL United Kingdom;X-APPLE-RADIUS=500;X-TITLE=Jesmond Library:geo:-1.606461,54.9932456
END:VEVENT
BEGIN:VEVENT
DTSTART;TZID=Europe/London:20260618T180000
DTEND;TZID=Europe/London:20260618T190000
DTSTAMP:20260419T180142
CREATED:20260303T174804Z
LAST-MODIFIED:20260303T174839Z
UID:10058879-1781805600-1781809200@jesmondlibrary.org
SUMMARY:Thursday Talk - National Emergency Briefing
DESCRIPTION:Tony Waterston shows a film on the National Emergency Briefing\, followed by a discussion.
URL:https://jesmondlibrary.org/event/thursday-talk-national-emergency-briefing/
LOCATION:Main Room
ORGANIZER;CN="Jesmond Library":MAILTO:events@jesmondlibrary.org
END:VEVENT
BEGIN:VEVENT
DTSTART;TZID=Europe/London:20260618T180000
DTEND;TZID=Europe/London:20260618T193000
DTSTAMP:20260419T180142
CREATED:20251111T101917Z
LAST-MODIFIED:20251208T095144Z
UID:10058004-1781805600-1781811000@jesmondlibrary.org
SUMMARY:Spanish Conversation
DESCRIPTION:
URL:https://jesmondlibrary.org/event/spanish-conversation-4/2026-06-18/
LOCATION:Sid Chaplin room
ATTACH;FMTTYPE=image/jpeg:https://jesmondlibrary.org/wp-content/uploads/2025/11/SPANISH1.jpg
ORGANIZER;CN="Jesmond Library":MAILTO:events@jesmondlibrary.org
END:VEVENT
BEGIN:VEVENT
DTSTART;TZID=Europe/London:20260618T190000
DTEND;TZID=Europe/London:20260618T200000
DTSTAMP:20260419T180142
CREATED:20260417T090802Z
LAST-MODIFIED:20260417T091343Z
UID:10059001-1781809200-1781812800@jesmondlibrary.org
SUMMARY:National Emergency Briefing - further discussion
DESCRIPTION:
URL:https://jesmondlibrary.org/event/national-emergency-briefing-further-discussion/
LOCATION:Main Room
ATTACH;FMTTYPE=image/jpeg:https://jesmondlibrary.org/wp-content/uploads/2026/04/PEB-Public-Notice-scaled.jpg
END:VEVENT
END:VCALENDAR