BEGIN:VCALENDAR
VERSION:2.0
PRODID:-//Jesmond Library - ECPv6.15.17.1//NONSGML v1.0//EN
CALSCALE:GREGORIAN
METHOD:PUBLISH
X-WR-CALNAME:Jesmond Library
X-ORIGINAL-URL:https://jesmondlibrary.org
X-WR-CALDESC:Events for Jesmond Library
REFRESH-INTERVAL;VALUE=DURATION:PT1H
X-Robots-Tag:noindex
X-PUBLISHED-TTL:PT1H
BEGIN:VTIMEZONE
TZID:Europe/London
BEGIN:DAYLIGHT
TZOFFSETFROM:+0000
TZOFFSETTO:+0100
TZNAME:BST
DTSTART:20250330T010000
END:DAYLIGHT
BEGIN:STANDARD
TZOFFSETFROM:+0100
TZOFFSETTO:+0000
TZNAME:GMT
DTSTART:20251026T010000
END:STANDARD
BEGIN:DAYLIGHT
TZOFFSETFROM:+0000
TZOFFSETTO:+0100
TZNAME:BST
DTSTART:20260329T010000
END:DAYLIGHT
BEGIN:STANDARD
TZOFFSETFROM:+0100
TZOFFSETTO:+0000
TZNAME:GMT
DTSTART:20261025T010000
END:STANDARD
BEGIN:DAYLIGHT
TZOFFSETFROM:+0000
TZOFFSETTO:+0100
TZNAME:BST
DTSTART:20270328T010000
END:DAYLIGHT
BEGIN:STANDARD
TZOFFSETFROM:+0100
TZOFFSETTO:+0000
TZNAME:GMT
DTSTART:20271031T010000
END:STANDARD
END:VTIMEZONE
BEGIN:VEVENT
DTSTART;TZID=Europe/London:20260612T093000
DTEND;TZID=Europe/London:20260612T123000
DTSTAMP:20260419T174033
CREATED:20251018T103504Z
LAST-MODIFIED:20251018T104116Z
UID:10057212-1781256600-1781267400@jesmondlibrary.org
SUMMARY:LIBRARY OPEN FRIDAYS
DESCRIPTION:
URL:https://jesmondlibrary.org/event/library-open-fridays-2/2026-06-12/
LOCATION:Main Room
ORGANIZER;CN="Jesmond Library":MAILTO:events@jesmondlibrary.org
END:VEVENT
BEGIN:VEVENT
DTSTART;TZID=Europe/London:20260612T093000
DTEND;TZID=Europe/London:20260612T123000
DTSTAMP:20260419T174033
CREATED:20251111T102411Z
LAST-MODIFIED:20251111T102532Z
UID:10058153-1781256600-1781267400@jesmondlibrary.org
SUMMARY:Beginners English Language Conversation Class
DESCRIPTION:
URL:https://jesmondlibrary.org/event/beginners-english-language-conversation-class/2026-06-12/
LOCATION:Sid Chaplin room
ATTACH;FMTTYPE=image/jpeg:https://jesmondlibrary.org/wp-content/uploads/2024/12/ENGLISH_LANGUAGE_beginners1.jpg
ORGANIZER;CN="Jesmond Library":MAILTO:events@jesmondlibrary.org
END:VEVENT
BEGIN:VEVENT
DTSTART;TZID=Europe/London:20260612T093100
DTEND;TZID=Europe/London:20260612T123000
DTSTAMP:20260419T174033
CREATED:20251111T102235Z
LAST-MODIFIED:20251111T102801Z
UID:10058203-1781256660-1781267400@jesmondlibrary.org
SUMMARY:Improvers English Language Conversation class
DESCRIPTION:
URL:https://jesmondlibrary.org/event/improvers-english-language-conversation-class/2026-06-12/
LOCATION:Catherine Cookson Room
ATTACH;FMTTYPE=image/jpeg:https://jesmondlibrary.org/wp-content/uploads/2024/10/ENGLISH_LANGUAGE_Improvers1.jpg
ORGANIZER;CN="Jesmond Library":MAILTO:events@jesmondlibrary.org
END:VEVENT
BEGIN:VEVENT
DTSTART;TZID=Europe/London:20260612T103000
DTEND;TZID=Europe/London:20260612T120000
DTSTAMP:20260419T174033
CREATED:20260315T093436Z
LAST-MODIFIED:20260315T093710Z
UID:10058899-1781260200-1781265600@jesmondlibrary.org
SUMMARY:Healthwatch Drop-In
DESCRIPTION:
URL:https://jesmondlibrary.org/event/healthwatch-drop-in-8/
LOCATION:Main Room
ATTACH;FMTTYPE=image/png:https://jesmondlibrary.org/wp-content/uploads/2024/01/Healthwatch-Newcastle-Leaflet-2-of-2.png
END:VEVENT
BEGIN:VEVENT
DTSTART;TZID=Europe/London:20260612T130000
DTEND;TZID=Europe/London:20260612T140000
DTSTAMP:20260419T174033
CREATED:20260409T132233Z
LAST-MODIFIED:20260409T132317Z
UID:10058974-1781269200-1781272800@jesmondlibrary.org
SUMMARY:Music in the Library: Pete Tanton and Alan Law: Trumpet/Vocal and Piano Duo
DESCRIPTION:
URL:https://jesmondlibrary.org/event/music-in-the-library-2/
LOCATION:Main Room
ORGANIZER;CN="Jesmond Library":MAILTO:events@jesmondlibrary.org
END:VEVENT
END:VCALENDAR