BEGIN:VCALENDAR
VERSION:2.0
PRODID:-//Jesmond Library - ECPv6.15.17.1//NONSGML v1.0//EN
CALSCALE:GREGORIAN
METHOD:PUBLISH
X-ORIGINAL-URL:https://jesmondlibrary.org
X-WR-CALDESC:Events for Jesmond Library
REFRESH-INTERVAL;VALUE=DURATION:PT1H
X-Robots-Tag:noindex
X-PUBLISHED-TTL:PT1H
BEGIN:VTIMEZONE
TZID:Europe/London
BEGIN:DAYLIGHT
TZOFFSETFROM:+0000
TZOFFSETTO:+0100
TZNAME:BST
DTSTART:20250330T010000
END:DAYLIGHT
BEGIN:STANDARD
TZOFFSETFROM:+0100
TZOFFSETTO:+0000
TZNAME:GMT
DTSTART:20251026T010000
END:STANDARD
BEGIN:DAYLIGHT
TZOFFSETFROM:+0000
TZOFFSETTO:+0100
TZNAME:BST
DTSTART:20260329T010000
END:DAYLIGHT
BEGIN:STANDARD
TZOFFSETFROM:+0100
TZOFFSETTO:+0000
TZNAME:GMT
DTSTART:20261025T010000
END:STANDARD
BEGIN:DAYLIGHT
TZOFFSETFROM:+0000
TZOFFSETTO:+0100
TZNAME:BST
DTSTART:20270328T010000
END:DAYLIGHT
BEGIN:STANDARD
TZOFFSETFROM:+0100
TZOFFSETTO:+0000
TZNAME:GMT
DTSTART:20271031T010000
END:STANDARD
END:VTIMEZONE
BEGIN:VEVENT
DTSTART;TZID=Europe/London:20260604T093000
DTEND;TZID=Europe/London:20260604T180000
DTSTAMP:20260419T163752
CREATED:20251121T102015Z
LAST-MODIFIED:20251121T102015Z
UID:10058643-1780565400-1780596000@jesmondlibrary.org
SUMMARY:LIBRARY OPEN THURSDAYS
DESCRIPTION:
URL:https://jesmondlibrary.org/event/library-open-thursdays/2026-06-04/
LOCATION:Main Room
ORGANIZER;CN="Jesmond Library":MAILTO:events@jesmondlibrary.org
END:VEVENT
BEGIN:VEVENT
DTSTART;TZID=Europe/London:20260604T100000
DTEND;TZID=Europe/London:20260604T103000
DTSTAMP:20260419T163752
CREATED:20260409T125931Z
LAST-MODIFIED:20260409T141911Z
UID:10058970-1780567200-1780569000@jesmondlibrary.org
SUMMARY:Story & Rhyme Time
DESCRIPTION:
URL:https://jesmondlibrary.org/event/story-rhyme-time/2026-06-04/
LOCATION:Main Room
ATTACH;FMTTYPE=image/jpeg:https://jesmondlibrary.org/wp-content/uploads/2026/04/STORYTIME.jpg
ORGANIZER;CN="Jesmond Library":MAILTO:events@jesmondlibrary.org
END:VEVENT
BEGIN:VEVENT
DTSTART;TZID=Europe/London:20260604T100000
DTEND;TZID=Europe/London:20260604T130000
DTSTAMP:20260419T163752
CREATED:20250509T145257Z
LAST-MODIFIED:20260330T135240Z
UID:10056673-1780567200-1780578000@jesmondlibrary.org
SUMMARY:Philosophy for a Flourishing Life: Justice\, Society\, and Living Together (Downstairs)
DESCRIPTION:This half-day course turns outward to explore our roles\nin community and society. Drawing on ideas from\npolitical philosophy and social ethics\, participants\nconsider different visions of justice\, fairness\, and\ncollective well-being. Real-life issues—such as inequal-\nity or civic responsibility—bring theory into practice. A\nlistening circle offers space to share personal experi-\nences of justice and injustice with compassion and\nrespect\, cultivating empathy and insight.
URL:https://jesmondlibrary.org/event/philosophy-with-darren-harper-14/
LOCATION:Catherine Cookson Room\, Jesmond Library\, Newcastle upon Tyne\, NE2 2DL\, United Kingdom
GEO:54.9932456;-1.606461
X-APPLE-STRUCTURED-LOCATION;VALUE=URI;X-ADDRESS=Catherine Cookson Room Jesmond Library Newcastle upon Tyne NE2 2DL United Kingdom;X-APPLE-RADIUS=500;X-TITLE=Jesmond Library:geo:-1.606461,54.9932456
END:VEVENT
BEGIN:VEVENT
DTSTART;TZID=Europe/London:20260604T104500
DTEND;TZID=Europe/London:20260604T114500
DTSTAMP:20260419T163752
CREATED:20251027T110506Z
LAST-MODIFIED:20260212T093209Z
UID:10057325-1780569900-1780573500@jesmondlibrary.org
SUMMARY:Advanced German
DESCRIPTION:
URL:https://jesmondlibrary.org/event/advanced-german-4/2026-06-04/
LOCATION:Sid Chaplin room
ATTACH;FMTTYPE=image/jpeg:https://jesmondlibrary.org/wp-content/uploads/2025/10/German-Advanced.jpg
ORGANIZER;CN="Jesmond Library":MAILTO:events@jesmondlibrary.org
END:VEVENT
BEGIN:VEVENT
DTSTART;TZID=Europe/London:20260604T121500
DTEND;TZID=Europe/London:20260604T131500
DTSTAMP:20260419T163752
CREATED:20250509T150234Z
LAST-MODIFIED:20250509T151420Z
UID:10056697-1780575300-1780578900@jesmondlibrary.org
SUMMARY:Intermediate German conversation 2
DESCRIPTION:
URL:https://jesmondlibrary.org/event/intermediate-german-conversation-2-4/2026-06-04/
LOCATION:Catherine Cookson Room\, Jesmond Library\, Newcastle upon Tyne\, NE2 2DL\, United Kingdom
ATTACH;FMTTYPE=image/jpeg:https://jesmondlibrary.org/wp-content/uploads/2025/04/GERMAN_INT1.jpg
ORGANIZER;CN="Jesmond Library":MAILTO:events@jesmondlibrary.org
GEO:54.9932456;-1.606461
X-APPLE-STRUCTURED-LOCATION;VALUE=URI;X-ADDRESS=Catherine Cookson Room Jesmond Library Newcastle upon Tyne NE2 2DL United Kingdom;X-APPLE-RADIUS=500;X-TITLE=Jesmond Library:geo:-1.606461,54.9932456
END:VEVENT
BEGIN:VEVENT
DTSTART;TZID=Europe/London:20260604T180000
DTEND;TZID=Europe/London:20260604T190000
DTSTAMP:20260419T163752
CREATED:20260130T104517Z
LAST-MODIFIED:20260130T104517Z
UID:10058822-1780596000-1780599600@jesmondlibrary.org
SUMMARY:Thursday Talk - Mid 19th Century Jesmond Society
DESCRIPTION:Acclaimed local historian Henrietta Heald discusses some of the key characters in 19th century Jesmond society\, including Armorer Donkin\, Henry Swan\, Thomas Sopwith\, and others.
URL:https://jesmondlibrary.org/event/thursday-talk-mid-19th-century-jesmond-society/
LOCATION:Main Room
ORGANIZER;CN="Jesmond Library":MAILTO:events@jesmondlibrary.org
END:VEVENT
BEGIN:VEVENT
DTSTART;TZID=Europe/London:20260604T180000
DTEND;TZID=Europe/London:20260604T193000
DTSTAMP:20260419T163752
CREATED:20251111T101917Z
LAST-MODIFIED:20251208T095144Z
UID:10058002-1780596000-1780601400@jesmondlibrary.org
SUMMARY:Spanish Conversation
DESCRIPTION:
URL:https://jesmondlibrary.org/event/spanish-conversation-4/2026-06-04/
LOCATION:Sid Chaplin room
ATTACH;FMTTYPE=image/jpeg:https://jesmondlibrary.org/wp-content/uploads/2025/11/SPANISH1.jpg
ORGANIZER;CN="Jesmond Library":MAILTO:events@jesmondlibrary.org
END:VEVENT
END:VCALENDAR