BEGIN:VCALENDAR
VERSION:2.0
PRODID:-//Jesmond Library - ECPv6.15.17.1//NONSGML v1.0//EN
CALSCALE:GREGORIAN
METHOD:PUBLISH
X-ORIGINAL-URL:https://jesmondlibrary.org
X-WR-CALDESC:Events for Jesmond Library
REFRESH-INTERVAL;VALUE=DURATION:PT1H
X-Robots-Tag:noindex
X-PUBLISHED-TTL:PT1H
BEGIN:VTIMEZONE
TZID:Europe/London
BEGIN:DAYLIGHT
TZOFFSETFROM:+0000
TZOFFSETTO:+0100
TZNAME:BST
DTSTART:20250330T010000
END:DAYLIGHT
BEGIN:STANDARD
TZOFFSETFROM:+0100
TZOFFSETTO:+0000
TZNAME:GMT
DTSTART:20251026T010000
END:STANDARD
BEGIN:DAYLIGHT
TZOFFSETFROM:+0000
TZOFFSETTO:+0100
TZNAME:BST
DTSTART:20260329T010000
END:DAYLIGHT
BEGIN:STANDARD
TZOFFSETFROM:+0100
TZOFFSETTO:+0000
TZNAME:GMT
DTSTART:20261025T010000
END:STANDARD
BEGIN:DAYLIGHT
TZOFFSETFROM:+0000
TZOFFSETTO:+0100
TZNAME:BST
DTSTART:20270328T010000
END:DAYLIGHT
BEGIN:STANDARD
TZOFFSETFROM:+0100
TZOFFSETTO:+0000
TZNAME:GMT
DTSTART:20271031T010000
END:STANDARD
END:VTIMEZONE
BEGIN:VEVENT
DTSTART;TZID=Europe/London:20260530T093000
DTEND;TZID=Europe/London:20260530T163000
DTSTAMP:20260419T133257
CREATED:20251018T103753Z
LAST-MODIFIED:20251018T103910Z
UID:10057261-1780133400-1780158600@jesmondlibrary.org
SUMMARY:LIBRARY OPEN SATURDAYS
DESCRIPTION:
URL:https://jesmondlibrary.org/event/library-open-saturdays-6/2026-05-30/
LOCATION:Main Room
ORGANIZER;CN="Jesmond Library":MAILTO:events@jesmondlibrary.org
END:VEVENT
BEGIN:VEVENT
DTSTART;TZID=Europe/London:20260530T100000
DTEND;TZID=Europe/London:20260530T113000
DTSTAMP:20260419T133257
CREATED:20260309T182943Z
LAST-MODIFIED:20260309T183812Z
UID:10058882-1780135200-1780140600@jesmondlibrary.org
SUMMARY:Trustees' Meeting
DESCRIPTION:
URL:https://jesmondlibrary.org/event/trustees-meeting-10/
LOCATION:Catherine Cookson Room
ORGANIZER;CN="Jesmond Library":MAILTO:events@jesmondlibrary.org
END:VEVENT
BEGIN:VEVENT
DTSTART;TZID=Europe/London:20260530T164500
DTEND;TZID=Europe/London:20260530T184500
DTSTAMP:20260419T133257
CREATED:20260317T095130Z
LAST-MODIFIED:20260323T095711Z
UID:10058900-1780159500-1780166700@jesmondlibrary.org
SUMMARY:Centre Evangelique Women's Conference: Healing Wounds
DESCRIPTION:
URL:https://jesmondlibrary.org/event/centre-evangelique-womens-conference-healing-wounds/
LOCATION:Main Room
END:VEVENT
END:VCALENDAR