BEGIN:VCALENDAR
VERSION:2.0
PRODID:-//Jesmond Library - ECPv6.15.17.1//NONSGML v1.0//EN
CALSCALE:GREGORIAN
METHOD:PUBLISH
X-ORIGINAL-URL:https://jesmondlibrary.org
X-WR-CALDESC:Events for Jesmond Library
REFRESH-INTERVAL;VALUE=DURATION:PT1H
X-Robots-Tag:noindex
X-PUBLISHED-TTL:PT1H
BEGIN:VTIMEZONE
TZID:Europe/London
BEGIN:DAYLIGHT
TZOFFSETFROM:+0000
TZOFFSETTO:+0100
TZNAME:BST
DTSTART:20250330T010000
END:DAYLIGHT
BEGIN:STANDARD
TZOFFSETFROM:+0100
TZOFFSETTO:+0000
TZNAME:GMT
DTSTART:20251026T010000
END:STANDARD
BEGIN:DAYLIGHT
TZOFFSETFROM:+0000
TZOFFSETTO:+0100
TZNAME:BST
DTSTART:20260329T010000
END:DAYLIGHT
BEGIN:STANDARD
TZOFFSETFROM:+0100
TZOFFSETTO:+0000
TZNAME:GMT
DTSTART:20261025T010000
END:STANDARD
BEGIN:DAYLIGHT
TZOFFSETFROM:+0000
TZOFFSETTO:+0100
TZNAME:BST
DTSTART:20270328T010000
END:DAYLIGHT
BEGIN:STANDARD
TZOFFSETFROM:+0100
TZOFFSETTO:+0000
TZNAME:GMT
DTSTART:20271031T010000
END:STANDARD
END:VTIMEZONE
BEGIN:VEVENT
DTSTART;TZID=Europe/London:20260514T093000
DTEND;TZID=Europe/London:20260514T180000
DTSTAMP:20260419T133343
CREATED:20251121T102015Z
LAST-MODIFIED:20251121T102015Z
UID:10058640-1778751000-1778781600@jesmondlibrary.org
SUMMARY:LIBRARY OPEN THURSDAYS
DESCRIPTION:
URL:https://jesmondlibrary.org/event/library-open-thursdays/2026-05-14/
LOCATION:Main Room
ORGANIZER;CN="Jesmond Library":MAILTO:events@jesmondlibrary.org
END:VEVENT
BEGIN:VEVENT
DTSTART;TZID=Europe/London:20260514T100000
DTEND;TZID=Europe/London:20260514T103000
DTSTAMP:20260419T133343
CREATED:20260409T125931Z
LAST-MODIFIED:20260409T141911Z
UID:10058968-1778752800-1778754600@jesmondlibrary.org
SUMMARY:Story & Rhyme Time
DESCRIPTION:
URL:https://jesmondlibrary.org/event/story-rhyme-time/2026-05-14/
LOCATION:Main Room
ATTACH;FMTTYPE=image/jpeg:https://jesmondlibrary.org/wp-content/uploads/2026/04/STORYTIME.jpg
ORGANIZER;CN="Jesmond Library":MAILTO:events@jesmondlibrary.org
END:VEVENT
BEGIN:VEVENT
DTSTART;TZID=Europe/London:20260514T100000
DTEND;TZID=Europe/London:20260514T120000
DTSTAMP:20260419T133343
CREATED:20260409T134001Z
LAST-MODIFIED:20260409T134001Z
UID:10058981-1778752800-1778760000@jesmondlibrary.org
SUMMARY:Private French Conversation group
DESCRIPTION:
URL:https://jesmondlibrary.org/event/private-french-conversation-group-2/2026-05-14/
LOCATION:Catherine Cookson Room\, Jesmond Library\, Newcastle upon Tyne\, NE2 2DL\, United Kingdom
GEO:54.9932456;-1.606461
X-APPLE-STRUCTURED-LOCATION;VALUE=URI;X-ADDRESS=Catherine Cookson Room Jesmond Library Newcastle upon Tyne NE2 2DL United Kingdom;X-APPLE-RADIUS=500;X-TITLE=Jesmond Library:geo:-1.606461,54.9932456
END:VEVENT
BEGIN:VEVENT
DTSTART;TZID=Europe/London:20260514T104500
DTEND;TZID=Europe/London:20260514T114500
DTSTAMP:20260419T133343
CREATED:20251027T110506Z
LAST-MODIFIED:20260212T093209Z
UID:10057322-1778755500-1778759100@jesmondlibrary.org
SUMMARY:Advanced German
DESCRIPTION:
URL:https://jesmondlibrary.org/event/advanced-german-4/2026-05-14/
LOCATION:Sid Chaplin room
ATTACH;FMTTYPE=image/jpeg:https://jesmondlibrary.org/wp-content/uploads/2025/10/German-Advanced.jpg
ORGANIZER;CN="Jesmond Library":MAILTO:events@jesmondlibrary.org
END:VEVENT
BEGIN:VEVENT
DTSTART;TZID=Europe/London:20260514T121500
DTEND;TZID=Europe/London:20260514T131500
DTSTAMP:20260419T133343
CREATED:20250509T150234Z
LAST-MODIFIED:20250509T151420Z
UID:10056694-1778760900-1778764500@jesmondlibrary.org
SUMMARY:Intermediate German conversation 2
DESCRIPTION:
URL:https://jesmondlibrary.org/event/intermediate-german-conversation-2-4/2026-05-14/
LOCATION:Catherine Cookson Room\, Jesmond Library\, Newcastle upon Tyne\, NE2 2DL\, United Kingdom
ATTACH;FMTTYPE=image/jpeg:https://jesmondlibrary.org/wp-content/uploads/2025/04/GERMAN_INT1.jpg
ORGANIZER;CN="Jesmond Library":MAILTO:events@jesmondlibrary.org
GEO:54.9932456;-1.606461
X-APPLE-STRUCTURED-LOCATION;VALUE=URI;X-ADDRESS=Catherine Cookson Room Jesmond Library Newcastle upon Tyne NE2 2DL United Kingdom;X-APPLE-RADIUS=500;X-TITLE=Jesmond Library:geo:-1.606461,54.9932456
END:VEVENT
BEGIN:VEVENT
DTSTART;TZID=Europe/London:20260514T163000
DTEND;TZID=Europe/London:20260514T173000
DTSTAMP:20260419T133343
CREATED:20260323T101325Z
LAST-MODIFIED:20260323T101621Z
UID:10058923-1778776200-1778779800@jesmondlibrary.org
SUMMARY:The Art Locale – Group art sessions for 8-16 year olds
DESCRIPTION:
URL:https://jesmondlibrary.org/event/the-art-locale-group-art-sessions-for-8-16-year-olds-5/2026-05-14/
LOCATION:Catherine Cookson Room
ATTACH;FMTTYPE=image/png:https://jesmondlibrary.org/wp-content/uploads/2026/03/April_May_Art_Sessions.png
END:VEVENT
BEGIN:VEVENT
DTSTART;TZID=Europe/London:20260514T180000
DTEND;TZID=Europe/London:20260514T190000
DTSTAMP:20260419T133343
CREATED:20260302T192541Z
LAST-MODIFIED:20260305T193535Z
UID:10058877-1778781600-1778785200@jesmondlibrary.org
SUMMARY:Thursday Talk - Buildings of the Tyne & Wear Buildings Preservation Trust
DESCRIPTION:The Tyne and Wear Buildings Preservation Trust was set up in 1979 to preserve the architectural heritage of Tyne and Wear. We aim to rescue threatened or neglected buildings of architectural and historic importance within this locality. \nThis talk is to put some of the buildings that we are dealing with\, or have dealt with\, into their historical and social context. \nWe start with Anglo Saxon Gateshead and end with Art Deco in Benwell Newcastle.
URL:https://jesmondlibrary.org/event/thursday-talk-buildings-of-the-tyne-wear-buildings-preservation-trust/
LOCATION:Main Room
ATTACH;FMTTYPE=image/jpeg:https://jesmondlibrary.org/wp-content/uploads/2026/03/MARGARET-BOZIC-2-1.jpg
ORGANIZER;CN="Jesmond Library":MAILTO:events@jesmondlibrary.org
END:VEVENT
BEGIN:VEVENT
DTSTART;TZID=Europe/London:20260514T180000
DTEND;TZID=Europe/London:20260514T193000
DTSTAMP:20260419T133343
CREATED:20251111T101917Z
LAST-MODIFIED:20251208T095144Z
UID:10057999-1778781600-1778787000@jesmondlibrary.org
SUMMARY:Spanish Conversation
DESCRIPTION:
URL:https://jesmondlibrary.org/event/spanish-conversation-4/2026-05-14/
LOCATION:Sid Chaplin room
ATTACH;FMTTYPE=image/jpeg:https://jesmondlibrary.org/wp-content/uploads/2025/11/SPANISH1.jpg
ORGANIZER;CN="Jesmond Library":MAILTO:events@jesmondlibrary.org
END:VEVENT
END:VCALENDAR