BEGIN:VCALENDAR
VERSION:2.0
PRODID:-//Jesmond Library - ECPv6.15.17.1//NONSGML v1.0//EN
CALSCALE:GREGORIAN
METHOD:PUBLISH
X-WR-CALNAME:Jesmond Library
X-ORIGINAL-URL:https://jesmondlibrary.org
X-WR-CALDESC:Events for Jesmond Library
REFRESH-INTERVAL;VALUE=DURATION:PT1H
X-Robots-Tag:noindex
X-PUBLISHED-TTL:PT1H
BEGIN:VTIMEZONE
TZID:Europe/London
BEGIN:DAYLIGHT
TZOFFSETFROM:+0000
TZOFFSETTO:+0100
TZNAME:BST
DTSTART:20250330T010000
END:DAYLIGHT
BEGIN:STANDARD
TZOFFSETFROM:+0100
TZOFFSETTO:+0000
TZNAME:GMT
DTSTART:20251026T010000
END:STANDARD
BEGIN:DAYLIGHT
TZOFFSETFROM:+0000
TZOFFSETTO:+0100
TZNAME:BST
DTSTART:20260329T010000
END:DAYLIGHT
BEGIN:STANDARD
TZOFFSETFROM:+0100
TZOFFSETTO:+0000
TZNAME:GMT
DTSTART:20261025T010000
END:STANDARD
BEGIN:DAYLIGHT
TZOFFSETFROM:+0000
TZOFFSETTO:+0100
TZNAME:BST
DTSTART:20270328T010000
END:DAYLIGHT
BEGIN:STANDARD
TZOFFSETFROM:+0100
TZOFFSETTO:+0000
TZNAME:GMT
DTSTART:20271031T010000
END:STANDARD
END:VTIMEZONE
BEGIN:VEVENT
DTSTART;TZID=Europe/London:20260430T093000
DTEND;TZID=Europe/London:20260430T180000
DTSTAMP:20260419T150823
CREATED:20251121T102015Z
LAST-MODIFIED:20251121T102015Z
UID:10058638-1777541400-1777572000@jesmondlibrary.org
SUMMARY:LIBRARY OPEN THURSDAYS
DESCRIPTION:
URL:https://jesmondlibrary.org/event/library-open-thursdays/2026-04-30/
LOCATION:Main Room
ORGANIZER;CN="Jesmond Library":MAILTO:events@jesmondlibrary.org
END:VEVENT
BEGIN:VEVENT
DTSTART;TZID=Europe/London:20260430T100000
DTEND;TZID=Europe/London:20260430T130000
DTSTAMP:20260419T150823
CREATED:20250509T145157Z
LAST-MODIFIED:20260223T143102Z
UID:10056672-1777543200-1777554000@jesmondlibrary.org
SUMMARY:Philosophy for a Flourishing Life: Ethics and the Good Life *DOWNSTAIRS*
DESCRIPTION:What does it mean to live a good life? In this half-day\ncourse\, we explore key ethical traditions—such as\nvirtue ethics\, utilitarianism\, and Kantian ethics—and\napply them to real-life dilemmas. Participants engage in\na reflective exercise on personal integrity and write a\npersonal ethics statement. Through case discussions\nand critical thinking\, this session invites deeper under-\nstanding of our moral values and how they inform our\nchoices\, character and relationships
URL:https://jesmondlibrary.org/event/philosophy-with-darren-harper-13/
LOCATION:Catherine Cookson Room\, Jesmond Library\, Newcastle upon Tyne\, NE2 2DL\, United Kingdom
GEO:54.9932456;-1.606461
X-APPLE-STRUCTURED-LOCATION;VALUE=URI;X-ADDRESS=Catherine Cookson Room Jesmond Library Newcastle upon Tyne NE2 2DL United Kingdom;X-APPLE-RADIUS=500;X-TITLE=Jesmond Library:geo:-1.606461,54.9932456
END:VEVENT
BEGIN:VEVENT
DTSTART;TZID=Europe/London:20260430T104500
DTEND;TZID=Europe/London:20260430T114500
DTSTAMP:20260419T150823
CREATED:20251027T110506Z
LAST-MODIFIED:20260212T093209Z
UID:10057320-1777545900-1777549500@jesmondlibrary.org
SUMMARY:Advanced German
DESCRIPTION:
URL:https://jesmondlibrary.org/event/advanced-german-4/2026-04-30/
LOCATION:Sid Chaplin room
ATTACH;FMTTYPE=image/jpeg:https://jesmondlibrary.org/wp-content/uploads/2025/10/German-Advanced.jpg
ORGANIZER;CN="Jesmond Library":MAILTO:events@jesmondlibrary.org
END:VEVENT
BEGIN:VEVENT
DTSTART;TZID=Europe/London:20260430T121500
DTEND;TZID=Europe/London:20260430T131500
DTSTAMP:20260419T150823
CREATED:20260223T142856Z
LAST-MODIFIED:20260223T142937Z
UID:10056692-1777551300-1777554900@jesmondlibrary.org
SUMMARY:Intermediate German conversation 2 *UPSTAIRS*
DESCRIPTION:
URL:https://jesmondlibrary.org/event/intermediate-german-conversation-2-6/
LOCATION:Sid Chaplin room
ATTACH;FMTTYPE=image/jpeg:https://jesmondlibrary.org/wp-content/uploads/2025/04/GERMAN_INT1.jpg
ORGANIZER;CN="Jesmond Library":MAILTO:events@jesmondlibrary.org
END:VEVENT
BEGIN:VEVENT
DTSTART;TZID=Europe/London:20260430T163000
DTEND;TZID=Europe/London:20260430T173000
DTSTAMP:20260419T150823
CREATED:20260323T101325Z
LAST-MODIFIED:20260323T101621Z
UID:10058921-1777566600-1777570200@jesmondlibrary.org
SUMMARY:The Art Locale – Group art sessions for 8-16 year olds
DESCRIPTION:
URL:https://jesmondlibrary.org/event/the-art-locale-group-art-sessions-for-8-16-year-olds-5/2026-04-30/
LOCATION:Catherine Cookson Room
ATTACH;FMTTYPE=image/png:https://jesmondlibrary.org/wp-content/uploads/2026/03/April_May_Art_Sessions.png
END:VEVENT
BEGIN:VEVENT
DTSTART;TZID=Europe/London:20260430T180000
DTEND;TZID=Europe/London:20260430T190000
DTSTAMP:20260419T150823
CREATED:20260319T192331Z
LAST-MODIFIED:20260320T150419Z
UID:10058908-1777572000-1777575600@jesmondlibrary.org
SUMMARY:Thursday Talk - Bob Dylan and "that thin wild mercury sound"
DESCRIPTION:Bob Dylan’s 1966 double album “Blonde on Blonde” was released almost exactly 60 years ago\, and is still regarded as a key milestone in popular music.  To celebrate this anniversary\, Mike Fraser explores Dylan’s artistic development from his arrival in New York in 1961 up to the album’s release.
URL:https://jesmondlibrary.org/event/thursday-talk-bob-dylan-and-that-thin-wild-mercury-sound/
LOCATION:Main Room
ATTACH;FMTTYPE=image/jpeg:https://jesmondlibrary.org/wp-content/uploads/2026/03/MIKE-FRAZER.jpg
ORGANIZER;CN="Jesmond Library":MAILTO:events@jesmondlibrary.org
END:VEVENT
BEGIN:VEVENT
DTSTART;TZID=Europe/London:20260430T180000
DTEND;TZID=Europe/London:20260430T193000
DTSTAMP:20260419T150823
CREATED:20251111T101917Z
LAST-MODIFIED:20251208T095144Z
UID:10057997-1777572000-1777577400@jesmondlibrary.org
SUMMARY:Spanish Conversation
DESCRIPTION:
URL:https://jesmondlibrary.org/event/spanish-conversation-4/2026-04-30/
LOCATION:Sid Chaplin room
ATTACH;FMTTYPE=image/jpeg:https://jesmondlibrary.org/wp-content/uploads/2025/11/SPANISH1.jpg
ORGANIZER;CN="Jesmond Library":MAILTO:events@jesmondlibrary.org
END:VEVENT
END:VCALENDAR