BEGIN:VCALENDAR
VERSION:2.0
PRODID:-//Jesmond Library - ECPv6.15.17.1//NONSGML v1.0//EN
CALSCALE:GREGORIAN
METHOD:PUBLISH
X-WR-CALNAME:Jesmond Library
X-ORIGINAL-URL:https://jesmondlibrary.org
X-WR-CALDESC:Events for Jesmond Library
REFRESH-INTERVAL;VALUE=DURATION:PT1H
X-Robots-Tag:noindex
X-PUBLISHED-TTL:PT1H
BEGIN:VTIMEZONE
TZID:Europe/London
BEGIN:DAYLIGHT
TZOFFSETFROM:+0000
TZOFFSETTO:+0100
TZNAME:BST
DTSTART:20250330T010000
END:DAYLIGHT
BEGIN:STANDARD
TZOFFSETFROM:+0100
TZOFFSETTO:+0000
TZNAME:GMT
DTSTART:20251026T010000
END:STANDARD
BEGIN:DAYLIGHT
TZOFFSETFROM:+0000
TZOFFSETTO:+0100
TZNAME:BST
DTSTART:20260329T010000
END:DAYLIGHT
BEGIN:STANDARD
TZOFFSETFROM:+0100
TZOFFSETTO:+0000
TZNAME:GMT
DTSTART:20261025T010000
END:STANDARD
BEGIN:DAYLIGHT
TZOFFSETFROM:+0000
TZOFFSETTO:+0100
TZNAME:BST
DTSTART:20270328T010000
END:DAYLIGHT
BEGIN:STANDARD
TZOFFSETFROM:+0100
TZOFFSETTO:+0000
TZNAME:GMT
DTSTART:20271031T010000
END:STANDARD
END:VTIMEZONE
BEGIN:VEVENT
DTSTART;TZID=Europe/London:20260422T181500
DTEND;TZID=Europe/London:20260422T201500
DTSTAMP:20260422T120714
CREATED:20251112T110823Z
LAST-MODIFIED:20251114T092806Z
UID:10058267-1776881700-1776888900@jesmondlibrary.org
SUMMARY:*fully booked* Italian for Total Beginners
DESCRIPTION:
URL:https://jesmondlibrary.org/event/italian-for-total-beginners-tbc-2/2026-04-22/
LOCATION:Catherine Cookson Room
END:VEVENT
BEGIN:VEVENT
DTSTART;TZID=Europe/London:20260422T190000
DTEND;TZID=Europe/London:20260422T200000
DTSTAMP:20260422T120714
CREATED:20260210T095440Z
LAST-MODIFIED:20260220T135722Z
UID:10058830-1776884400-1776888000@jesmondlibrary.org
SUMMARY:Author Event: Trevor Wood\, crime writer
DESCRIPTION:
URL:https://jesmondlibrary.org/event/author-event-trevor-wood-crime-writer/
LOCATION:Main Room
ATTACH;FMTTYPE=image/jpeg:https://jesmondlibrary.org/wp-content/uploads/2026/02/Writer_showcase_trevor_wood_poster_jpeg1.jpg
ORGANIZER;CN="Jesmond Library":MAILTO:events@jesmondlibrary.org
END:VEVENT
BEGIN:VEVENT
DTSTART;TZID=Europe/London:20260422T190000
DTEND;TZID=Europe/London:20260422T210000
DTSTAMP:20260422T120714
CREATED:20251106T092648Z
LAST-MODIFIED:20251106T092648Z
UID:10057439-1776884400-1776891600@jesmondlibrary.org
SUMMARY:Serene Reflections
DESCRIPTION:
URL:https://jesmondlibrary.org/event/serene-reflections-3/2026-04-22/
LOCATION:Sid Chaplin room
ATTACH;FMTTYPE=image/jpeg:https://jesmondlibrary.org/wp-content/uploads/2025/11/Serene-Reflections-Meditations-1.jpg
END:VEVENT
END:VCALENDAR