BEGIN:VCALENDAR
VERSION:2.0
PRODID:-//Jesmond Library - ECPv6.15.17.1//NONSGML v1.0//EN
CALSCALE:GREGORIAN
METHOD:PUBLISH
X-ORIGINAL-URL:https://jesmondlibrary.org
X-WR-CALDESC:Events for Jesmond Library
REFRESH-INTERVAL;VALUE=DURATION:PT1H
X-Robots-Tag:noindex
X-PUBLISHED-TTL:PT1H
BEGIN:VTIMEZONE
TZID:Europe/London
BEGIN:DAYLIGHT
TZOFFSETFROM:+0000
TZOFFSETTO:+0100
TZNAME:BST
DTSTART:20250330T010000
END:DAYLIGHT
BEGIN:STANDARD
TZOFFSETFROM:+0100
TZOFFSETTO:+0000
TZNAME:GMT
DTSTART:20251026T010000
END:STANDARD
BEGIN:DAYLIGHT
TZOFFSETFROM:+0000
TZOFFSETTO:+0100
TZNAME:BST
DTSTART:20260329T010000
END:DAYLIGHT
BEGIN:STANDARD
TZOFFSETFROM:+0100
TZOFFSETTO:+0000
TZNAME:GMT
DTSTART:20261025T010000
END:STANDARD
BEGIN:DAYLIGHT
TZOFFSETFROM:+0000
TZOFFSETTO:+0100
TZNAME:BST
DTSTART:20270328T010000
END:DAYLIGHT
BEGIN:STANDARD
TZOFFSETFROM:+0100
TZOFFSETTO:+0000
TZNAME:GMT
DTSTART:20271031T010000
END:STANDARD
END:VTIMEZONE
BEGIN:VEVENT
DTSTART;TZID=Europe/London:20260401T103000
DTEND;TZID=Europe/London:20260401T130000
DTSTAMP:20260420T175554
CREATED:20260223T140146Z
LAST-MODIFIED:20260226T102300Z
UID:10057972-1775039400-1775048400@jesmondlibrary.org
SUMMARY:Wellbeing for Life: Fools Gold\, the Medieval Festival of Fools
DESCRIPTION:come and celebrate the medieval Festival of Fools with quizzes\, competitions and craft
URL:https://jesmondlibrary.org/event/wellbeing-for-life-8/
LOCATION:Main Room & Catherine Cookson Room
ATTACH;FMTTYPE=image/jpeg:https://jesmondlibrary.org/wp-content/uploads/2026/02/April.jpg
ORGANIZER;CN="Jesmond Library":MAILTO:events@jesmondlibrary.org
END:VEVENT
BEGIN:VEVENT
DTSTART;TZID=Europe/London:20260401T181500
DTEND;TZID=Europe/London:20260401T201500
DTSTAMP:20260420T175554
CREATED:20251112T110823Z
LAST-MODIFIED:20251114T092806Z
UID:10058264-1775067300-1775074500@jesmondlibrary.org
SUMMARY:*fully booked* Italian for Total Beginners
DESCRIPTION:
URL:https://jesmondlibrary.org/event/italian-for-total-beginners-tbc-2/2026-04-01/
LOCATION:Catherine Cookson Room
END:VEVENT
BEGIN:VEVENT
DTSTART;TZID=Europe/London:20260401T190000
DTEND;TZID=Europe/London:20260401T210000
DTSTAMP:20260420T175554
CREATED:20251106T092648Z
LAST-MODIFIED:20251106T092648Z
UID:10057436-1775070000-1775077200@jesmondlibrary.org
SUMMARY:Serene Reflections
DESCRIPTION:
URL:https://jesmondlibrary.org/event/serene-reflections-3/2026-04-01/
LOCATION:Sid Chaplin room
ATTACH;FMTTYPE=image/jpeg:https://jesmondlibrary.org/wp-content/uploads/2025/11/Serene-Reflections-Meditations-1.jpg
END:VEVENT
END:VCALENDAR