BEGIN:VCALENDAR
VERSION:2.0
PRODID:-//Jesmond Library - ECPv6.15.17.1//NONSGML v1.0//EN
CALSCALE:GREGORIAN
METHOD:PUBLISH
X-ORIGINAL-URL:https://jesmondlibrary.org
X-WR-CALDESC:Events for Jesmond Library
REFRESH-INTERVAL;VALUE=DURATION:PT1H
X-Robots-Tag:noindex
X-PUBLISHED-TTL:PT1H
BEGIN:VTIMEZONE
TZID:Europe/London
BEGIN:DAYLIGHT
TZOFFSETFROM:+0000
TZOFFSETTO:+0100
TZNAME:BST
DTSTART:20250330T010000
END:DAYLIGHT
BEGIN:STANDARD
TZOFFSETFROM:+0100
TZOFFSETTO:+0000
TZNAME:GMT
DTSTART:20251026T010000
END:STANDARD
BEGIN:DAYLIGHT
TZOFFSETFROM:+0000
TZOFFSETTO:+0100
TZNAME:BST
DTSTART:20260329T010000
END:DAYLIGHT
BEGIN:STANDARD
TZOFFSETFROM:+0100
TZOFFSETTO:+0000
TZNAME:GMT
DTSTART:20261025T010000
END:STANDARD
BEGIN:DAYLIGHT
TZOFFSETFROM:+0000
TZOFFSETTO:+0100
TZNAME:BST
DTSTART:20270328T010000
END:DAYLIGHT
BEGIN:STANDARD
TZOFFSETFROM:+0100
TZOFFSETTO:+0000
TZNAME:GMT
DTSTART:20271031T010000
END:STANDARD
END:VTIMEZONE
BEGIN:VEVENT
DTSTART;TZID=Europe/London:20260327T093000
DTEND;TZID=Europe/London:20260327T123000
DTSTAMP:20260424T170133
CREATED:20251018T103504Z
LAST-MODIFIED:20251018T104116Z
UID:10057201-1774603800-1774614600@jesmondlibrary.org
SUMMARY:LIBRARY OPEN FRIDAYS
DESCRIPTION:
URL:https://jesmondlibrary.org/event/library-open-fridays-2/2026-03-27/
LOCATION:Main Room
ORGANIZER;CN="Jesmond Library":MAILTO:events@jesmondlibrary.org
END:VEVENT
BEGIN:VEVENT
DTSTART;TZID=Europe/London:20260327T093000
DTEND;TZID=Europe/London:20260327T123000
DTSTAMP:20260424T170133
CREATED:20251111T102411Z
LAST-MODIFIED:20251111T102532Z
UID:10058142-1774603800-1774614600@jesmondlibrary.org
SUMMARY:Beginners English Language Conversation Class
DESCRIPTION:
URL:https://jesmondlibrary.org/event/beginners-english-language-conversation-class/2026-03-27/
LOCATION:Sid Chaplin room
ATTACH;FMTTYPE=image/jpeg:https://jesmondlibrary.org/wp-content/uploads/2024/12/ENGLISH_LANGUAGE_beginners1.jpg
ORGANIZER;CN="Jesmond Library":MAILTO:events@jesmondlibrary.org
END:VEVENT
BEGIN:VEVENT
DTSTART;TZID=Europe/London:20260327T093100
DTEND;TZID=Europe/London:20260327T123000
DTSTAMP:20260424T170133
CREATED:20251111T102235Z
LAST-MODIFIED:20251111T102801Z
UID:10058192-1774603860-1774614600@jesmondlibrary.org
SUMMARY:Improvers English Language Conversation class
DESCRIPTION:
URL:https://jesmondlibrary.org/event/improvers-english-language-conversation-class/2026-03-27/
LOCATION:Catherine Cookson Room
ATTACH;FMTTYPE=image/jpeg:https://jesmondlibrary.org/wp-content/uploads/2024/10/ENGLISH_LANGUAGE_Improvers1.jpg
ORGANIZER;CN="Jesmond Library":MAILTO:events@jesmondlibrary.org
END:VEVENT
BEGIN:VEVENT
DTSTART;TZID=Europe/London:20260327T140000
DTEND;TZID=Europe/London:20260327T153000
DTSTAMP:20260424T170133
CREATED:20260119T093858Z
LAST-MODIFIED:20260119T093858Z
UID:10058800-1774620000-1774625400@jesmondlibrary.org
SUMMARY:Events Meeting
DESCRIPTION:
URL:https://jesmondlibrary.org/event/events-meeting-8/
LOCATION:Sid Chaplin room
ORGANIZER;CN="Jesmond Library":MAILTO:events@jesmondlibrary.org
END:VEVENT
END:VCALENDAR