BEGIN:VCALENDAR
VERSION:2.0
PRODID:-//Jesmond Library - ECPv6.15.17.1//NONSGML v1.0//EN
CALSCALE:GREGORIAN
METHOD:PUBLISH
X-WR-CALNAME:Jesmond Library
X-ORIGINAL-URL:https://jesmondlibrary.org
X-WR-CALDESC:Events for Jesmond Library
REFRESH-INTERVAL;VALUE=DURATION:PT1H
X-Robots-Tag:noindex
X-PUBLISHED-TTL:PT1H
BEGIN:VTIMEZONE
TZID:Europe/London
BEGIN:DAYLIGHT
TZOFFSETFROM:+0000
TZOFFSETTO:+0100
TZNAME:BST
DTSTART:20250330T010000
END:DAYLIGHT
BEGIN:STANDARD
TZOFFSETFROM:+0100
TZOFFSETTO:+0000
TZNAME:GMT
DTSTART:20251026T010000
END:STANDARD
BEGIN:DAYLIGHT
TZOFFSETFROM:+0000
TZOFFSETTO:+0100
TZNAME:BST
DTSTART:20260329T010000
END:DAYLIGHT
BEGIN:STANDARD
TZOFFSETFROM:+0100
TZOFFSETTO:+0000
TZNAME:GMT
DTSTART:20261025T010000
END:STANDARD
BEGIN:DAYLIGHT
TZOFFSETFROM:+0000
TZOFFSETTO:+0100
TZNAME:BST
DTSTART:20270328T010000
END:DAYLIGHT
BEGIN:STANDARD
TZOFFSETFROM:+0100
TZOFFSETTO:+0000
TZNAME:GMT
DTSTART:20271031T010000
END:STANDARD
END:VTIMEZONE
BEGIN:VEVENT
DTSTART;TZID=Europe/London:20260317T093000
DTEND;TZID=Europe/London:20260317T163000
DTSTAMP:20260421T172202
CREATED:20251121T101724Z
LAST-MODIFIED:20251121T101724Z
UID:10058580-1773739800-1773765000@jesmondlibrary.org
SUMMARY:LIBRARY OPEN TUESDAYS
DESCRIPTION:
URL:https://jesmondlibrary.org/event/library-open-tuesdays-11/2026-03-17/
LOCATION:Main Room
ORGANIZER;CN="Jesmond Library":MAILTO:events@jesmondlibrary.org
END:VEVENT
BEGIN:VEVENT
DTSTART;TZID=Europe/London:20260317T100000
DTEND;TZID=Europe/London:20260317T110000
DTSTAMP:20260421T172202
CREATED:20251111T095458Z
LAST-MODIFIED:20251111T095458Z
UID:10057655-1773741600-1773745200@jesmondlibrary.org
SUMMARY:Intermediate German conversation
DESCRIPTION:
URL:https://jesmondlibrary.org/event/intermediate-german-conversation-5/2026-03-17/
LOCATION:Sid Chaplin room
ATTACH;FMTTYPE=image/jpeg:https://jesmondlibrary.org/wp-content/uploads/2025/11/Int-German-places-in-Thursdays-group.jpg
ORGANIZER;CN="Jesmond Library":MAILTO:events@jesmondlibrary.org
END:VEVENT
BEGIN:VEVENT
DTSTART;TZID=Europe/London:20260317T100000
DTEND;TZID=Europe/London:20260317T120000
DTSTAMP:20260421T172202
CREATED:20250408T103607Z
LAST-MODIFIED:20251203T095021Z
UID:10056532-1773741600-1773748800@jesmondlibrary.org
SUMMARY:*group full* Current Affairs Discussion Group
DESCRIPTION:
URL:https://jesmondlibrary.org/event/current-affairs-discussion-group-6/2026-03-17/
LOCATION:Catherine Cookson Room
ATTACH;FMTTYPE=image/jpeg:https://jesmondlibrary.org/wp-content/uploads/2025/04/Part_3-1.jpeg
ORGANIZER;CN="Jesmond Library":MAILTO:events@jesmondlibrary.org
END:VEVENT
BEGIN:VEVENT
DTSTART;TZID=Europe/London:20260317T110000
DTEND;TZID=Europe/London:20260317T120000
DTSTAMP:20260421T172202
CREATED:20251111T095755Z
LAST-MODIFIED:20251111T095755Z
UID:10057707-1773745200-1773748800@jesmondlibrary.org
SUMMARY:Beginners' Spanish conversation
DESCRIPTION:
URL:https://jesmondlibrary.org/event/beginners-spanish-conversation-2/2026-03-17/
LOCATION:Sid Chaplin room
ATTACH;FMTTYPE=image/jpeg:https://jesmondlibrary.org/wp-content/uploads/2025/11/Spanish-Beginners-Tuesdays.jpg
ORGANIZER;CN="Jesmond Library":MAILTO:events@jesmondlibrary.org
END:VEVENT
BEGIN:VEVENT
DTSTART;TZID=Europe/London:20260317T120000
DTEND;TZID=Europe/London:20260317T130000
DTSTAMP:20260421T172202
CREATED:20251111T095913Z
LAST-MODIFIED:20260401T084950Z
UID:10057759-1773748800-1773752400@jesmondlibrary.org
SUMMARY:Italian conversation with Antonella
DESCRIPTION:
URL:https://jesmondlibrary.org/event/italian-conversation-with-antonella-13/2026-03-17/
LOCATION:Catherine Cookson Room\, Jesmond Library\, Newcastle upon Tyne\, NE2 2DL\, United Kingdom
ATTACH;FMTTYPE=image/jpeg:https://jesmondlibrary.org/wp-content/uploads/2025/11/ITALIAN-Conversation.jpg
ORGANIZER;CN="Jesmond Library":MAILTO:events@jesmondlibrary.org
GEO:54.9932456;-1.606461
X-APPLE-STRUCTURED-LOCATION;VALUE=URI;X-ADDRESS=Catherine Cookson Room Jesmond Library Newcastle upon Tyne NE2 2DL United Kingdom;X-APPLE-RADIUS=500;X-TITLE=Jesmond Library:geo:-1.606461,54.9932456
END:VEVENT
BEGIN:VEVENT
DTSTART;TZID=Europe/London:20260317T130000
DTEND;TZID=Europe/London:20260317T140000
DTSTAMP:20260421T172202
CREATED:20251111T100225Z
LAST-MODIFIED:20251111T100805Z
UID:10057811-1773752400-1773756000@jesmondlibrary.org
SUMMARY:French Intermediate Conversation 1
DESCRIPTION:
URL:https://jesmondlibrary.org/event/french-intermediate-conversation-1/2026-03-17/
LOCATION:Catherine Cookson Room
ATTACH;FMTTYPE=image/jpeg:https://jesmondlibrary.org/wp-content/uploads/2023/11/FRENCH.jpg
ORGANIZER;CN="Jesmond Library":MAILTO:events@jesmondlibrary.org
END:VEVENT
BEGIN:VEVENT
DTSTART;TZID=Europe/London:20260317T130000
DTEND;TZID=Europe/London:20260317T140000
DTSTAMP:20260421T172202
CREATED:20251111T100633Z
LAST-MODIFIED:20251111T100633Z
UID:10057863-1773752400-1773756000@jesmondlibrary.org
SUMMARY:French Intermediate conversation 2
DESCRIPTION:
URL:https://jesmondlibrary.org/event/french-intermediate-conversation-2/2026-03-17/
LOCATION:Sid Chaplin room
ATTACH;FMTTYPE=image/jpeg:https://jesmondlibrary.org/wp-content/uploads/2023/11/FRENCH.jpg
ORGANIZER;CN="Jesmond Library":MAILTO:events@jesmondlibrary.org
END:VEVENT
BEGIN:VEVENT
DTSTART;TZID=Europe/London:20260317T141500
DTEND;TZID=Europe/London:20260317T154500
DTSTAMP:20260421T172202
CREATED:20251111T101159Z
LAST-MODIFIED:20251208T094507Z
UID:10057927-1773756900-1773762300@jesmondlibrary.org
SUMMARY:Craft 'n' Chat
DESCRIPTION:
URL:https://jesmondlibrary.org/event/craft-n-chat-2/2026-03-17/
LOCATION:Catherine Cookson Room
ATTACH;FMTTYPE=image/jpeg:https://jesmondlibrary.org/wp-content/uploads/2023/02/CRAFT-N-CHAT-1.jpg
ORGANIZER;CN="Jesmond Library":MAILTO:events@jesmondlibrary.org
END:VEVENT
BEGIN:VEVENT
DTSTART;TZID=Europe/London:20260317T173000
DTEND;TZID=Europe/London:20260317T183000
DTSTAMP:20260421T172202
CREATED:20250918T101437Z
LAST-MODIFIED:20251114T111804Z
UID:10058339-1773768600-1773772200@jesmondlibrary.org
SUMMARY:Keep Jesmond Clean meeting
DESCRIPTION:
URL:https://jesmondlibrary.org/event/keep-jesmond-clean-meeting-10/
LOCATION:Main Room
ATTACH;FMTTYPE=image/jpeg:https://jesmondlibrary.org/wp-content/uploads/2024/07/KJC-generic-JPEG.jpg
END:VEVENT
BEGIN:VEVENT
DTSTART;TZID=Europe/London:20260317T181500
DTEND;TZID=Europe/London:20260317T201500
DTSTAMP:20260421T172202
CREATED:20251110T175133Z
LAST-MODIFIED:20251118T102052Z
UID:10057570-1773771300-1773778500@jesmondlibrary.org
SUMMARY:Italian Post Beginners
DESCRIPTION:
URL:https://jesmondlibrary.org/event/italian-beginners-a1-easy-conversation-grammar-tbc/2026-03-17/
LOCATION:Sid Chaplin room
ATTACH;FMTTYPE=image/png:https://jesmondlibrary.org/wp-content/uploads/2025/11/Jesmond-Jan-2026-1.png
END:VEVENT
BEGIN:VEVENT
DTSTART;TZID=Europe/London:20260317T183000
DTEND;TZID=Europe/London:20260317T203000
DTSTAMP:20260421T172203
CREATED:20260129T140614Z
LAST-MODIFIED:20260211T135027Z
UID:10058812-1773772200-1773779400@jesmondlibrary.org
SUMMARY:Majority Private Book Club
DESCRIPTION:
URL:https://jesmondlibrary.org/event/majority-book-club/
LOCATION:Main Room
END:VEVENT
END:VCALENDAR