BEGIN:VCALENDAR
VERSION:2.0
PRODID:-//Jesmond Library - ECPv6.15.17.1//NONSGML v1.0//EN
CALSCALE:GREGORIAN
METHOD:PUBLISH
X-ORIGINAL-URL:https://jesmondlibrary.org
X-WR-CALDESC:Events for Jesmond Library
REFRESH-INTERVAL;VALUE=DURATION:PT1H
X-Robots-Tag:noindex
X-PUBLISHED-TTL:PT1H
BEGIN:VTIMEZONE
TZID:Europe/London
BEGIN:DAYLIGHT
TZOFFSETFROM:+0000
TZOFFSETTO:+0100
TZNAME:BST
DTSTART:20250330T010000
END:DAYLIGHT
BEGIN:STANDARD
TZOFFSETFROM:+0100
TZOFFSETTO:+0000
TZNAME:GMT
DTSTART:20251026T010000
END:STANDARD
BEGIN:DAYLIGHT
TZOFFSETFROM:+0000
TZOFFSETTO:+0100
TZNAME:BST
DTSTART:20260329T010000
END:DAYLIGHT
BEGIN:STANDARD
TZOFFSETFROM:+0100
TZOFFSETTO:+0000
TZNAME:GMT
DTSTART:20261025T010000
END:STANDARD
BEGIN:DAYLIGHT
TZOFFSETFROM:+0000
TZOFFSETTO:+0100
TZNAME:BST
DTSTART:20270328T010000
END:DAYLIGHT
BEGIN:STANDARD
TZOFFSETFROM:+0100
TZOFFSETTO:+0000
TZNAME:GMT
DTSTART:20271031T010000
END:STANDARD
END:VTIMEZONE
BEGIN:VEVENT
DTSTART;TZID=Europe/London:20260312T093000
DTEND;TZID=Europe/London:20260312T180000
DTSTAMP:20260423T141556
CREATED:20251121T102015Z
LAST-MODIFIED:20251121T102015Z
UID:10058631-1773307800-1773338400@jesmondlibrary.org
SUMMARY:LIBRARY OPEN THURSDAYS
DESCRIPTION:
URL:https://jesmondlibrary.org/event/library-open-thursdays/2026-03-12/
LOCATION:Main Room
ORGANIZER;CN="Jesmond Library":MAILTO:events@jesmondlibrary.org
END:VEVENT
BEGIN:VEVENT
DTSTART;TZID=Europe/London:20260312T100000
DTEND;TZID=Europe/London:20260312T103000
DTSTAMP:20260423T141556
CREATED:20251206T110801Z
LAST-MODIFIED:20260227T095341Z
UID:10058699-1773309600-1773311400@jesmondlibrary.org
SUMMARY:Story & Rhyme Time
DESCRIPTION:
URL:https://jesmondlibrary.org/event/story-rhyme-time-10/2026-03-12/
LOCATION:Main Room
ATTACH;FMTTYPE=image/jpeg:https://jesmondlibrary.org/wp-content/uploads/2025/12/STORYTIME-1.jpg
ORGANIZER;CN="Jesmond Library":MAILTO:events@jesmondlibrary.org
END:VEVENT
BEGIN:VEVENT
DTSTART;TZID=Europe/London:20260312T100000
DTEND;TZID=Europe/London:20260312T120000
DTSTAMP:20260423T141556
CREATED:20250509T145526Z
LAST-MODIFIED:20260311T092502Z
UID:10056675-1773309600-1773316800@jesmondlibrary.org
SUMMARY:*Event moved online* Philosophy for a Flourishing Life: Time\, Change\, and the Art of Letting Go
DESCRIPTION:Change is one of life’s few certainties—yet it can be\ndifficult to navigate. This reflective half-day course\nexplores how philosophers and wisdom traditions\nhave understood impermanence\, transition\, and the\npassage of time. Drawing on insights from thinkers like Hera-\nclitus\, the Buddha\, and Heidegger\, participants consider how\nto live more peacefully with change and cultivate a sense of\ncontinuity amid life’s shifts. Through writing\, discussion\, and\ncontemplative practice\, we explore letting go not as loss\, but\nas growth.
URL:https://jesmondlibrary.org/event/philosophy-with-darren-harper-12/
END:VEVENT
BEGIN:VEVENT
DTSTART;TZID=Europe/London:20260312T104500
DTEND;TZID=Europe/London:20260312T114500
DTSTAMP:20260423T141556
CREATED:20251027T110506Z
LAST-MODIFIED:20260212T093209Z
UID:10057313-1773312300-1773315900@jesmondlibrary.org
SUMMARY:Advanced German
DESCRIPTION:
URL:https://jesmondlibrary.org/event/advanced-german-4/2026-03-12/
LOCATION:Sid Chaplin room
ATTACH;FMTTYPE=image/jpeg:https://jesmondlibrary.org/wp-content/uploads/2025/10/German-Advanced.jpg
ORGANIZER;CN="Jesmond Library":MAILTO:events@jesmondlibrary.org
END:VEVENT
BEGIN:VEVENT
DTSTART;TZID=Europe/London:20260312T121500
DTEND;TZID=Europe/London:20260312T131500
DTSTAMP:20260423T141556
CREATED:20250509T150234Z
LAST-MODIFIED:20250509T151420Z
UID:10056685-1773317700-1773321300@jesmondlibrary.org
SUMMARY:Intermediate German conversation 2
DESCRIPTION:
URL:https://jesmondlibrary.org/event/intermediate-german-conversation-2-4/2026-03-12/
LOCATION:Catherine Cookson Room\, Jesmond Library\, Newcastle upon Tyne\, NE2 2DL\, United Kingdom
ATTACH;FMTTYPE=image/jpeg:https://jesmondlibrary.org/wp-content/uploads/2025/04/GERMAN_INT1.jpg
ORGANIZER;CN="Jesmond Library":MAILTO:events@jesmondlibrary.org
GEO:54.9932456;-1.606461
X-APPLE-STRUCTURED-LOCATION;VALUE=URI;X-ADDRESS=Catherine Cookson Room Jesmond Library Newcastle upon Tyne NE2 2DL United Kingdom;X-APPLE-RADIUS=500;X-TITLE=Jesmond Library:geo:-1.606461,54.9932456
END:VEVENT
BEGIN:VEVENT
DTSTART;TZID=Europe/London:20260312T163000
DTEND;TZID=Europe/London:20260312T173000
DTSTAMP:20260423T141556
CREATED:20260211T132534Z
LAST-MODIFIED:20260213T101551Z
UID:10058834-1773333000-1773336600@jesmondlibrary.org
SUMMARY:The Art Locale - Group Art Sessions for 8-16 year olds
DESCRIPTION:
URL:https://jesmondlibrary.org/event/the-art-locale-group-art-sessions-for-8-16-year-olds-3/2026-03-12/
LOCATION:Catherine Cookson Room
ATTACH;FMTTYPE=image/png:https://jesmondlibrary.org/wp-content/uploads/2026/02/March_Art_Sessions2.png
END:VEVENT
BEGIN:VEVENT
DTSTART;TZID=Europe/London:20260312T180000
DTEND;TZID=Europe/London:20260312T193000
DTSTAMP:20260423T141556
CREATED:20260312T121410Z
LAST-MODIFIED:20260312T144349Z
UID:10057990-1773338400-1773343800@jesmondlibrary.org
SUMMARY:Spanish Conversation
DESCRIPTION:
URL:https://jesmondlibrary.org/event/spanish-conversation-6/
LOCATION:Main Room
ATTACH;FMTTYPE=image/jpeg:https://jesmondlibrary.org/wp-content/uploads/2025/11/SPANISH1.jpg
ORGANIZER;CN="Jesmond Library":MAILTO:events@jesmondlibrary.org
END:VEVENT
END:VCALENDAR