BEGIN:VCALENDAR
VERSION:2.0
PRODID:-//Jesmond Library - ECPv6.15.17.1//NONSGML v1.0//EN
CALSCALE:GREGORIAN
METHOD:PUBLISH
X-WR-CALNAME:Jesmond Library
X-ORIGINAL-URL:https://jesmondlibrary.org
X-WR-CALDESC:Events for Jesmond Library
REFRESH-INTERVAL;VALUE=DURATION:PT1H
X-Robots-Tag:noindex
X-PUBLISHED-TTL:PT1H
BEGIN:VTIMEZONE
TZID:Europe/London
BEGIN:DAYLIGHT
TZOFFSETFROM:+0000
TZOFFSETTO:+0100
TZNAME:BST
DTSTART:20240331T010000
END:DAYLIGHT
BEGIN:STANDARD
TZOFFSETFROM:+0100
TZOFFSETTO:+0000
TZNAME:GMT
DTSTART:20241027T010000
END:STANDARD
BEGIN:DAYLIGHT
TZOFFSETFROM:+0000
TZOFFSETTO:+0100
TZNAME:BST
DTSTART:20250330T010000
END:DAYLIGHT
BEGIN:STANDARD
TZOFFSETFROM:+0100
TZOFFSETTO:+0000
TZNAME:GMT
DTSTART:20251026T010000
END:STANDARD
BEGIN:DAYLIGHT
TZOFFSETFROM:+0000
TZOFFSETTO:+0100
TZNAME:BST
DTSTART:20260329T010000
END:DAYLIGHT
BEGIN:STANDARD
TZOFFSETFROM:+0100
TZOFFSETTO:+0000
TZNAME:GMT
DTSTART:20261025T010000
END:STANDARD
END:VTIMEZONE
BEGIN:VEVENT
DTSTART;TZID=Europe/London:20250922T110000
DTEND;TZID=Europe/London:20250922T123000
DTSTAMP:20260424T165923
CREATED:20250716T145935Z
LAST-MODIFIED:20250722T144126Z
UID:10056874-1758538800-1758544200@jesmondlibrary.org
SUMMARY:Motherfolk Writing Circle
DESCRIPTION:
URL:https://jesmondlibrary.org/event/motherfolk-writing-circle/2025-09-22/
LOCATION:Main Room
ATTACH;FMTTYPE=image/png:https://jesmondlibrary.org/wp-content/uploads/2025/07/Motherfolk-June-25.png
END:VEVENT
BEGIN:VEVENT
DTSTART;TZID=Europe/London:20250922T150000
DTEND;TZID=Europe/London:20250922T160000
DTSTAMP:20260424T165923
CREATED:20250715T095446Z
LAST-MODIFIED:20250715T095446Z
UID:10056869-1758553200-1758556800@jesmondlibrary.org
SUMMARY:Safeguarding Training
DESCRIPTION:
URL:https://jesmondlibrary.org/event/safeguarding-training-14/
LOCATION:Main Room
ORGANIZER;CN="Jesmond Library":MAILTO:events@jesmondlibrary.org
END:VEVENT
BEGIN:VEVENT
DTSTART;TZID=Europe/London:20250922T181500
DTEND;TZID=Europe/London:20250922T201500
DTSTAMP:20260424T165923
CREATED:20250630T100004Z
LAST-MODIFIED:20250811T175613Z
UID:10056915-1758564900-1758572100@jesmondlibrary.org
SUMMARY:Italian Elementary Level A2
DESCRIPTION:Easy conversation and grammar – 8 weeks.
URL:https://jesmondlibrary.org/event/italian/2025-09-22/
LOCATION:Sid Chaplin room
ATTACH;FMTTYPE=image/jpeg:https://jesmondlibrary.org/wp-content/uploads/2025/06/Flyer-Jesmond-September-25-1-1.jpg
END:VEVENT
BEGIN:VEVENT
DTSTART;TZID=Europe/London:20250922T181500
DTEND;TZID=Europe/London:20250922T201500
DTSTAMP:20260424T165923
CREATED:20250910T100321Z
LAST-MODIFIED:20250910T100321Z
UID:10057117-1758564900-1758572100@jesmondlibrary.org
SUMMARY:Italian Elementary Level A2 group 2 (downstairs)
DESCRIPTION:
URL:https://jesmondlibrary.org/event/italian-elementary-level-a2-group-2-downstairs/2025-09-22/
LOCATION:Catherine Cookson Room
ATTACH;FMTTYPE=image/jpeg:https://jesmondlibrary.org/wp-content/uploads/2025/07/Flyer-Jesmond-September-25-1.jpg
END:VEVENT
BEGIN:VEVENT
DTSTART;TZID=Europe/London:20250922T190000
DTEND;TZID=Europe/London:20250922T210000
DTSTAMP:20260424T165923
CREATED:20250630T103307Z
LAST-MODIFIED:20250722T144251Z
UID:10056892-1758567600-1758574800@jesmondlibrary.org
SUMMARY:Play Reading
DESCRIPTION:
URL:https://jesmondlibrary.org/event/play-reading-4/2025-09-22/
LOCATION:Main room – Coffee Area
ATTACH;FMTTYPE=image/jpeg:https://jesmondlibrary.org/wp-content/uploads/2024/10/Play-Reading.jpg
ORGANIZER;CN="Jesmond Library":MAILTO:events@jesmondlibrary.org
END:VEVENT
END:VCALENDAR