BEGIN:VCALENDAR
VERSION:2.0
PRODID:-//Jesmond Library - ECPv6.15.17.1//NONSGML v1.0//EN
CALSCALE:GREGORIAN
METHOD:PUBLISH
X-WR-CALNAME:Jesmond Library
X-ORIGINAL-URL:https://jesmondlibrary.org
X-WR-CALDESC:Events for Jesmond Library
REFRESH-INTERVAL;VALUE=DURATION:PT1H
X-Robots-Tag:noindex
X-PUBLISHED-TTL:PT1H
BEGIN:VTIMEZONE
TZID:Europe/London
BEGIN:DAYLIGHT
TZOFFSETFROM:+0000
TZOFFSETTO:+0100
TZNAME:BST
DTSTART:20240331T010000
END:DAYLIGHT
BEGIN:STANDARD
TZOFFSETFROM:+0100
TZOFFSETTO:+0000
TZNAME:GMT
DTSTART:20241027T010000
END:STANDARD
BEGIN:DAYLIGHT
TZOFFSETFROM:+0000
TZOFFSETTO:+0100
TZNAME:BST
DTSTART:20250330T010000
END:DAYLIGHT
BEGIN:STANDARD
TZOFFSETFROM:+0100
TZOFFSETTO:+0000
TZNAME:GMT
DTSTART:20251026T010000
END:STANDARD
BEGIN:DAYLIGHT
TZOFFSETFROM:+0000
TZOFFSETTO:+0100
TZNAME:BST
DTSTART:20260329T010000
END:DAYLIGHT
BEGIN:STANDARD
TZOFFSETFROM:+0100
TZOFFSETTO:+0000
TZNAME:GMT
DTSTART:20261025T010000
END:STANDARD
END:VTIMEZONE
BEGIN:VEVENT
DTSTART;TZID=Europe/London:20250913T093000
DTEND;TZID=Europe/London:20250913T163000
DTSTAMP:20260424T181950
CREATED:20241023T111026Z
LAST-MODIFIED:20241023T111026Z
UID:10055100-1757755800-1757781000@jesmondlibrary.org
SUMMARY:LIBRARY OPEN SATURDAYS
DESCRIPTION:
URL:https://jesmondlibrary.org/event/library-open-saturdays/2025-09-13/
LOCATION:Main Room
ORGANIZER;CN="Jesmond Library":MAILTO:events@jesmondlibrary.org
END:VEVENT
BEGIN:VEVENT
DTSTART;TZID=Europe/London:20250913T110000
DTEND;TZID=Europe/London:20250913T130000
DTSTAMP:20260424T181950
CREATED:20250514T094358Z
LAST-MODIFIED:20250910T090920Z
UID:10056362-1757761200-1757768400@jesmondlibrary.org
SUMMARY:Keep Jesmond Clean litter pick
DESCRIPTION:
URL:https://jesmondlibrary.org/event/keep-jesmond-clean-litter-pick-8/
LOCATION:Catherine Cookson Room
ATTACH;FMTTYPE=image/jpeg:https://jesmondlibrary.org/wp-content/uploads/2025/05/Sep-2025-poster-scaled.jpeg
ORGANIZER;CN="Jesmond Library":MAILTO:events@jesmondlibrary.org
END:VEVENT
BEGIN:VEVENT
DTSTART;TZID=Europe/London:20250913T110000
DTEND;TZID=Europe/London:20250913T130000
DTSTAMP:20260424T181950
CREATED:20250815T132638Z
LAST-MODIFIED:20250828T100549Z
UID:10056982-1757761200-1757768400@jesmondlibrary.org
SUMMARY:Newcastle Frontrunners private meeting
DESCRIPTION:
URL:https://jesmondlibrary.org/event/newcastle-frontrunners-private-meeting/
LOCATION:Sid Chaplin room
END:VEVENT
BEGIN:VEVENT
DTSTART;TZID=Europe/London:20250913T133000
DTEND;TZID=Europe/London:20250913T173000
DTSTAMP:20260424T181950
CREATED:20250811T093239Z
LAST-MODIFIED:20251030T095036Z
UID:10056951-1757770200-1757784600@jesmondlibrary.org
SUMMARY:Italian Language Course for Children
DESCRIPTION:
URL:https://jesmondlibrary.org/event/italian-language-course-for-children-4/2025-09-13/
LOCATION:Sid Chaplin room
END:VEVENT
END:VCALENDAR