BEGIN:VCALENDAR
VERSION:2.0
PRODID:-//Jesmond Library - ECPv6.15.17.1//NONSGML v1.0//EN
CALSCALE:GREGORIAN
METHOD:PUBLISH
X-ORIGINAL-URL:https://jesmondlibrary.org
X-WR-CALDESC:Events for Jesmond Library
REFRESH-INTERVAL;VALUE=DURATION:PT1H
X-Robots-Tag:noindex
X-PUBLISHED-TTL:PT1H
BEGIN:VTIMEZONE
TZID:Europe/London
BEGIN:DAYLIGHT
TZOFFSETFROM:+0000
TZOFFSETTO:+0100
TZNAME:BST
DTSTART:20240331T010000
END:DAYLIGHT
BEGIN:STANDARD
TZOFFSETFROM:+0100
TZOFFSETTO:+0000
TZNAME:GMT
DTSTART:20241027T010000
END:STANDARD
BEGIN:DAYLIGHT
TZOFFSETFROM:+0000
TZOFFSETTO:+0100
TZNAME:BST
DTSTART:20250330T010000
END:DAYLIGHT
BEGIN:STANDARD
TZOFFSETFROM:+0100
TZOFFSETTO:+0000
TZNAME:GMT
DTSTART:20251026T010000
END:STANDARD
BEGIN:DAYLIGHT
TZOFFSETFROM:+0000
TZOFFSETTO:+0100
TZNAME:BST
DTSTART:20260329T010000
END:DAYLIGHT
BEGIN:STANDARD
TZOFFSETFROM:+0100
TZOFFSETTO:+0000
TZNAME:GMT
DTSTART:20261025T010000
END:STANDARD
END:VTIMEZONE
BEGIN:VEVENT
DTSTART;TZID=Europe/London:20250804T100000
DTEND;TZID=Europe/London:20250804T120000
DTSTAMP:20260420T125217
CREATED:20250530T134547Z
LAST-MODIFIED:20250707T085847Z
UID:10056754-1754301600-1754308800@jesmondlibrary.org
SUMMARY:Craft Day
DESCRIPTION:
URL:https://jesmondlibrary.org/event/craft-day-2/
LOCATION:Main Room & Catherine Cookson Room
ATTACH;FMTTYPE=image/jpeg:https://jesmondlibrary.org/wp-content/uploads/2025/05/KIDS-ACTIVITY-DAY.jpg
ORGANIZER;CN="Jesmond Library":MAILTO:events@jesmondlibrary.org
END:VEVENT
BEGIN:VEVENT
DTSTART;TZID=Europe/London:20250804T130000
DTEND;TZID=Europe/London:20250804T150000
DTSTAMP:20260420T125217
CREATED:20250530T134700Z
LAST-MODIFIED:20250707T085758Z
UID:10056755-1754312400-1754319600@jesmondlibrary.org
SUMMARY:Craft Day
DESCRIPTION:
URL:https://jesmondlibrary.org/event/craft-day-3/
LOCATION:Main Room & Catherine Cookson Room
ATTACH;FMTTYPE=image/jpeg:https://jesmondlibrary.org/wp-content/uploads/2025/05/KIDS-ACTIVITY-DAY.jpg
ORGANIZER;CN="Jesmond Library":MAILTO:events@jesmondlibrary.org
END:VEVENT
BEGIN:VEVENT
DTSTART;TZID=Europe/London:20250804T183000
DTEND;TZID=Europe/London:20250804T200000
DTSTAMP:20260420T125217
CREATED:20250630T095440Z
LAST-MODIFIED:20250630T095440Z
UID:10056785-1754332200-1754337600@jesmondlibrary.org
SUMMARY:Easy Italian summer conversation
DESCRIPTION:
URL:https://jesmondlibrary.org/event/easy-italian-summer-conversation/2025-08-04/
LOCATION:Sid Chaplin room
ATTACH;FMTTYPE=image/jpeg:https://jesmondlibrary.org/wp-content/uploads/2025/06/Summer-IT-at-Jesmond-Library.jpg
END:VEVENT
END:VCALENDAR