BEGIN:VCALENDAR
VERSION:2.0
PRODID:-//Jesmond Library - ECPv6.15.17.1//NONSGML v1.0//EN
CALSCALE:GREGORIAN
METHOD:PUBLISH
X-WR-CALNAME:Jesmond Library
X-ORIGINAL-URL:https://jesmondlibrary.org
X-WR-CALDESC:Events for Jesmond Library
REFRESH-INTERVAL;VALUE=DURATION:PT1H
X-Robots-Tag:noindex
X-PUBLISHED-TTL:PT1H
BEGIN:VTIMEZONE
TZID:Europe/London
BEGIN:DAYLIGHT
TZOFFSETFROM:+0000
TZOFFSETTO:+0100
TZNAME:BST
DTSTART:20240331T010000
END:DAYLIGHT
BEGIN:STANDARD
TZOFFSETFROM:+0100
TZOFFSETTO:+0000
TZNAME:GMT
DTSTART:20241027T010000
END:STANDARD
BEGIN:DAYLIGHT
TZOFFSETFROM:+0000
TZOFFSETTO:+0100
TZNAME:BST
DTSTART:20250330T010000
END:DAYLIGHT
BEGIN:STANDARD
TZOFFSETFROM:+0100
TZOFFSETTO:+0000
TZNAME:GMT
DTSTART:20251026T010000
END:STANDARD
BEGIN:DAYLIGHT
TZOFFSETFROM:+0000
TZOFFSETTO:+0100
TZNAME:BST
DTSTART:20260329T010000
END:DAYLIGHT
BEGIN:STANDARD
TZOFFSETFROM:+0100
TZOFFSETTO:+0000
TZNAME:GMT
DTSTART:20261025T010000
END:STANDARD
END:VTIMEZONE
BEGIN:VEVENT
DTSTART;TZID=Europe/London:20250612T093000
DTEND;TZID=Europe/London:20250612T180000
DTSTAMP:20260420T112442
CREATED:20241023T110609Z
LAST-MODIFIED:20241023T170648Z
UID:10054984-1749720600-1749751200@jesmondlibrary.org
SUMMARY:LIBRARY OPEN THURSDAYS
DESCRIPTION:
URL:https://jesmondlibrary.org/event/library-open-thursdays-2/2025-06-12/
LOCATION:Main Room
ORGANIZER;CN="Jesmond Library":MAILTO:events@jesmondlibrary.org
END:VEVENT
BEGIN:VEVENT
DTSTART;TZID=Europe/London:20250612T100000
DTEND;TZID=Europe/London:20250612T103000
DTSTAMP:20260420T112442
CREATED:20250421T152856Z
LAST-MODIFIED:20250426T101549Z
UID:10056648-1749722400-1749724200@jesmondlibrary.org
SUMMARY:Story & Rhyme Time
DESCRIPTION:
URL:https://jesmondlibrary.org/event/story-rhyme-time-8/2025-06-12/
LOCATION:Main Room
ATTACH;FMTTYPE=image/jpeg:https://jesmondlibrary.org/wp-content/uploads/2025/04/STORYTIME-1.jpg
ORGANIZER;CN="Jesmond Library":MAILTO:events@jesmondlibrary.org
END:VEVENT
BEGIN:VEVENT
DTSTART;TZID=Europe/London:20250612T100000
DTEND;TZID=Europe/London:20250612T120000
DTSTAMP:20260420T112442
CREATED:20250328T121634Z
LAST-MODIFIED:20250416T103905Z
UID:10056493-1749722400-1749729600@jesmondlibrary.org
SUMMARY:Private French conversation group
DESCRIPTION:
URL:https://jesmondlibrary.org/event/private-french-conversation-group-7/2025-06-12/
LOCATION:Sid Chaplin room
END:VEVENT
BEGIN:VEVENT
DTSTART;TZID=Europe/London:20250612T104500
DTEND;TZID=Europe/London:20250612T114500
DTSTAMP:20260420T112442
CREATED:20241028T104752Z
LAST-MODIFIED:20241028T111039Z
UID:10055771-1749725100-1749728700@jesmondlibrary.org
SUMMARY:Advanced German
DESCRIPTION:
URL:https://jesmondlibrary.org/event/advanced-german-2/2025-06-12/
LOCATION:Catherine Cookson Room
ORGANIZER;CN="Jesmond Library":MAILTO:events@jesmondlibrary.org
END:VEVENT
BEGIN:VEVENT
DTSTART;TZID=Europe/London:20250612T121500
DTEND;TZID=Europe/London:20250612T131500
DTSTAMP:20260420T112442
CREATED:20250509T151533Z
LAST-MODIFIED:20250509T151533Z
UID:10056549-1749730500-1749734100@jesmondlibrary.org
SUMMARY:Intermediate German conversation 2
DESCRIPTION:
URL:https://jesmondlibrary.org/event/intermediate-german-conversation-2-3-2/2025-06-12/
LOCATION:Catherine Cookson Room\, Jesmond Library\, Newcastle upon Tyne\, NE2 2DL\, United Kingdom
ATTACH;FMTTYPE=image/jpeg:https://jesmondlibrary.org/wp-content/uploads/2025/04/GERMAN_INT1.jpg
ORGANIZER;CN="Jesmond Library":MAILTO:events@jesmondlibrary.org
GEO:54.9932456;-1.606461
X-APPLE-STRUCTURED-LOCATION;VALUE=URI;X-ADDRESS=Catherine Cookson Room Jesmond Library Newcastle upon Tyne NE2 2DL United Kingdom;X-APPLE-RADIUS=500;X-TITLE=Jesmond Library:geo:-1.606461,54.9932456
END:VEVENT
BEGIN:VEVENT
DTSTART;TZID=Europe/London:20250612T180000
DTEND;TZID=Europe/London:20250612T190000
DTSTAMP:20260420T112442
CREATED:20250210T113651Z
LAST-MODIFIED:20250217T162243Z
UID:10056314-1749751200-1749754800@jesmondlibrary.org
SUMMARY:Thursday Talk Criminal Case: Golden Age Detective Fiction and the Country House
DESCRIPTION:Dr Stacy Gillis (Newcastle University) will discuss the place of the country house in the Golden Age detective story.  First asking why do murders often happen in the country house in Golden Age English detective fiction\, she then traces a longer history of the detective genre\, which reaches back to its origins in such Gothic novels\, which permits a reconfiguration of the country house as always having been a space of corruption\, haunting and moral disruption.
URL:https://jesmondlibrary.org/event/the-country-house-murder/
LOCATION:Main Room
ATTACH;FMTTYPE=image/jpeg:https://jesmondlibrary.org/wp-content/uploads/2025/02/Poster.jpg
ORGANIZER;CN="Jesmond Library":MAILTO:events@jesmondlibrary.org
END:VEVENT
BEGIN:VEVENT
DTSTART;TZID=Europe/London:20250612T180000
DTEND;TZID=Europe/London:20250612T193000
DTSTAMP:20260420T112442
CREATED:20241023T163657Z
LAST-MODIFIED:20241023T163657Z
UID:10055348-1749751200-1749756600@jesmondlibrary.org
SUMMARY:Spanish Conversation
DESCRIPTION:
URL:https://jesmondlibrary.org/event/spanish-conversation/2025-06-12/
LOCATION:Sid Chaplin room
ATTACH;FMTTYPE=image/jpeg:https://jesmondlibrary.org/wp-content/uploads/2024/10/Spanish-Conversation-Thursdays.jpg
ORGANIZER;CN="Jesmond Library":MAILTO:events@jesmondlibrary.org
END:VEVENT
END:VCALENDAR