BEGIN:VCALENDAR
VERSION:2.0
PRODID:-//Jesmond Library - ECPv6.15.17.1//NONSGML v1.0//EN
CALSCALE:GREGORIAN
METHOD:PUBLISH
X-ORIGINAL-URL:https://jesmondlibrary.org
X-WR-CALDESC:Events for Jesmond Library
REFRESH-INTERVAL;VALUE=DURATION:PT1H
X-Robots-Tag:noindex
X-PUBLISHED-TTL:PT1H
BEGIN:VTIMEZONE
TZID:Europe/London
BEGIN:DAYLIGHT
TZOFFSETFROM:+0000
TZOFFSETTO:+0100
TZNAME:BST
DTSTART:20240331T010000
END:DAYLIGHT
BEGIN:STANDARD
TZOFFSETFROM:+0100
TZOFFSETTO:+0000
TZNAME:GMT
DTSTART:20241027T010000
END:STANDARD
BEGIN:DAYLIGHT
TZOFFSETFROM:+0000
TZOFFSETTO:+0100
TZNAME:BST
DTSTART:20250330T010000
END:DAYLIGHT
BEGIN:STANDARD
TZOFFSETFROM:+0100
TZOFFSETTO:+0000
TZNAME:GMT
DTSTART:20251026T010000
END:STANDARD
BEGIN:DAYLIGHT
TZOFFSETFROM:+0000
TZOFFSETTO:+0100
TZNAME:BST
DTSTART:20260329T010000
END:DAYLIGHT
BEGIN:STANDARD
TZOFFSETFROM:+0100
TZOFFSETTO:+0000
TZNAME:GMT
DTSTART:20261025T010000
END:STANDARD
END:VTIMEZONE
BEGIN:VEVENT
DTSTART;TZID=Europe/London:20250508T093000
DTEND;TZID=Europe/London:20250508T180000
DTSTAMP:20260420T144223
CREATED:20241023T110609Z
LAST-MODIFIED:20241023T170648Z
UID:10054979-1746696600-1746727200@jesmondlibrary.org
SUMMARY:LIBRARY OPEN THURSDAYS
DESCRIPTION:
URL:https://jesmondlibrary.org/event/library-open-thursdays-2/2025-05-08/
LOCATION:Main Room
ORGANIZER;CN="Jesmond Library":MAILTO:events@jesmondlibrary.org
END:VEVENT
BEGIN:VEVENT
DTSTART;TZID=Europe/London:20250508T100000
DTEND;TZID=Europe/London:20250508T103000
DTSTAMP:20260420T144223
CREATED:20250421T152856Z
LAST-MODIFIED:20250426T101549Z
UID:10056644-1746698400-1746700200@jesmondlibrary.org
SUMMARY:Story & Rhyme Time
DESCRIPTION:
URL:https://jesmondlibrary.org/event/story-rhyme-time-8/2025-05-08/
LOCATION:Main Room
ATTACH;FMTTYPE=image/jpeg:https://jesmondlibrary.org/wp-content/uploads/2025/04/STORYTIME-1.jpg
ORGANIZER;CN="Jesmond Library":MAILTO:events@jesmondlibrary.org
END:VEVENT
BEGIN:VEVENT
DTSTART;TZID=Europe/London:20250508T100000
DTEND;TZID=Europe/London:20250508T120000
DTSTAMP:20260420T144223
CREATED:20250328T121634Z
LAST-MODIFIED:20250416T103905Z
UID:10056488-1746698400-1746705600@jesmondlibrary.org
SUMMARY:Private French conversation group
DESCRIPTION:
URL:https://jesmondlibrary.org/event/private-french-conversation-group-7/2025-05-08/
LOCATION:Sid Chaplin room
END:VEVENT
BEGIN:VEVENT
DTSTART;TZID=Europe/London:20250508T104500
DTEND;TZID=Europe/London:20250508T114500
DTSTAMP:20260420T144223
CREATED:20241028T104752Z
LAST-MODIFIED:20241028T111039Z
UID:10055766-1746701100-1746704700@jesmondlibrary.org
SUMMARY:Advanced German
DESCRIPTION:
URL:https://jesmondlibrary.org/event/advanced-german-2/2025-05-08/
LOCATION:Catherine Cookson Room
ORGANIZER;CN="Jesmond Library":MAILTO:events@jesmondlibrary.org
END:VEVENT
BEGIN:VEVENT
DTSTART;TZID=Europe/London:20250508T121500
DTEND;TZID=Europe/London:20250508T131500
DTSTAMP:20260420T144224
CREATED:20250401T124312Z
LAST-MODIFIED:20250411T090405Z
UID:10056544-1746706500-1746710100@jesmondlibrary.org
SUMMARY:Intermediate German conversation 2
DESCRIPTION:
URL:https://jesmondlibrary.org/event/intermediate-german-conversation-2-3/2025-05-08/
LOCATION:Sid Chaplin room
ATTACH;FMTTYPE=image/jpeg:https://jesmondlibrary.org/wp-content/uploads/2025/04/GERMAN_INT1.jpg
ORGANIZER;CN="Jesmond Library":MAILTO:events@jesmondlibrary.org
END:VEVENT
BEGIN:VEVENT
DTSTART;TZID=Europe/London:20250508T180000
DTEND;TZID=Europe/London:20250508T190000
DTSTAMP:20260420T144224
CREATED:20250215T105109Z
LAST-MODIFIED:20250217T162402Z
UID:10056357-1746727200-1746730800@jesmondlibrary.org
SUMMARY:Thursday Talk The History of the North East in 20 Stones
DESCRIPTION:Can you sum up almost 500 million years of the region’s history in a 40 minute talk about 20 stones? And connect those rocks to its wildlife\, history\, economy\, culture and future? Come and listen to local geologist and author Ian Jackson\, try to do just that.
URL:https://jesmondlibrary.org/event/thursday-talk-the-history-of-the-north-east-in-20-stones/
LOCATION:Main Room
ATTACH;FMTTYPE=image/jpeg:https://jesmondlibrary.org/wp-content/uploads/2025/02/Ian-Jackson-poster.jpg
ORGANIZER;CN="Jesmond Library":MAILTO:events@jesmondlibrary.org
END:VEVENT
BEGIN:VEVENT
DTSTART;TZID=Europe/London:20250508T180000
DTEND;TZID=Europe/London:20250508T193000
DTSTAMP:20260420T144224
CREATED:20241023T163657Z
LAST-MODIFIED:20241023T163657Z
UID:10055343-1746727200-1746732600@jesmondlibrary.org
SUMMARY:Spanish Conversation
DESCRIPTION:
URL:https://jesmondlibrary.org/event/spanish-conversation/2025-05-08/
LOCATION:Sid Chaplin room
ATTACH;FMTTYPE=image/jpeg:https://jesmondlibrary.org/wp-content/uploads/2024/10/Spanish-Conversation-Thursdays.jpg
ORGANIZER;CN="Jesmond Library":MAILTO:events@jesmondlibrary.org
END:VEVENT
END:VCALENDAR