BEGIN:VCALENDAR
VERSION:2.0
PRODID:-//Jesmond Library - ECPv6.15.17.1//NONSGML v1.0//EN
CALSCALE:GREGORIAN
METHOD:PUBLISH
X-WR-CALNAME:Jesmond Library
X-ORIGINAL-URL:https://jesmondlibrary.org
X-WR-CALDESC:Events for Jesmond Library
REFRESH-INTERVAL;VALUE=DURATION:PT1H
X-Robots-Tag:noindex
X-PUBLISHED-TTL:PT1H
BEGIN:VTIMEZONE
TZID:Europe/London
BEGIN:DAYLIGHT
TZOFFSETFROM:+0000
TZOFFSETTO:+0100
TZNAME:BST
DTSTART:20240331T010000
END:DAYLIGHT
BEGIN:STANDARD
TZOFFSETFROM:+0100
TZOFFSETTO:+0000
TZNAME:GMT
DTSTART:20241027T010000
END:STANDARD
BEGIN:DAYLIGHT
TZOFFSETFROM:+0000
TZOFFSETTO:+0100
TZNAME:BST
DTSTART:20250330T010000
END:DAYLIGHT
BEGIN:STANDARD
TZOFFSETFROM:+0100
TZOFFSETTO:+0000
TZNAME:GMT
DTSTART:20251026T010000
END:STANDARD
BEGIN:DAYLIGHT
TZOFFSETFROM:+0000
TZOFFSETTO:+0100
TZNAME:BST
DTSTART:20260329T010000
END:DAYLIGHT
BEGIN:STANDARD
TZOFFSETFROM:+0100
TZOFFSETTO:+0000
TZNAME:GMT
DTSTART:20261025T010000
END:STANDARD
END:VTIMEZONE
BEGIN:VEVENT
DTSTART;TZID=Europe/London:20250409T140000
DTEND;TZID=Europe/London:20250409T150000
DTSTAMP:20260420T112910
CREATED:20250322T162323Z
LAST-MODIFIED:20250322T162605Z
UID:10056483-1744207200-1744210800@jesmondlibrary.org
SUMMARY:French Book Club
DESCRIPTION:
URL:https://jesmondlibrary.org/event/french-book-club-2/
LOCATION:Sid Chaplin room
END:VEVENT
BEGIN:VEVENT
DTSTART;TZID=Europe/London:20250409T190000
DTEND;TZID=Europe/London:20250409T200000
DTSTAMP:20260420T112910
CREATED:20241017T080546Z
LAST-MODIFIED:20241017T081003Z
UID:10054849-1744225200-1744228800@jesmondlibrary.org
SUMMARY:Book group - Nikki Erlich - The Measure
DESCRIPTION:
URL:https://jesmondlibrary.org/event/book-group-nikki-erlich-the-measure/
LOCATION:Main Room
ATTACH;FMTTYPE=image/jpeg:https://jesmondlibrary.org/wp-content/uploads/2024/10/81hzIZIN8L._SY522_.jpg
ORGANIZER;CN="Jesmond Library":MAILTO:events@jesmondlibrary.org
END:VEVENT
BEGIN:VEVENT
DTSTART;TZID=Europe/London:20250409T190000
DTEND;TZID=Europe/London:20250409T210000
DTSTAMP:20260420T112910
CREATED:20241023T163251Z
LAST-MODIFIED:20241023T163251Z
UID:10055288-1744225200-1744232400@jesmondlibrary.org
SUMMARY:Serene Reflections
DESCRIPTION:
URL:https://jesmondlibrary.org/event/serene-reflections-2/2025-04-09/
LOCATION:Sid Chaplin room
END:VEVENT
END:VCALENDAR