BEGIN:VCALENDAR
VERSION:2.0
PRODID:-//Jesmond Library - ECPv6.15.17.1//NONSGML v1.0//EN
CALSCALE:GREGORIAN
METHOD:PUBLISH
X-WR-CALNAME:Jesmond Library
X-ORIGINAL-URL:https://jesmondlibrary.org
X-WR-CALDESC:Events for Jesmond Library
REFRESH-INTERVAL;VALUE=DURATION:PT1H
X-Robots-Tag:noindex
X-PUBLISHED-TTL:PT1H
BEGIN:VTIMEZONE
TZID:Europe/London
BEGIN:DAYLIGHT
TZOFFSETFROM:+0000
TZOFFSETTO:+0100
TZNAME:BST
DTSTART:20240331T010000
END:DAYLIGHT
BEGIN:STANDARD
TZOFFSETFROM:+0100
TZOFFSETTO:+0000
TZNAME:GMT
DTSTART:20241027T010000
END:STANDARD
BEGIN:DAYLIGHT
TZOFFSETFROM:+0000
TZOFFSETTO:+0100
TZNAME:BST
DTSTART:20250330T010000
END:DAYLIGHT
BEGIN:STANDARD
TZOFFSETFROM:+0100
TZOFFSETTO:+0000
TZNAME:GMT
DTSTART:20251026T010000
END:STANDARD
BEGIN:DAYLIGHT
TZOFFSETFROM:+0000
TZOFFSETTO:+0100
TZNAME:BST
DTSTART:20260329T010000
END:DAYLIGHT
BEGIN:STANDARD
TZOFFSETFROM:+0100
TZOFFSETTO:+0000
TZNAME:GMT
DTSTART:20261025T010000
END:STANDARD
END:VTIMEZONE
BEGIN:VEVENT
DTSTART;TZID=Europe/London:20250313T093000
DTEND;TZID=Europe/London:20250313T180000
DTSTAMP:20260424T132716
CREATED:20241023T110609Z
LAST-MODIFIED:20241023T170648Z
UID:10054971-1741858200-1741888800@jesmondlibrary.org
SUMMARY:LIBRARY OPEN THURSDAYS
DESCRIPTION:
URL:https://jesmondlibrary.org/event/library-open-thursdays-2/2025-03-13/
LOCATION:Main Room
ORGANIZER;CN="Jesmond Library":MAILTO:events@jesmondlibrary.org
END:VEVENT
BEGIN:VEVENT
DTSTART;TZID=Europe/London:20250313T100000
DTEND;TZID=Europe/London:20250313T103000
DTSTAMP:20260424T132716
CREATED:20250207T104815Z
LAST-MODIFIED:20250307T151232Z
UID:10056297-1741860000-1741861800@jesmondlibrary.org
SUMMARY:Story & Rhyme time
DESCRIPTION:
URL:https://jesmondlibrary.org/event/story-rhyme-time-7/2025-03-13/
LOCATION:Main Room
ATTACH;FMTTYPE=image/jpeg:https://jesmondlibrary.org/wp-content/uploads/2025/02/STORYTIME.jpg
ORGANIZER;CN="Jesmond Library":MAILTO:events@jesmondlibrary.org
END:VEVENT
BEGIN:VEVENT
DTSTART;TZID=Europe/London:20250313T100000
DTEND;TZID=Europe/London:20250313T120000
DTSTAMP:20260424T132716
CREATED:20241217T104621Z
LAST-MODIFIED:20241217T104813Z
UID:10055950-1741860000-1741867200@jesmondlibrary.org
SUMMARY:Private French conversation group
DESCRIPTION:
URL:https://jesmondlibrary.org/event/private-french-conversation-group-6/2025-03-13/
LOCATION:Sid Chaplin room
END:VEVENT
BEGIN:VEVENT
DTSTART;TZID=Europe/London:20250313T104500
DTEND;TZID=Europe/London:20250313T114500
DTSTAMP:20260424T132716
CREATED:20241028T104752Z
LAST-MODIFIED:20241028T111039Z
UID:10055758-1741862700-1741866300@jesmondlibrary.org
SUMMARY:Advanced German
DESCRIPTION:
URL:https://jesmondlibrary.org/event/advanced-german-2/2025-03-13/
LOCATION:Catherine Cookson Room
ORGANIZER;CN="Jesmond Library":MAILTO:events@jesmondlibrary.org
END:VEVENT
BEGIN:VEVENT
DTSTART;TZID=Europe/London:20250313T180000
DTEND;TZID=Europe/London:20250313T190000
DTSTAMP:20260424T132716
CREATED:20250210T113014Z
LAST-MODIFIED:20250217T221424Z
UID:10056312-1741888800-1741892400@jesmondlibrary.org
SUMMARY:Thursday Talk The Railway Murder of 1910
DESCRIPTION:Was the execution of John Dickman of Lily Avenue for the murder of John Nisbet a miscarriage of justice or the deserved end for a cold-blooded killer?
URL:https://jesmondlibrary.org/event/the-1910-railway-murder/
LOCATION:Main Room
ATTACH;FMTTYPE=image/jpeg:https://jesmondlibrary.org/wp-content/uploads/2025/02/Karl-Cain.jpg
ORGANIZER;CN="Jesmond Library":MAILTO:events@jesmondlibrary.org
END:VEVENT
BEGIN:VEVENT
DTSTART;TZID=Europe/London:20250313T180000
DTEND;TZID=Europe/London:20250313T193000
DTSTAMP:20260424T132716
CREATED:20241023T163657Z
LAST-MODIFIED:20241023T163657Z
UID:10055335-1741888800-1741894200@jesmondlibrary.org
SUMMARY:Spanish Conversation
DESCRIPTION:
URL:https://jesmondlibrary.org/event/spanish-conversation/2025-03-13/
LOCATION:Sid Chaplin room
ATTACH;FMTTYPE=image/jpeg:https://jesmondlibrary.org/wp-content/uploads/2024/10/Spanish-Conversation-Thursdays.jpg
ORGANIZER;CN="Jesmond Library":MAILTO:events@jesmondlibrary.org
END:VEVENT
END:VCALENDAR