BEGIN:VCALENDAR
VERSION:2.0
PRODID:-//Jesmond Library - ECPv6.15.17.1//NONSGML v1.0//EN
CALSCALE:GREGORIAN
METHOD:PUBLISH
X-ORIGINAL-URL:https://jesmondlibrary.org
X-WR-CALDESC:Events for Jesmond Library
REFRESH-INTERVAL;VALUE=DURATION:PT1H
X-Robots-Tag:noindex
X-PUBLISHED-TTL:PT1H
BEGIN:VTIMEZONE
TZID:Europe/London
BEGIN:DAYLIGHT
TZOFFSETFROM:+0000
TZOFFSETTO:+0100
TZNAME:BST
DTSTART:20240331T010000
END:DAYLIGHT
BEGIN:STANDARD
TZOFFSETFROM:+0100
TZOFFSETTO:+0000
TZNAME:GMT
DTSTART:20241027T010000
END:STANDARD
BEGIN:DAYLIGHT
TZOFFSETFROM:+0000
TZOFFSETTO:+0100
TZNAME:BST
DTSTART:20250330T010000
END:DAYLIGHT
BEGIN:STANDARD
TZOFFSETFROM:+0100
TZOFFSETTO:+0000
TZNAME:GMT
DTSTART:20251026T010000
END:STANDARD
BEGIN:DAYLIGHT
TZOFFSETFROM:+0000
TZOFFSETTO:+0100
TZNAME:BST
DTSTART:20260329T010000
END:DAYLIGHT
BEGIN:STANDARD
TZOFFSETFROM:+0100
TZOFFSETTO:+0000
TZNAME:GMT
DTSTART:20261025T010000
END:STANDARD
END:VTIMEZONE
BEGIN:VEVENT
DTSTART;TZID=Europe/London:20250311T093000
DTEND;TZID=Europe/London:20250311T163000
DTSTAMP:20260420T112116
CREATED:20231205T112520Z
LAST-MODIFIED:20240126T103620Z
UID:10053424-1741685400-1741710600@jesmondlibrary.org
SUMMARY:LIBRARY OPEN TUESDAYS
DESCRIPTION:
URL:https://jesmondlibrary.org/event/library-open-2024/2025-03-11/
LOCATION:Main Room
ORGANIZER;CN="Jesmond Library":MAILTO:events@jesmondlibrary.org
END:VEVENT
BEGIN:VEVENT
DTSTART;TZID=Europe/London:20250311T100000
DTEND;TZID=Europe/London:20250311T110000
DTSTAMP:20260420T112116
CREATED:20241023T155710Z
LAST-MODIFIED:20241024T100537Z
UID:10055125-1741687200-1741690800@jesmondlibrary.org
SUMMARY:Intermediate German conversation
DESCRIPTION:
URL:https://jesmondlibrary.org/event/intermediate-german/2025-03-11/
LOCATION:Sid Chaplin room
ATTACH;FMTTYPE=image/jpeg:https://jesmondlibrary.org/wp-content/uploads/2024/10/Int-German-Waiting-List.jpg
ORGANIZER;CN="Jesmond Library":MAILTO:events@jesmondlibrary.org
END:VEVENT
BEGIN:VEVENT
DTSTART;TZID=Europe/London:20250311T100000
DTEND;TZID=Europe/London:20250311T120000
DTSTAMP:20260420T112116
CREATED:20240522T095955Z
LAST-MODIFIED:20241028T103549Z
UID:10054526-1741687200-1741694400@jesmondlibrary.org
SUMMARY:Current Affairs Discussion Group
DESCRIPTION:
URL:https://jesmondlibrary.org/event/current-affairs-discussion-group-3/2025-03-11/
LOCATION:Catherine Cookson Room
ATTACH;FMTTYPE=image/jpeg:https://jesmondlibrary.org/wp-content/uploads/2024/05/CURRENT-AFFAIRS.jpg
ORGANIZER;CN="Jesmond Library":MAILTO:events@jesmondlibrary.org
END:VEVENT
BEGIN:VEVENT
DTSTART;TZID=Europe/London:20250311T110000
DTEND;TZID=Europe/London:20250311T120000
DTSTAMP:20260420T112116
CREATED:20241023T161124Z
LAST-MODIFIED:20241023T161124Z
UID:10055184-1741690800-1741694400@jesmondlibrary.org
SUMMARY:Beginners' Spanish Conversation
DESCRIPTION:
URL:https://jesmondlibrary.org/event/beginners-spanish-conversation/2025-03-11/
LOCATION:Sid Chaplin room
ATTACH;FMTTYPE=image/jpeg:https://jesmondlibrary.org/wp-content/uploads/2024/10/Spanish-Beginners-Tuesdays.jpg
ORGANIZER;CN="Jesmond Library":MAILTO:events@jesmondlibrary.org
END:VEVENT
BEGIN:VEVENT
DTSTART;TZID=Europe/London:20250311T120000
DTEND;TZID=Europe/London:20250311T130000
DTSTAMP:20260420T112116
CREATED:20241023T161851Z
LAST-MODIFIED:20250811T105251Z
UID:10055234-1741694400-1741698000@jesmondlibrary.org
SUMMARY:Italian Conversation with Antonella
DESCRIPTION:
URL:https://jesmondlibrary.org/event/italian-conversation-with-antonella-5/2025-03-11/
LOCATION:Catherine Cookson Room
ATTACH;FMTTYPE=image/jpeg:https://jesmondlibrary.org/wp-content/uploads/2024/10/ITALIAN-Conversation.jpg
ORGANIZER;CN="Jesmond Library":MAILTO:events@jesmondlibrary.org
END:VEVENT
BEGIN:VEVENT
DTSTART;TZID=Europe/London:20250311T130000
DTEND;TZID=Europe/London:20250311T140000
DTSTAMP:20260420T112116
CREATED:20241024T100012Z
LAST-MODIFIED:20241024T100012Z
UID:10055671-1741698000-1741701600@jesmondlibrary.org
SUMMARY:Intermediate French conversation
DESCRIPTION:
URL:https://jesmondlibrary.org/event/intermediate-french-conversation/2025-03-11/
LOCATION:Catherine Cookson Room
ATTACH;FMTTYPE=image/jpeg:https://jesmondlibrary.org/wp-content/uploads/2024/10/French-Intermediate-Waiting-List.jpg
ORGANIZER;CN="Jesmond Library":MAILTO:events@jesmondlibrary.org
END:VEVENT
BEGIN:VEVENT
DTSTART;TZID=Europe/London:20250311T141500
DTEND;TZID=Europe/London:20250311T154500
DTSTAMP:20260420T112116
CREATED:20250120T144441Z
LAST-MODIFIED:20250120T144514Z
UID:10056122-1741702500-1741707900@jesmondlibrary.org
SUMMARY:Craft 'n' Chat
DESCRIPTION:
URL:https://jesmondlibrary.org/event/craft-n-chat-6/2025-03-11/
LOCATION:Catherine Cookson Room
ATTACH;FMTTYPE=image/jpeg:https://jesmondlibrary.org/wp-content/uploads/2023/02/CRAFT-N-CHAT-1.jpg
ORGANIZER;CN="Jesmond Library":MAILTO:events@jesmondlibrary.org
END:VEVENT
BEGIN:VEVENT
DTSTART;TZID=Europe/London:20250311T164500
DTEND;TZID=Europe/London:20250311T174500
DTSTAMP:20260420T112116
CREATED:20250204T172023Z
LAST-MODIFIED:20250204T172056Z
UID:10055728-1741711500-1741715100@jesmondlibrary.org
SUMMARY:Keep Jesmond Clean meeting & AGM
DESCRIPTION:
URL:https://jesmondlibrary.org/event/keep-jesmond-clean-meeting-12/
LOCATION:Main Room
ATTACH;FMTTYPE=image/jpeg:https://jesmondlibrary.org/wp-content/uploads/2024/07/KJC-generic-JPEG.jpg
END:VEVENT
END:VCALENDAR