BEGIN:VCALENDAR
VERSION:2.0
PRODID:-//Jesmond Library - ECPv6.15.17.1//NONSGML v1.0//EN
CALSCALE:GREGORIAN
METHOD:PUBLISH
X-ORIGINAL-URL:https://jesmondlibrary.org
X-WR-CALDESC:Events for Jesmond Library
REFRESH-INTERVAL;VALUE=DURATION:PT1H
X-Robots-Tag:noindex
X-PUBLISHED-TTL:PT1H
BEGIN:VTIMEZONE
TZID:Europe/London
BEGIN:DAYLIGHT
TZOFFSETFROM:+0000
TZOFFSETTO:+0100
TZNAME:BST
DTSTART:20240331T010000
END:DAYLIGHT
BEGIN:STANDARD
TZOFFSETFROM:+0100
TZOFFSETTO:+0000
TZNAME:GMT
DTSTART:20241027T010000
END:STANDARD
BEGIN:DAYLIGHT
TZOFFSETFROM:+0000
TZOFFSETTO:+0100
TZNAME:BST
DTSTART:20250330T010000
END:DAYLIGHT
BEGIN:STANDARD
TZOFFSETFROM:+0100
TZOFFSETTO:+0000
TZNAME:GMT
DTSTART:20251026T010000
END:STANDARD
BEGIN:DAYLIGHT
TZOFFSETFROM:+0000
TZOFFSETTO:+0100
TZNAME:BST
DTSTART:20260329T010000
END:DAYLIGHT
BEGIN:STANDARD
TZOFFSETFROM:+0100
TZOFFSETTO:+0000
TZNAME:GMT
DTSTART:20261025T010000
END:STANDARD
END:VTIMEZONE
BEGIN:VEVENT
DTSTART;TZID=Europe/London:20250110T093000
DTEND;TZID=Europe/London:20250110T123000
DTSTAMP:20260424T125237
CREATED:20241023T110859Z
LAST-MODIFIED:20241023T110859Z
UID:10055014-1736501400-1736512200@jesmondlibrary.org
SUMMARY:LIBRARY OPEN FRIDAYS
DESCRIPTION:
URL:https://jesmondlibrary.org/event/library-open-fridays/2025-01-10/
LOCATION:Main Room
ORGANIZER;CN="Jesmond Library":MAILTO:events@jesmondlibrary.org
END:VEVENT
BEGIN:VEVENT
DTSTART;TZID=Europe/London:20250110T093000
DTEND;TZID=Europe/London:20250110T123000
DTSTAMP:20260424T125237
CREATED:20250108T151836Z
LAST-MODIFIED:20250108T151907Z
UID:10055388-1736501400-1736512200@jesmondlibrary.org
SUMMARY:*Class cancelled* English Language Conversation Class
DESCRIPTION:
URL:https://jesmondlibrary.org/event/english-language-conversation-class-4/
ATTACH;FMTTYPE=image/jpeg:https://jesmondlibrary.org/wp-content/uploads/2023/12/ENGLISH-LANGUAGE.jpg
ORGANIZER;CN="Jesmond Library":MAILTO:events@jesmondlibrary.org
END:VEVENT
BEGIN:VEVENT
DTSTART;TZID=Europe/London:20250110T093000
DTEND;TZID=Europe/London:20250110T123000
DTSTAMP:20260424T125237
CREATED:20250108T152002Z
LAST-MODIFIED:20250108T152044Z
UID:10056012-1736501400-1736512200@jesmondlibrary.org
SUMMARY:*Class cancelled* English Language conversation class lower level
DESCRIPTION:
URL:https://jesmondlibrary.org/event/english-language-conversation-class-lower-level-3/
ATTACH;FMTTYPE=image/jpeg:https://jesmondlibrary.org/wp-content/uploads/2023/12/ENGLISH-LANGUAGE.jpg
ORGANIZER;CN="Jesmond Library":MAILTO:events@jesmondlibrary.org
END:VEVENT
BEGIN:VEVENT
DTSTART;TZID=Europe/London:20250110T103000
DTEND;TZID=Europe/London:20250110T113000
DTSTAMP:20260424T125237
CREATED:20241221T102435Z
LAST-MODIFIED:20241221T105906Z
UID:10056071-1736505000-1736508600@jesmondlibrary.org
SUMMARY:Northumbria Police Drop-In
DESCRIPTION:
URL:https://jesmondlibrary.org/event/northumbria-police-drop-in/2025-01-10/
LOCATION:Main Room
ATTACH;FMTTYPE=image/jpeg:https://jesmondlibrary.org/wp-content/uploads/2024/12/Police-Drop-In-1.jpg
ORGANIZER;CN="Jesmond Library":MAILTO:events@jesmondlibrary.org
END:VEVENT
END:VCALENDAR