BEGIN:VCALENDAR
VERSION:2.0
PRODID:-//Jesmond Library - ECPv6.15.17.1//NONSGML v1.0//EN
CALSCALE:GREGORIAN
METHOD:PUBLISH
X-WR-CALNAME:Jesmond Library
X-ORIGINAL-URL:https://jesmondlibrary.org
X-WR-CALDESC:Events for Jesmond Library
REFRESH-INTERVAL;VALUE=DURATION:PT1H
X-Robots-Tag:noindex
X-PUBLISHED-TTL:PT1H
BEGIN:VTIMEZONE
TZID:Europe/London
BEGIN:DAYLIGHT
TZOFFSETFROM:+0000
TZOFFSETTO:+0100
TZNAME:BST
DTSTART:20230326T010000
END:DAYLIGHT
BEGIN:STANDARD
TZOFFSETFROM:+0100
TZOFFSETTO:+0000
TZNAME:GMT
DTSTART:20231029T010000
END:STANDARD
BEGIN:DAYLIGHT
TZOFFSETFROM:+0000
TZOFFSETTO:+0100
TZNAME:BST
DTSTART:20240331T010000
END:DAYLIGHT
BEGIN:STANDARD
TZOFFSETFROM:+0100
TZOFFSETTO:+0000
TZNAME:GMT
DTSTART:20241027T010000
END:STANDARD
BEGIN:DAYLIGHT
TZOFFSETFROM:+0000
TZOFFSETTO:+0100
TZNAME:BST
DTSTART:20250330T010000
END:DAYLIGHT
BEGIN:STANDARD
TZOFFSETFROM:+0100
TZOFFSETTO:+0000
TZNAME:GMT
DTSTART:20251026T010000
END:STANDARD
END:VTIMEZONE
BEGIN:VEVENT
DTSTART;TZID=Europe/London:20241028T130000
DTEND;TZID=Europe/London:20241028T160000
DTSTAMP:20260420T022745
CREATED:20240925T104435Z
LAST-MODIFIED:20240925T104435Z
UID:10054793-1730120400-1730131200@jesmondlibrary.org
SUMMARY:Northumbria University: Exploring Place and Space
DESCRIPTION:
URL:https://jesmondlibrary.org/event/northumbria-university-exploring-place-and-space/
LOCATION:Main Room
END:VEVENT
BEGIN:VEVENT
DTSTART;TZID=Europe/London:20241028T133000
DTEND;TZID=Europe/London:20241028T143000
DTSTAMP:20260420T022745
CREATED:20240923T144111Z
LAST-MODIFIED:20240924T115024Z
UID:10054790-1730122200-1730125800@jesmondlibrary.org
SUMMARY:Private French Book Club
DESCRIPTION:
URL:https://jesmondlibrary.org/event/private-french-book-club-tbc/
LOCATION:Sid Chaplin room
END:VEVENT
BEGIN:VEVENT
DTSTART;TZID=Europe/London:20241028T181500
DTEND;TZID=Europe/London:20241028T201500
DTSTAMP:20260420T022745
CREATED:20240719T095754Z
LAST-MODIFIED:20240904T093217Z
UID:10054646-1730139300-1730146500@jesmondlibrary.org
SUMMARY:Italian for Total Beginners
DESCRIPTION:
URL:https://jesmondlibrary.org/event/italian-for-total-beginners-2/2024-10-28/
LOCATION:Sid Chaplin room
ATTACH;FMTTYPE=image/jpeg:https://jesmondlibrary.org/wp-content/uploads/2024/07/Flyer-IT-Mondays.jpg
END:VEVENT
BEGIN:VEVENT
DTSTART;TZID=Europe/London:20241028T190000
DTEND;TZID=Europe/London:20241028T210000
DTSTAMP:20260420T022745
CREATED:20231115T115444Z
LAST-MODIFIED:20240610T150051Z
UID:10053259-1730142000-1730149200@jesmondlibrary.org
SUMMARY:Play Reading
DESCRIPTION:
URL:https://jesmondlibrary.org/event/play-reading-2-2024-01-29/2024-10-28/
LOCATION:Main Room
ATTACH;FMTTYPE=image/jpeg:https://jesmondlibrary.org/wp-content/uploads/2022/11/PLAY-READING.jpg
ORGANIZER;CN="Jesmond Library":MAILTO:events@jesmondlibrary.org
END:VEVENT
END:VCALENDAR