BEGIN:VCALENDAR
VERSION:2.0
PRODID:-//Jesmond Library - ECPv6.15.17.1//NONSGML v1.0//EN
CALSCALE:GREGORIAN
METHOD:PUBLISH
X-WR-CALNAME:Jesmond Library
X-ORIGINAL-URL:https://jesmondlibrary.org
X-WR-CALDESC:Events for Jesmond Library
REFRESH-INTERVAL;VALUE=DURATION:PT1H
X-Robots-Tag:noindex
X-PUBLISHED-TTL:PT1H
BEGIN:VTIMEZONE
TZID:Europe/London
BEGIN:DAYLIGHT
TZOFFSETFROM:+0000
TZOFFSETTO:+0100
TZNAME:BST
DTSTART:20230326T010000
END:DAYLIGHT
BEGIN:STANDARD
TZOFFSETFROM:+0100
TZOFFSETTO:+0000
TZNAME:GMT
DTSTART:20231029T010000
END:STANDARD
BEGIN:DAYLIGHT
TZOFFSETFROM:+0000
TZOFFSETTO:+0100
TZNAME:BST
DTSTART:20240331T010000
END:DAYLIGHT
BEGIN:STANDARD
TZOFFSETFROM:+0100
TZOFFSETTO:+0000
TZNAME:GMT
DTSTART:20241027T010000
END:STANDARD
BEGIN:DAYLIGHT
TZOFFSETFROM:+0000
TZOFFSETTO:+0100
TZNAME:BST
DTSTART:20250330T010000
END:DAYLIGHT
BEGIN:STANDARD
TZOFFSETFROM:+0100
TZOFFSETTO:+0000
TZNAME:GMT
DTSTART:20251026T010000
END:STANDARD
END:VTIMEZONE
BEGIN:VEVENT
DTSTART;TZID=Europe/London:20241021T093000
DTEND;TZID=Europe/London:20241021T101500
DTSTAMP:20260421T113018
CREATED:20240814T094140Z
LAST-MODIFIED:20240814T094140Z
UID:10054737-1729503000-1729505700@jesmondlibrary.org
SUMMARY:Los Pequenos Pre-school Spanish
DESCRIPTION:
URL:https://jesmondlibrary.org/event/los-pequenos-pre-school-spanish-3/2024-10-21/
LOCATION:Catherine Cookson Room
ATTACH;FMTTYPE=image/png:https://jesmondlibrary.org/wp-content/uploads/2024/08/Little_ones_Spanish_Sept_20241.png
END:VEVENT
BEGIN:VEVENT
DTSTART;TZID=Europe/London:20241021T181500
DTEND;TZID=Europe/London:20241021T201500
DTSTAMP:20260421T113018
CREATED:20240719T095754Z
LAST-MODIFIED:20240904T093217Z
UID:10054645-1729534500-1729541700@jesmondlibrary.org
SUMMARY:Italian for Total Beginners
DESCRIPTION:
URL:https://jesmondlibrary.org/event/italian-for-total-beginners-2/2024-10-21/
LOCATION:Sid Chaplin room
ATTACH;FMTTYPE=image/jpeg:https://jesmondlibrary.org/wp-content/uploads/2024/07/Flyer-IT-Mondays.jpg
END:VEVENT
BEGIN:VEVENT
DTSTART;TZID=Europe/London:20241021T190000
DTEND;TZID=Europe/London:20241021T210000
DTSTAMP:20260421T113018
CREATED:20231115T115444Z
LAST-MODIFIED:20240610T150051Z
UID:10053258-1729537200-1729544400@jesmondlibrary.org
SUMMARY:Play Reading
DESCRIPTION:
URL:https://jesmondlibrary.org/event/play-reading-2-2024-01-29/2024-10-21/
LOCATION:Main Room
ATTACH;FMTTYPE=image/jpeg:https://jesmondlibrary.org/wp-content/uploads/2022/11/PLAY-READING.jpg
ORGANIZER;CN="Jesmond Library":MAILTO:events@jesmondlibrary.org
END:VEVENT
END:VCALENDAR