BEGIN:VCALENDAR
VERSION:2.0
PRODID:-//Jesmond Library - ECPv6.15.17.1//NONSGML v1.0//EN
CALSCALE:GREGORIAN
METHOD:PUBLISH
X-WR-CALNAME:Jesmond Library
X-ORIGINAL-URL:https://jesmondlibrary.org
X-WR-CALDESC:Events for Jesmond Library
REFRESH-INTERVAL;VALUE=DURATION:PT1H
X-Robots-Tag:noindex
X-PUBLISHED-TTL:PT1H
BEGIN:VTIMEZONE
TZID:Europe/London
BEGIN:DAYLIGHT
TZOFFSETFROM:+0000
TZOFFSETTO:+0100
TZNAME:BST
DTSTART:20230326T010000
END:DAYLIGHT
BEGIN:STANDARD
TZOFFSETFROM:+0100
TZOFFSETTO:+0000
TZNAME:GMT
DTSTART:20231029T010000
END:STANDARD
BEGIN:DAYLIGHT
TZOFFSETFROM:+0000
TZOFFSETTO:+0100
TZNAME:BST
DTSTART:20240331T010000
END:DAYLIGHT
BEGIN:STANDARD
TZOFFSETFROM:+0100
TZOFFSETTO:+0000
TZNAME:GMT
DTSTART:20241027T010000
END:STANDARD
BEGIN:DAYLIGHT
TZOFFSETFROM:+0000
TZOFFSETTO:+0100
TZNAME:BST
DTSTART:20250330T010000
END:DAYLIGHT
BEGIN:STANDARD
TZOFFSETFROM:+0100
TZOFFSETTO:+0000
TZNAME:GMT
DTSTART:20251026T010000
END:STANDARD
END:VTIMEZONE
BEGIN:VEVENT
DTSTART;TZID=Europe/London:20241017T093000
DTEND;TZID=Europe/London:20241017T180000
DTSTAMP:20260421T100054
CREATED:20231205T112652Z
LAST-MODIFIED:20240103T135518Z
UID:10053002-1729157400-1729188000@jesmondlibrary.org
SUMMARY:LIBRARY OPEN THURSDAYS
DESCRIPTION:
URL:https://jesmondlibrary.org/event/library-open-thursdays-2024/2024-10-17/
LOCATION:Main Room
ORGANIZER;CN="Jesmond Library":MAILTO:events@jesmondlibrary.org
END:VEVENT
BEGIN:VEVENT
DTSTART;TZID=Europe/London:20241017T100000
DTEND;TZID=Europe/London:20241017T110000
DTSTAMP:20260421T100054
CREATED:20240803T095804Z
LAST-MODIFIED:20240806T112426Z
UID:10054723-1729159200-1729162800@jesmondlibrary.org
SUMMARY:Story & Rhyme Time
DESCRIPTION:
URL:https://jesmondlibrary.org/event/story-rhyme-time-4/2024-10-17/
LOCATION:Main Room
ATTACH;FMTTYPE=image/jpeg:https://jesmondlibrary.org/wp-content/uploads/2024/08/STORYTIME1.jpg
ORGANIZER;CN="Jesmond Library":MAILTO:events@jesmondlibrary.org
END:VEVENT
BEGIN:VEVENT
DTSTART;TZID=Europe/London:20241017T100000
DTEND;TZID=Europe/London:20241017T120000
DTSTAMP:20260421T100054
CREATED:20240615T144146Z
LAST-MODIFIED:20241213T171830Z
UID:10054549-1729159200-1729166400@jesmondlibrary.org
SUMMARY:Private French conversation group
DESCRIPTION:
URL:https://jesmondlibrary.org/event/private-french-conversation-group-4/2024-10-17/
LOCATION:Sid Chaplin room
END:VEVENT
BEGIN:VEVENT
DTSTART;TZID=Europe/London:20241017T104500
DTEND;TZID=Europe/London:20241017T114500
DTSTAMP:20260421T100054
CREATED:20231118T114334Z
LAST-MODIFIED:20231229T120427Z
UID:10052831-1729161900-1729165500@jesmondlibrary.org
SUMMARY:Advanced German conversation group
DESCRIPTION:
URL:https://jesmondlibrary.org/event/advanced-german/2024-10-17/
LOCATION:Catherine Cookson Room\, Jesmond Library\, Newcastle upon Tyne\, NE2 2DL\, United Kingdom
ORGANIZER;CN="Jesmond Library":MAILTO:events@jesmondlibrary.org
GEO:54.9932456;-1.606461
X-APPLE-STRUCTURED-LOCATION;VALUE=URI;X-ADDRESS=Catherine Cookson Room Jesmond Library Newcastle upon Tyne NE2 2DL United Kingdom;X-APPLE-RADIUS=500;X-TITLE=Jesmond Library:geo:-1.606461,54.9932456
END:VEVENT
BEGIN:VEVENT
DTSTART;TZID=Europe/London:20241017T121500
DTEND;TZID=Europe/London:20241017T141500
DTSTAMP:20260421T100054
CREATED:20240723T141318Z
LAST-MODIFIED:20240928T092523Z
UID:10054688-1729167300-1729174500@jesmondlibrary.org
SUMMARY:*CANCELLED* Italian for Total Beginners
DESCRIPTION:
URL:https://jesmondlibrary.org/event/italian-for-total-beginners-3/2024-10-17/
ATTACH;FMTTYPE=image/jpeg:https://jesmondlibrary.org/wp-content/uploads/2024/07/Flyer-IT-Thursdays.jpg
END:VEVENT
BEGIN:VEVENT
DTSTART;TZID=Europe/London:20241017T174500
DTEND;TZID=Europe/London:20241017T193000
DTSTAMP:20260421T100054
CREATED:20240719T134148Z
LAST-MODIFIED:20240923T141025Z
UID:10054694-1729187100-1729193400@jesmondlibrary.org
SUMMARY:* CANCELLED * Polish for Total Beginners
DESCRIPTION:
URL:https://jesmondlibrary.org/event/polish-for-total-beginners-tbc/2024-10-17/
ATTACH;FMTTYPE=image/jpeg:https://jesmondlibrary.org/wp-content/uploads/2024/07/Flyer-PL-Thursdays-1.jpg
END:VEVENT
BEGIN:VEVENT
DTSTART;TZID=Europe/London:20241017T180000
DTEND;TZID=Europe/London:20241017T190000
DTSTAMP:20260421T100054
CREATED:20240817T101435Z
LAST-MODIFIED:20240923T175309Z
UID:10054660-1729188000-1729191600@jesmondlibrary.org
SUMMARY:Thursday Talk:  Jane Austen with Janice Spence
DESCRIPTION:
URL:https://jesmondlibrary.org/event/thursday-talk-5/
LOCATION:Main Room
ATTACH;FMTTYPE=image/jpeg:https://jesmondlibrary.org/wp-content/uploads/2024/08/Janice-Spencer.jpg
ORGANIZER;CN="Jesmond Library":MAILTO:events@jesmondlibrary.org
END:VEVENT
BEGIN:VEVENT
DTSTART;TZID=Europe/London:20241017T180000
DTEND;TZID=Europe/London:20241017T193000
DTSTAMP:20260421T100054
CREATED:20231118T115102Z
LAST-MODIFIED:20231229T120934Z
UID:10050242-1729188000-1729193400@jesmondlibrary.org
SUMMARY:Spanish Conversation
DESCRIPTION:
URL:https://jesmondlibrary.org/event/spanish-conversation-9/2024-10-17/
LOCATION:Sid Chaplin room
ATTACH;FMTTYPE=image/jpeg:https://jesmondlibrary.org/wp-content/uploads/2022/05/SPANISH.jpg
ORGANIZER;CN="Jesmond Library":MAILTO:events@jesmondlibrary.org
END:VEVENT
END:VCALENDAR