BEGIN:VCALENDAR
VERSION:2.0
PRODID:-//Jesmond Library - ECPv6.15.17.1//NONSGML v1.0//EN
CALSCALE:GREGORIAN
METHOD:PUBLISH
X-ORIGINAL-URL:https://jesmondlibrary.org
X-WR-CALDESC:Events for Jesmond Library
REFRESH-INTERVAL;VALUE=DURATION:PT1H
X-Robots-Tag:noindex
X-PUBLISHED-TTL:PT1H
BEGIN:VTIMEZONE
TZID:Europe/London
BEGIN:DAYLIGHT
TZOFFSETFROM:+0000
TZOFFSETTO:+0100
TZNAME:BST
DTSTART:20230326T010000
END:DAYLIGHT
BEGIN:STANDARD
TZOFFSETFROM:+0100
TZOFFSETTO:+0000
TZNAME:GMT
DTSTART:20231029T010000
END:STANDARD
BEGIN:DAYLIGHT
TZOFFSETFROM:+0000
TZOFFSETTO:+0100
TZNAME:BST
DTSTART:20240331T010000
END:DAYLIGHT
BEGIN:STANDARD
TZOFFSETFROM:+0100
TZOFFSETTO:+0000
TZNAME:GMT
DTSTART:20241027T010000
END:STANDARD
BEGIN:DAYLIGHT
TZOFFSETFROM:+0000
TZOFFSETTO:+0100
TZNAME:BST
DTSTART:20250330T010000
END:DAYLIGHT
BEGIN:STANDARD
TZOFFSETFROM:+0100
TZOFFSETTO:+0000
TZNAME:GMT
DTSTART:20251026T010000
END:STANDARD
END:VTIMEZONE
BEGIN:VEVENT
DTSTART;TZID=Europe/London:20241005T093000
DTEND;TZID=Europe/London:20241005T163000
DTSTAMP:20260425T123240
CREATED:20231205T112847Z
LAST-MODIFIED:20240103T135812Z
UID:10053103-1728120600-1728145800@jesmondlibrary.org
SUMMARY:LIBRARY OPEN SATURDAYS
DESCRIPTION:
URL:https://jesmondlibrary.org/event/library-open-saturdays-2024/2024-10-05/
LOCATION:Main Room
ORGANIZER;CN="Jesmond Library":MAILTO:events@jesmondlibrary.org
END:VEVENT
BEGIN:VEVENT
DTSTART;TZID=Europe/London:20241005T100000
DTEND;TZID=Europe/London:20241005T120000
DTSTAMP:20260425T123240
CREATED:20240709T095702Z
LAST-MODIFIED:20240823T090538Z
UID:10054214-1728122400-1728129600@jesmondlibrary.org
SUMMARY:Creative Writing Sessions with Amanda Quinn: My Life in Five
DESCRIPTION:
URL:https://jesmondlibrary.org/event/creative-writing-sessions-with-amanda-quinn-7/
LOCATION:Catherine Cookson Room
ATTACH;FMTTYPE=image/jpeg:https://jesmondlibrary.org/wp-content/uploads/2024/05/Autumn-Creative-Writing-Wkshops-jpeg-poster-1.jpg
ORGANIZER;CN="Jesmond Library":MAILTO:events@jesmondlibrary.org
END:VEVENT
BEGIN:VEVENT
DTSTART;TZID=Europe/London:20241005T100000
DTEND;TZID=Europe/London:20241005T120000
DTSTAMP:20260425T123240
CREATED:20240909T111558Z
LAST-MODIFIED:20240909T111558Z
UID:10054777-1728122400-1728129600@jesmondlibrary.org
SUMMARY:Trustee Meeting *UPSTAIRS*
DESCRIPTION:
URL:https://jesmondlibrary.org/event/trustee-meeting-upstairs-2/
LOCATION:Sid Chaplin room
ORGANIZER;CN="Jesmond Library":MAILTO:events@jesmondlibrary.org
END:VEVENT
BEGIN:VEVENT
DTSTART;TZID=Europe/London:20241005T133000
DTEND;TZID=Europe/London:20241005T163000
DTSTAMP:20260425T123240
CREATED:20240622T121025Z
LAST-MODIFIED:20241129T143207Z
UID:10054797-1728135000-1728145800@jesmondlibrary.org
SUMMARY:Italian Language Course for Children
DESCRIPTION:
URL:https://jesmondlibrary.org/event/italian-language-course-for-children-3/2024-10-05/
LOCATION:Sid Chaplin room
END:VEVENT
END:VCALENDAR